| Back to Multiple platform build/check report for BioC 3.11 |
|
This page was generated on 2020-10-17 11:57:13 -0400 (Sat, 17 Oct 2020).
| TO THE DEVELOPERS/MAINTAINERS OF THE MSstatsQC PACKAGE: Please make sure to use the following settings in order to reproduce any error or warning you see on this page. |
| Package 1145/1905 | Hostname | OS / Arch | INSTALL | BUILD | CHECK | BUILD BIN | ||||||
| MSstatsQC 2.6.0 Eralp Dogu
| malbec2 | Linux (Ubuntu 18.04.4 LTS) / x86_64 | OK | OK | OK | |||||||
| tokay2 | Windows Server 2012 R2 Standard / x64 | OK | OK | OK | [ OK ] | |||||||
| machv2 | macOS 10.14.6 Mojave / x86_64 | OK | OK | OK | OK |
| Package: MSstatsQC |
| Version: 2.6.0 |
| Command: rm -rf MSstatsQC.buildbin-libdir && mkdir MSstatsQC.buildbin-libdir && C:\Users\biocbuild\bbs-3.11-bioc\R\bin\R.exe CMD INSTALL --merge-multiarch --build --library=MSstatsQC.buildbin-libdir MSstatsQC_2.6.0.tar.gz |
| StartedAt: 2020-10-17 11:05:57 -0400 (Sat, 17 Oct 2020) |
| EndedAt: 2020-10-17 11:06:29 -0400 (Sat, 17 Oct 2020) |
| EllapsedTime: 32.2 seconds |
| RetCode: 0 |
| Status: OK |
| PackageFile: MSstatsQC_2.6.0.zip |
| PackageFileSize: 1.376 MiB |
##############################################################################
##############################################################################
###
### Running command:
###
### rm -rf MSstatsQC.buildbin-libdir && mkdir MSstatsQC.buildbin-libdir && C:\Users\biocbuild\bbs-3.11-bioc\R\bin\R.exe CMD INSTALL --merge-multiarch --build --library=MSstatsQC.buildbin-libdir MSstatsQC_2.6.0.tar.gz
###
##############################################################################
##############################################################################
install for i386
* installing *source* package 'MSstatsQC' ...
** using staged installation
** R
** data
*** moving datasets to lazyload DB
** inst
** byte-compile and prepare package for lazy loading
** help
*** installing help indices
converting help for package 'MSstatsQC'
finding HTML links ... done
CUSUMChart html
ChangePointEstimator html
DataProcess html
DecisionMap html
MSnbaseToMSstatsQC html
MissingDataMap html
QCloudDDA html
QCloudSRM html
QuiCDIA html
RadarPlot html
RemoveMissing html
RiverPlot html
S9Site54 html
XmRChart html
** building package indices
** installing vignettes
** testing if installed package can be loaded from temporary location
** testing if installed package can be loaded from final location
** testing if installed package keeps a record of temporary installation path
install for x64
* installing *source* package 'MSstatsQC' ...
** testing if installed package can be loaded
* MD5 sums
packaged installation of 'MSstatsQC' as MSstatsQC_2.6.0.zip
* DONE (MSstatsQC)