| Back to Multiple platform build/check report for BioC 3.11 |
|
This page was generated on 2020-10-17 11:57:13 -0400 (Sat, 17 Oct 2020).
| TO THE DEVELOPERS/MAINTAINERS OF THE MSstats PACKAGE: Please make sure to use the following settings in order to reproduce any error or warning you see on this page. |
| Package 1144/1905 | Hostname | OS / Arch | INSTALL | BUILD | CHECK | BUILD BIN | ||||||
| MSstats 3.20.3 Meena Choi
| malbec2 | Linux (Ubuntu 18.04.4 LTS) / x86_64 | OK | OK | OK | |||||||
| tokay2 | Windows Server 2012 R2 Standard / x64 | OK | OK | OK | [ OK ] | |||||||
| machv2 | macOS 10.14.6 Mojave / x86_64 | OK | OK | OK | OK |
| Package: MSstats |
| Version: 3.20.3 |
| Command: rm -rf MSstats.buildbin-libdir && mkdir MSstats.buildbin-libdir && C:\Users\biocbuild\bbs-3.11-bioc\R\bin\R.exe CMD INSTALL --merge-multiarch --build --library=MSstats.buildbin-libdir MSstats_3.20.3.tar.gz |
| StartedAt: 2020-10-17 11:05:53 -0400 (Sat, 17 Oct 2020) |
| EndedAt: 2020-10-17 11:06:25 -0400 (Sat, 17 Oct 2020) |
| EllapsedTime: 32.4 seconds |
| RetCode: 0 |
| Status: OK |
| PackageFile: MSstats_3.20.3.zip |
| PackageFileSize: 699.9 KiB |
##############################################################################
##############################################################################
###
### Running command:
###
### rm -rf MSstats.buildbin-libdir && mkdir MSstats.buildbin-libdir && C:\Users\biocbuild\bbs-3.11-bioc\R\bin\R.exe CMD INSTALL --merge-multiarch --build --library=MSstats.buildbin-libdir MSstats_3.20.3.tar.gz
###
##############################################################################
##############################################################################
install for i386
* installing *source* package 'MSstats' ...
** using staged installation
** R
** data
*** moving datasets to lazyload DB
** inst
** byte-compile and prepare package for lazy loading
** help
*** installing help indices
converting help for package 'MSstats'
finding HTML links ... done
DDARawData html
DDARawData.Skyline html
DIARawData html
DIAUmpiretoMSstatsFormat html
MSstats-package html
MaxQtoMSstatsFormat html
OpenMStoMSstatsFormat html
OpenSWATHtoMSstatsFormat html
PDtoMSstatsFormat html
ProgenesistoMSstatsFormat html
SRMRawData html
SkylinetoMSstatsFormat html
SpectronauttoMSstatsFormat html
SpikeInDataLinear html
SpikeInDataNonLinear html
dataProcess html
dataProcessPlots html
designSampleSize html
designSampleSizePlots html
groupComparison html
groupComparisonPlots html
linear_quantlim html
modelBasedQCPlots html
nonlinear_quantlim html
plot_quantlim html
quantification html
** building package indices
** installing vignettes
** testing if installed package can be loaded from temporary location
** testing if installed package can be loaded from final location
** testing if installed package keeps a record of temporary installation path
install for x64
* installing *source* package 'MSstats' ...
** testing if installed package can be loaded
* MD5 sums
packaged installation of 'MSstats' as MSstats_3.20.3.zip
* DONE (MSstats)