| Back to Multiple platform build/check report for BioC 3.11 |
|
This page was generated on 2020-10-17 11:59:01 -0400 (Sat, 17 Oct 2020).
| TO THE DEVELOPERS/MAINTAINERS OF THE MSnbase PACKAGE: Please make sure to use the following settings in order to reproduce any error or warning you see on this page. |
| Package 1141/1905 | Hostname | OS / Arch | INSTALL | BUILD | CHECK | BUILD BIN | ||||||
| MSnbase 2.14.2 Laurent Gatto
| malbec2 | Linux (Ubuntu 18.04.4 LTS) / x86_64 | OK | OK | OK | |||||||
| tokay2 | Windows Server 2012 R2 Standard / x64 | OK | OK | TIMEOUT | OK | |||||||
| machv2 | macOS 10.14.6 Mojave / x86_64 | OK | OK | [ OK ] | OK |
| Package: MSnbase |
| Version: 2.14.2 |
| Command: /Library/Frameworks/R.framework/Versions/Current/Resources/bin/R CMD check --install=check:MSnbase.install-out.txt --library=/Library/Frameworks/R.framework/Versions/Current/Resources/library --no-vignettes --timings MSnbase_2.14.2.tar.gz |
| StartedAt: 2020-10-17 03:18:08 -0400 (Sat, 17 Oct 2020) |
| EndedAt: 2020-10-17 03:38:27 -0400 (Sat, 17 Oct 2020) |
| EllapsedTime: 1219.0 seconds |
| RetCode: 0 |
| Status: OK |
| CheckDir: MSnbase.Rcheck |
| Warnings: 0 |
##############################################################################
##############################################################################
###
### Running command:
###
### /Library/Frameworks/R.framework/Versions/Current/Resources/bin/R CMD check --install=check:MSnbase.install-out.txt --library=/Library/Frameworks/R.framework/Versions/Current/Resources/library --no-vignettes --timings MSnbase_2.14.2.tar.gz
###
##############################################################################
##############################################################################
* using log directory ‘/Users/biocbuild/bbs-3.11-bioc/meat/MSnbase.Rcheck’
* using R version 4.0.3 (2020-10-10)
* using platform: x86_64-apple-darwin17.0 (64-bit)
* using session charset: UTF-8
* using option ‘--no-vignettes’
* checking for file ‘MSnbase/DESCRIPTION’ ... OK
* this is package ‘MSnbase’ version ‘2.14.2’
* package encoding: UTF-8
* checking package namespace information ... OK
* checking package dependencies ... OK
* checking if this is a source package ... OK
* checking if there is a namespace ... OK
* checking for hidden files and directories ... OK
* checking for portable file names ... OK
* checking for sufficient/correct file permissions ... OK
* checking whether package ‘MSnbase’ can be installed ... OK
* checking installed package size ... NOTE
installed size is 5.4Mb
sub-directories of 1Mb or more:
R 2.0Mb
data 1.9Mb
* checking package directory ... OK
* checking ‘build’ directory ... OK
* checking DESCRIPTION meta-information ... NOTE
Authors@R field gives more than one person with maintainer role:
Laurent Gatto <laurent.gatto@uclouvain.be> [aut, cre] (<https://orcid.org/0000-0002-1520-2268>)
Johannes Rainer <Johannes.Rainer@eurac.edu> [aut, cre] (<https://orcid.org/0000-0002-6977-7147>)
Sebastian Gibb <mail@sebastiangibb.de> [aut, cre]
* checking top-level files ... OK
* checking for left-over files ... OK
* checking index information ... OK
* checking package subdirectories ... OK
* checking R files for non-ASCII characters ... OK
* checking R files for syntax errors ... OK
* checking whether the package can be loaded ... OK
* checking whether the package can be loaded with stated dependencies ... OK
* checking whether the package can be unloaded cleanly ... OK
* checking whether the namespace can be loaded with stated dependencies ... OK
* checking whether the namespace can be unloaded cleanly ... OK
* checking dependencies in R code ... NOTE
':::' call which should be '::': ‘S4Vectors:::makePrettyMatrixForCompactPrinting’
See the note in ?`:::` about the use of this operator.
Unexported objects imported by ':::' calls:
‘Biobase:::.showAnnotatedDataFrame’ ‘MALDIquant:::.estimateNoise’
‘MALDIquant:::.localMaxima’ ‘MALDIquant:::.movingAverage’
‘MALDIquant:::.savitzkyGolay’
‘S4Vectors:::makeClassinfoRowForCompactPrinting’
‘mzR:::.hasChromatograms’ ‘mzR:::.hasSpectra’
See the note in ?`:::` about the use of this operator.
* checking S3 generic/method consistency ... OK
* checking replacement functions ... OK
* checking foreign function calls ... OK
* checking R code for possible problems ... OK
* checking Rd files ... OK
* checking Rd metadata ... OK
* checking Rd cross-references ... OK
* checking for missing documentation entries ... OK
* checking for code/documentation mismatches ... OK
* checking Rd \usage sections ... OK
* checking Rd contents ... OK
* checking for unstated dependencies in examples ... OK
* checking contents of ‘data’ directory ... OK
* checking data for non-ASCII characters ... OK
* checking data for ASCII and uncompressed saves ... OK
* checking line endings in C/C++/Fortran sources/headers ... OK
* checking compiled code ... NOTE
Note: information on .o files is not available
* checking files in ‘vignettes’ ... OK
* checking examples ... OK
Examples with CPU (user + system) or elapsed time > 5s
user system elapsed
estimateMzScattering 25.050 0.667 26.014
chromatogram-MSnExp-method 14.250 1.169 15.196
MSnSet-class 11.078 0.334 11.426
OnDiskMSnExp-class 10.680 0.240 10.935
aggvar 8.880 0.065 8.990
averageMSnSet 7.329 0.180 10.340
quantify-methods 5.019 1.567 3.527
estimateMzResolution 6.044 0.506 6.550
combineSpectra 5.515 0.285 5.816
MzTab-class 0.773 0.050 6.061
* checking for unstated dependencies in ‘tests’ ... OK
* checking tests ...
Running ‘testthat.R’
OK
* checking for unstated dependencies in vignettes ... OK
* checking package vignettes in ‘inst/doc’ ... OK
* checking running R code from vignettes ... SKIPPED
* checking re-building of vignette outputs ... SKIPPED
* checking PDF version of manual ... OK
* DONE
Status: 4 NOTEs
See
‘/Users/biocbuild/bbs-3.11-bioc/meat/MSnbase.Rcheck/00check.log’
for details.
MSnbase.Rcheck/00install.out
##############################################################################
##############################################################################
###
### Running command:
###
### /Library/Frameworks/R.framework/Versions/Current/Resources/bin/R CMD INSTALL MSnbase
###
##############################################################################
##############################################################################
* installing to library ‘/Library/Frameworks/R.framework/Versions/4.0/Resources/library’
* installing *source* package ‘MSnbase’ ...
** using staged installation
** libs
clang++ -mmacosx-version-min=10.13 -std=gnu++11 -I"/Library/Frameworks/R.framework/Resources/include" -DNDEBUG -I'/Library/Frameworks/R.framework/Versions/4.0/Resources/library/Rcpp/include' -I/usr/local/include -fPIC -Wall -g -O2 -c RcppExports.cpp -o RcppExports.o
clang -mmacosx-version-min=10.13 -I"/Library/Frameworks/R.framework/Resources/include" -DNDEBUG -I'/Library/Frameworks/R.framework/Versions/4.0/Resources/library/Rcpp/include' -I/usr/local/include -fPIC -Wall -g -O2 -c Spectrum1_class.c -o Spectrum1_class.o
Spectrum1_class.c:8:13: warning: unused function '_new_Spectrum1' [-Wunused-function]
static SEXP _new_Spectrum1(SEXP msLevel, SEXP peaksCount, SEXP rt,
^
1 warning generated.
clang -mmacosx-version-min=10.13 -I"/Library/Frameworks/R.framework/Resources/include" -DNDEBUG -I'/Library/Frameworks/R.framework/Versions/4.0/Resources/library/Rcpp/include' -I/usr/local/include -fPIC -Wall -g -O2 -c Spectrum2_class.c -o Spectrum2_class.o
Spectrum2_class.c:9:13: warning: unused function '_new_Spectrum2' [-Wunused-function]
static SEXP _new_Spectrum2(SEXP msLevel, SEXP peaksCount, SEXP rt,
^
1 warning generated.
clang++ -mmacosx-version-min=10.13 -std=gnu++11 -I"/Library/Frameworks/R.framework/Resources/include" -DNDEBUG -I'/Library/Frameworks/R.framework/Versions/4.0/Resources/library/Rcpp/include' -I/usr/local/include -fPIC -Wall -g -O2 -c imp_neighbour_avg.cpp -o imp_neighbour_avg.o
clang -mmacosx-version-min=10.13 -I"/Library/Frameworks/R.framework/Resources/include" -DNDEBUG -I'/Library/Frameworks/R.framework/Versions/4.0/Resources/library/Rcpp/include' -I/usr/local/include -fPIC -Wall -g -O2 -c utils.c -o utils.o
utils.c:92:15: warning: unused variable 'ret' [-Wunused-variable]
int i1, i2, ret;
^
utils.c:107:15: warning: unused variable 'ret' [-Wunused-variable]
int i1, i2, ret;
^
utils.c:123:18: warning: unused variable 'ret' [-Wunused-variable]
double d1, d2, ret;
^
utils.c:133:18: warning: unused variable 'ret' [-Wunused-variable]
double d1, d2, ret;
^
utils.c:121:12: warning: unused function 'compar_double_asc_order' [-Wunused-function]
static int compar_double_asc_order(const void *p1, const void *p2)
^
utils.c:131:12: warning: unused function 'compar_double_desc_order' [-Wunused-function]
static int compar_double_desc_order(const void *p1, const void *p2)
^
6 warnings generated.
clang++ -mmacosx-version-min=10.13 -std=gnu++11 -dynamiclib -Wl,-headerpad_max_install_names -undefined dynamic_lookup -single_module -multiply_defined suppress -L/Library/Frameworks/R.framework/Resources/lib -L/usr/local/lib -o MSnbase.so RcppExports.o Spectrum1_class.o Spectrum2_class.o imp_neighbour_avg.o utils.o -F/Library/Frameworks/R.framework/.. -framework R -Wl,-framework -Wl,CoreFoundation
installing to /Library/Frameworks/R.framework/Versions/4.0/Resources/library/00LOCK-MSnbase/00new/MSnbase/libs
** R
** data
*** moving datasets to lazyload DB
Creating a new generic function for ‘trimws’ in package ‘MSnbase’
in method for ‘coerce’ with signature ‘"MSnSet","SummarizedExperiment"’: no definition for class “SummarizedExperiment”
in method for ‘coerce’ with signature ‘"SummarizedExperiment","MSnSet"’: no definition for class “SummarizedExperiment”
in method for ‘coerce’ with signature ‘"IBSpectra","MSnSet"’: no definition for class “IBSpectra”
** inst
** byte-compile and prepare package for lazy loading
Creating a new generic function for ‘trimws’ in package ‘MSnbase’
in method for ‘coerce’ with signature ‘"MSnSet","SummarizedExperiment"’: no definition for class “SummarizedExperiment”
in method for ‘coerce’ with signature ‘"SummarizedExperiment","MSnSet"’: no definition for class “SummarizedExperiment”
in method for ‘coerce’ with signature ‘"IBSpectra","MSnSet"’: no definition for class “IBSpectra”
** help
*** installing help indices
** building package indices
** installing vignettes
** testing if installed package can be loaded from temporary location
** checking absolute paths in shared objects and dynamic libraries
** testing if installed package can be loaded from final location
** testing if installed package keeps a record of temporary installation path
* DONE (MSnbase)
MSnbase.Rcheck/tests/testthat.Rout
R version 4.0.3 (2020-10-10) -- "Bunny-Wunnies Freak Out"
Copyright (C) 2020 The R Foundation for Statistical Computing
Platform: x86_64-apple-darwin17.0 (64-bit)
R is free software and comes with ABSOLUTELY NO WARRANTY.
You are welcome to redistribute it under certain conditions.
Type 'license()' or 'licence()' for distribution details.
R is a collaborative project with many contributors.
Type 'contributors()' for more information and
'citation()' on how to cite R or R packages in publications.
Type 'demo()' for some demos, 'help()' for on-line help, or
'help.start()' for an HTML browser interface to help.
Type 'q()' to quit R.
> # setting R_TESTS to empty string because of
> # https://github.com/hadley/testthat/issues/144
> # revert this when that issue in R is fixed.
> Sys.setenv("R_TESTS" = "")
> library("testthat")
> library("MSnbase")
Loading required package: BiocGenerics
Loading required package: parallel
Attaching package: 'BiocGenerics'
The following objects are masked from 'package:parallel':
clusterApply, clusterApplyLB, clusterCall, clusterEvalQ,
clusterExport, clusterMap, parApply, parCapply, parLapply,
parLapplyLB, parRapply, parSapply, parSapplyLB
The following objects are masked from 'package:stats':
IQR, mad, sd, var, xtabs
The following objects are masked from 'package:base':
Filter, Find, Map, Position, Reduce, anyDuplicated, append,
as.data.frame, basename, cbind, colnames, dirname, do.call,
duplicated, eval, evalq, get, grep, grepl, intersect, is.unsorted,
lapply, mapply, match, mget, order, paste, pmax, pmax.int, pmin,
pmin.int, rank, rbind, rownames, sapply, setdiff, sort, table,
tapply, union, unique, unsplit, which, which.max, which.min
Loading required package: Biobase
Welcome to Bioconductor
Vignettes contain introductory material; view with
'browseVignettes()'. To cite Bioconductor, see
'citation("Biobase")', and for packages 'citation("pkgname")'.
Loading required package: mzR
Loading required package: Rcpp
Loading required package: S4Vectors
Loading required package: stats4
Attaching package: 'S4Vectors'
The following object is masked from 'package:base':
expand.grid
Loading required package: ProtGenerics
Attaching package: 'ProtGenerics'
The following object is masked from 'package:stats':
smooth
This is MSnbase version 2.14.2
Visit https://lgatto.github.io/MSnbase/ to get started.
Attaching package: 'MSnbase'
The following object is masked from 'package:base':
trimws
> setMSnbaseVerbose(FALSE)
> ## register(SerialParam()) ## see issue 205
>
> ## Erwinia
> f <- msdata::proteomics(full.names = TRUE,
+ pattern = "TMT_Erwinia_1uLSike_Top10HCD_isol2_45stepped_60min_01.mzML.gz")
> tmt_erwinia_in_mem_ms1 <- readMSData(f, msLevel = 1)
> tmt_erwinia_in_mem_ms2 <- readMSData(f, msLevel = 2)
> tmt_erwinia_on_disk <- readMSData(f, mode = "onDisk")
> tmt_erwinia_on_disk_ms1 <- readMSData(f, msLevel = 1, mode = "onDisk")
> tmt_erwinia_on_disk_ms2 <- readMSData(f, msLevel = 2, mode = "onDisk")
> ## subset by rt
> tmt_im_ms1_sub <- filterRt(tmt_erwinia_in_mem_ms1, c(1200, 1250))
> tmt_im_ms2_sub <- filterRt(tmt_erwinia_in_mem_ms2, c(1200, 1250))
> tmt_od_sub <- filterRt(tmt_erwinia_on_disk, c(1200, 1250))
> tmt_od_ms1_sub <- filterRt(tmt_erwinia_on_disk_ms1, c(1200, 1250))
> tmt_od_ms2_sub <- filterRt(tmt_erwinia_on_disk_ms2, c(1200, 1250))
>
> ## microtofq
> f <- c(system.file("microtofq/MM14.mzML", package = "msdata"),
+ system.file("microtofq/MM8.mzML", package = "msdata"))
> microtofq_in_mem_ms1 <- readMSData(f, msLevel = 1)
> microtofq_on_disk_ms1 <- readMSData(f, msLevel = 1, mode = "onDisk")
> microtofq_on_disk <- readMSData(f, mode = "onDisk")
>
> ## extdata mzML
> f <- dir(system.file(package = "MSnbase", dir = "extdata"),
+ full.name = TRUE, pattern = "mzXML$")
> extdata_mzXML_in_mem_ms2 <- readMSData(f, verbose = FALSE, centroided. = FALSE)
> extdata_mzXML_on_disk <- readMSData(f, centroided. = FALSE, mode = "onDisk")
> extdata_mzXML_on_disk_ms2 <- readMSData(f, msLevel = 2, centroided. = FALSE, mode = "onDisk")
>
> sf <- dir(system.file("sciex", package = "msdata"), full.names = TRUE)
> sciex <- readMSData(sf, mode = "onDisk")
>
> test_check("MSnbase")
Experiment data
Experimenter name: Laurent Gatto
Laboratory: Cambridge Centre for Proteomics (CCP)
Contact information: Laurent Gatto
Contact email: lg390@cam.ac.uk
Title: Example 'MSnExp' data set
URL:
PMIDs:
No abstract available.
Instrument :
Model: test (1)
Manufacturer:
Customisations:
Use 'msInfo(object)' for more MIAPE-MS information.
Experiment data
Experimenter name: Laurent Gatto
Laboratory: Cambridge Centre for Proteomics (CCP)
Contact information: Laurent Gatto
Contact email: lg390@cam.ac.uk
Title: Example 'MSnExp' data set
URL:
PMIDs:
No abstract available.
notes:
Note1:
First note
MIAPE-MS information:
1. General features:
Date stamp:
Contact: Laurent Gatto
Name: Laurent Gatto
Laboratory: Cambridge Centre for Proteomics (CCP)
Instument model: test
Manufacturer:
Customisations:
Software:
Version:
Switching:
Param file:
2. Ion source
Source:
Source details:
3. Post-source componentry
Analyzer:
Analyzer details:
Collision gas:
Pressure: bars
Energy:
Detector type:
Sensitivity:
Object of class "MSmap"
Map [75, 401]
[1] Retention time: 30:1 - 34:58
[2] M/Z: 521 - 523 (res 0.005)
Object of class "MSmap"
Map [401, 75]
[1] M/Z: 521 - 523 (res 0.005)
[2] Retention time: 30:1 - 34:58
Object of class "MzTab".
Description: mzTab example file for reporting a summary report of
quantification data quantified on the protein level
Mode: Complete
Type: Quantification
Available data: Proteins PSMs
Object of class "MzTab".
Description:
Mode:
Type:
Available data: SmallMolecules
Instance of class 'MSnSetList' containig 3 objects.
MSn experiment data ("OnDiskMSnExp")
Object size in memory: 0.26 Mb
- - - Spectra data - - -
MS level(s): 1 2
Number of spectra: 509
MSn retention times: 18:28 - 22:3 minutes
- - - Processing information - - -
Data loaded [Sat Oct 17 03:25:06 2020]
MSnbase version: 2.14.2
- - - Meta data - - -
phenoData
rowNames:
TMT_Erwinia_1uLSike_Top10HCD_isol2_45stepped_60min_01.mzML.gz
varLabels: sampleNames
varMetadata: labelDescription
Loaded from:
TMT_Erwinia_1uLSike_Top10HCD_isol2_45stepped_60min_01.mzML.gz
protocolData: none
featureData
featureNames: F1.S001 F1.S002 ... F1.S509 (509 total)
fvarLabels: fileIdx spIdx ... spectrum (35 total)
fvarMetadata: labelDescription
experimentData: use 'experimentData(object)'
Object of class "ReporterIons"
TMT10HCD: '10-plex TMT HCD' with 10 reporter ions
- [126] 126.1277 +/- 0.002 (#8DD3C7)
- [127N] 127.1248 +/- 0.002 (#FFFFB3)
- [127C] 127.1311 +/- 0.002 (#BEBADA)
- [128N] 128.1281 +/- 0.002 (#FB8072)
- [128C] 128.1344 +/- 0.002 (#80B1D3)
- [129N] 129.1315 +/- 0.002 (#FDB462)
- [129C] 129.1378 +/- 0.002 (#B3DE69)
- [130N] 130.1348 +/- 0.002 (#FCCDE5)
- [130C] 130.1411 +/- 0.002 (#D9D9D9)
- [131] 131.1382 +/- 0.002 (#BC80BD)
Object of class "Spectrum1"
Retention time: 0:0
MSn level: 1
Total ion count: 684
Polarity: 1
MSn experiment data ("MSnExp")
Object size in memory: 0.18 Mb
- - - Spectra data - - -
MS level(s): 2
Number of spectra: 5
MSn retention times: 25:1 - 25:2 minutes
- - - Processing information - - -
Data loaded: Sat Oct 17 03:32:26 2020
MSnbase version: 2.14.2
- - - Meta data - - -
phenoData
rowNames: dummyiTRAQ.mzXML
varLabels: sampleNames
varMetadata: labelDescription
Loaded from:
dummyiTRAQ.mzXML
protocolData: none
featureData
featureNames: F1.S1 F1.S2 ... F1.S5 (5 total)
fvarLabels: spectrum
fvarMetadata: labelDescription
experimentData: use 'experimentData(object)'
MSn experiment data ("MSnExp")
Object size in memory: 0.2 Mb
- - - Spectra data - - -
MS level(s): 2
Number of spectra: 5
MSn retention times: 25:1 - 25:2 minutes
- - - Processing information - - -
Data loaded: Sat Oct 17 03:32:27 2020
MSnbase version: 2.14.2
- - - Meta data - - -
phenoData
rowNames: dummyiTRAQ.mzXML
varLabels: sampleNames
varMetadata: labelDescription
Loaded from:
dummyiTRAQ.mzXML
protocolData: none
featureData
featureNames: F1.S1 F1.S2 ... F1.S5 (5 total)
fvarLabels: spectrum
fvarMetadata: labelDescription
experimentData: use 'experimentData(object)'
Object of class "FeaturesOfInterest"
Created on Sat Oct 17 03:32:59 2020
Description:
small foi
3 features of interest:
P20353, P53501, Q7KU78
Traceable object of class "FeaturesOfInterest"
Created on Sat Oct 17 03:32:59 2020
Description:
my description
10 features of interest:
P20353, P53501 ... Q9VCK0, Q9VIU7
A collection of 1 features of interest.
A collection of 10 features of interest.
Spectra with 3 spectra and 1 metadata column(s):
msLevel rtime peaksCount | id
1 2 NA 3 | 1
2 2 1.23245 4 | 2
3 1 1.23245 5 | 3
Spectra with 3 spectra and 1 metadata column(s):
msLevel rtime peaksCount | id
<integer> <numeric> <integer> | <integer>
1 2 NA 3 | 1
2 2 1.23245 4 | 2
3 1 1.23245 5 | 3
Spectra with 3 spectra and 1 metadata column(s):
msLevel rtime peaksCount | id
<integer> <numeric> <integer> | <integer>
1 2 NA 3 | 1
2 2 1.23245 4 | 2
3 1 1.23245 5 | 3
reading dummyiTRAQ.mzid... DONE!
Iterations of EM:
1...2...3...4...5...6...7...8...9...10...11...
[1] 0.07947339
══ testthat results ═══════════════════════════════════════════════════════════
[ OK: 2261 | SKIPPED: 11 | WARNINGS: 1084 | FAILED: 0 ]
Warning message:
closing unused connection 4 (/tmp/RtmpecGy2i/filef7a44f84e7ab)
>
> proc.time()
user system elapsed
679.482 45.260 805.070
MSnbase.Rcheck/MSnbase-Ex.timings
| name | user | system | elapsed | |
| Chromatogram-class | 0.058 | 0.009 | 0.068 | |
| Chromatograms-class | 0.262 | 0.007 | 0.270 | |
| FeatComp-class | 0.336 | 0.020 | 0.358 | |
| FeaturesOfInterest-class | 0.074 | 0.007 | 0.082 | |
| MSmap-class | 0.001 | 0.001 | 0.002 | |
| MSnExp-class | 0.644 | 0.007 | 0.651 | |
| MSnProcess-class | 0.002 | 0.001 | 0.003 | |
| MSnSet-class | 11.078 | 0.334 | 11.426 | |
| MSnSetList-class | 4.798 | 0.113 | 4.915 | |
| MzTab-class | 0.773 | 0.050 | 6.061 | |
| OnDiskMSnExp-class | 10.680 | 0.240 | 10.935 | |
| ProcessingStep-class | 0.010 | 0.000 | 0.011 | |
| ReporterIons-class | 0.018 | 0.001 | 0.020 | |
| Spectra | 0.125 | 0.009 | 0.134 | |
| TMT6 | 0.011 | 0.003 | 0.014 | |
| addIdentificationData-methods | 0.942 | 0.007 | 0.950 | |
| aggvar | 8.880 | 0.065 | 8.990 | |
| averageMSnSet | 7.329 | 0.180 | 10.340 | |
| bin-methods | 0.508 | 0.008 | 0.516 | |
| calculateFragments-methods | 1.098 | 0.044 | 1.142 | |
| chromatogram-MSnExp-method | 14.250 | 1.169 | 15.196 | |
| clean-methods | 0.239 | 0.034 | 0.273 | |
| combineFeatures | 1.835 | 0.192 | 2.028 | |
| combineSpectra | 5.515 | 0.285 | 5.816 | |
| combineSpectraMovingWindow | 3.167 | 0.062 | 3.275 | |
| commonFeatureNames | 0.454 | 0.007 | 0.462 | |
| compareSpectra-methods | 0.298 | 0.008 | 0.307 | |
| consensusSpectrum | 0.050 | 0.005 | 0.055 | |
| estimateMzResolution | 6.044 | 0.506 | 6.550 | |
| estimateMzScattering | 25.050 | 0.667 | 26.014 | |
| estimateNoise-method | 0.014 | 0.001 | 0.015 | |
| extractPrecSpectra-methods | 1.094 | 0.010 | 1.107 | |
| fData-utils | 0.517 | 0.011 | 0.529 | |
| factorsAsStrings | 0.020 | 0.004 | 0.025 | |
| featureCV | 0.036 | 0.003 | 0.039 | |
| fillUp | 0.006 | 0.002 | 0.008 | |
| formatRt | 0.001 | 0.000 | 0.001 | |
| get.amino.acids | 0.006 | 0.004 | 0.010 | |
| get.atomic.mass | 0.000 | 0.000 | 0.001 | |
| getVariableName | 0.006 | 0.001 | 0.006 | |
| hasSpectraOrChromatograms | 0.411 | 0.011 | 0.424 | |
| iPQF | 0.491 | 0.006 | 0.497 | |
| iTRAQ4 | 0.018 | 0.002 | 0.020 | |
| imageNA2 | 4.535 | 0.122 | 4.664 | |
| impute-methods | 0.874 | 0.028 | 0.903 | |
| isCentroidedFromFile | 2.451 | 0.127 | 2.568 | |
| itraqdata | 0.086 | 0.015 | 0.102 | |
| listOf | 0.003 | 0.001 | 0.004 | |
| makeCamelCase | 0.001 | 0.001 | 0.002 | |
| makeNaData | 1.322 | 0.009 | 1.332 | |
| meanMzInts | 0.048 | 0.002 | 0.049 | |
| missing-data | 4.553 | 0.139 | 4.695 | |
| mzRident2dfr | 0.050 | 0.004 | 0.054 | |
| nFeatures | 0.731 | 0.017 | 0.748 | |
| nQuants | 0.173 | 0.003 | 0.176 | |
| naplot | 0.073 | 0.007 | 0.080 | |
| navMS | 2.337 | 0.070 | 2.431 | |
| normToReference | 0.308 | 0.004 | 0.313 | |
| normalise-methods | 0.026 | 0.004 | 0.030 | |
| npcv | 0.004 | 0.000 | 0.006 | |
| pSet-class | 0.002 | 0.002 | 0.004 | |
| pickPeaks-method | 0.507 | 0.005 | 0.514 | |
| plot-methods | 4.199 | 0.089 | 4.287 | |
| plot2d-methods | 0.719 | 0.005 | 0.725 | |
| plotDensity-methods | 0.802 | 0.004 | 0.807 | |
| plotMzDelta-methods | 1.135 | 0.033 | 1.169 | |
| plotNA-methods | 0.398 | 0.005 | 0.403 | |
| plotSpectrumSpectrum-methods | 1.502 | 0.052 | 1.555 | |
| precSelection | 0.016 | 0.005 | 0.021 | |
| purityCorrect-methods | 0.031 | 0.008 | 0.039 | |
| quantify-methods | 5.019 | 1.567 | 3.527 | |
| readMSData | 1.918 | 0.009 | 1.928 | |
| readMSnSet | 0.118 | 0.006 | 0.125 | |
| readMgfData | 2.387 | 0.091 | 2.480 | |
| readMzIdData | 2.214 | 1.055 | 3.316 | |
| readMzTabData | 1.565 | 0.114 | 2.357 | |
| readMzTabData_v0.9 | 0.310 | 0.020 | 0.833 | |
| readSRMData | 1.749 | 0.031 | 1.782 | |
| reduce-data.frame-method | 0.025 | 0.002 | 0.026 | |
| removeNoId-methods | 1.216 | 0.030 | 1.248 | |
| removePeaks-methods | 1.025 | 0.016 | 1.042 | |
| removeReporters-methods | 0.666 | 0.011 | 0.678 | |
| selectFeatureData | 1.219 | 0.044 | 1.264 | |
| smooth-methods | 0.376 | 0.006 | 0.382 | |
| trimMz-methods | 0.207 | 0.004 | 0.211 | |
| writeMgfData-methods | 2.664 | 0.062 | 2.728 | |