| Back to Multiple platform build/check report for BioC 3.11 |
|
This page was generated on 2020-10-17 11:59:00 -0400 (Sat, 17 Oct 2020).
| TO THE DEVELOPERS/MAINTAINERS OF THE MSGFplus PACKAGE: Please make sure to use the following settings in order to reproduce any error or warning you see on this page. |
| Package 1138/1905 | Hostname | OS / Arch | INSTALL | BUILD | CHECK | BUILD BIN | ||||||
| MSGFplus 1.22.0 Thomas Lin Pedersen
| malbec2 | Linux (Ubuntu 18.04.4 LTS) / x86_64 | OK | OK | WARNINGS | |||||||
| tokay2 | Windows Server 2012 R2 Standard / x64 | OK | OK | WARNINGS | OK | |||||||
| machv2 | macOS 10.14.6 Mojave / x86_64 | ERROR | [ ERROR ] | skipped | skipped |
| Package: MSGFplus |
| Version: 1.22.0 |
| Command: /Library/Frameworks/R.framework/Versions/Current/Resources/bin/R CMD build --keep-empty-dirs --no-resave-data MSGFplus |
| StartedAt: 2020-10-16 20:07:23 -0400 (Fri, 16 Oct 2020) |
| EndedAt: 2020-10-16 20:07:31 -0400 (Fri, 16 Oct 2020) |
| EllapsedTime: 7.9 seconds |
| RetCode: 1 |
| Status: ERROR |
| PackageFile: None |
| PackageFileSize: NA |
##############################################################################
##############################################################################
###
### Running command:
###
### /Library/Frameworks/R.framework/Versions/Current/Resources/bin/R CMD build --keep-empty-dirs --no-resave-data MSGFplus
###
##############################################################################
##############################################################################
* checking for file ‘MSGFplus/DESCRIPTION’ ... OK
* preparing ‘MSGFplus’:
* checking DESCRIPTION meta-information ... OK
* installing the package to build vignettes
-----------------------------------
* installing *source* package ‘MSGFplus’ ...
** using staged installation
** R
** inst
** byte-compile and prepare package for lazy loading
** help
*** installing help indices
** building package indices
** installing vignettes
** testing if installed package can be loaded from temporary location
Warning in fun(libname, pkgname) : NAs introduced by coercion
Warning in fun(libname, pkgname) : NAs introduced by coercion
Error: package or namespace load failed for ‘MSGFplus’:
.onLoad failed in loadNamespace() for 'MSGFplus', details:
call: if ((major == 1 && minor < 8) || major < 1) {
error: missing value where TRUE/FALSE needed
Error: loading failed
Execution halted
ERROR: loading failed
* removing ‘/private/tmp/RtmpZZpyQK/Rinstda89647a3356/MSGFplus’
-----------------------------------
ERROR: package installation failed