| Back to Multiple platform build/check report for BioC 3.11 |
|
This page was generated on 2020-10-17 11:57:11 -0400 (Sat, 17 Oct 2020).
| TO THE DEVELOPERS/MAINTAINERS OF THE MOMA PACKAGE: Please make sure to use the following settings in order to reproduce any error or warning you see on this page. |
| Package 1118/1905 | Hostname | OS / Arch | INSTALL | BUILD | CHECK | BUILD BIN | ||||||
| MOMA 1.0.2 Sunny Jones
| malbec2 | Linux (Ubuntu 18.04.4 LTS) / x86_64 | OK | OK | OK | |||||||
| tokay2 | Windows Server 2012 R2 Standard / x64 | OK | OK | OK | [ OK ] | |||||||
| machv2 | macOS 10.14.6 Mojave / x86_64 | OK | OK | OK | OK |
| Package: MOMA |
| Version: 1.0.2 |
| Command: rm -rf MOMA.buildbin-libdir && mkdir MOMA.buildbin-libdir && C:\Users\biocbuild\bbs-3.11-bioc\R\bin\R.exe CMD INSTALL --merge-multiarch --build --library=MOMA.buildbin-libdir MOMA_1.0.2.tar.gz |
| StartedAt: 2020-10-17 11:04:16 -0400 (Sat, 17 Oct 2020) |
| EndedAt: 2020-10-17 11:05:07 -0400 (Sat, 17 Oct 2020) |
| EllapsedTime: 51.6 seconds |
| RetCode: 0 |
| Status: OK |
| PackageFile: MOMA_1.0.2.zip |
| PackageFileSize: 5.284 MiB |
##############################################################################
##############################################################################
###
### Running command:
###
### rm -rf MOMA.buildbin-libdir && mkdir MOMA.buildbin-libdir && C:\Users\biocbuild\bbs-3.11-bioc\R\bin\R.exe CMD INSTALL --merge-multiarch --build --library=MOMA.buildbin-libdir MOMA_1.0.2.tar.gz
###
##############################################################################
##############################################################################
install for i386
* installing *source* package 'MOMA' ...
** using staged installation
** R
** data
*** moving datasets to lazyload DB
** inst
** byte-compile and prepare package for lazy loading
** help
*** installing help indices
converting help for package 'MOMA'
finding HTML links ... done
Moma-class html
areaEnrich html
associateEvents html
checkGeneMap html
checkList html
checkMAE html
checkPathways html
clusterRange html
clusterReliability html
cnvScoreStouffer html
conditionalModel html
conditionalP html
empiricalP html
example.gbm.mae html
fitCurvePercent html
gbm.pathways html
gene.map html
genomicPlotSmall html
getCoverage html
getDataFrame html
getDiggitEmpiricalQvalues html
getEmpiricalQvals html
getPvalsMatrix html
getSubtypeEventTables html
integrateFunction html
integrateTZ html
makeCoverageDf html
makeSaturationPlots html
mapEntrez html
mapHugo html
mapScoresCnvBand html
mergeData html
mergeDataBySubtype html
mergeGenomicSaturation html
mergeLists html
momaConstructor html
mutSig html
oncoprintPlot html
pathwayDiggitIntersect html
plotEvents html
rea html
reaNULL html
sREA html
sampleNameFilter html
sampleOverlap html
sigInteractorsDIGGIT html
stoufferIntegrate html
stoufferIntegrateDiggit html
subsetListInteractions html
validDiggitInteractions html
viperGetSigTFS html
viperGetTFScores html
** building package indices
** installing vignettes
** testing if installed package can be loaded from temporary location
** testing if installed package can be loaded from final location
** testing if installed package keeps a record of temporary installation path
install for x64
* installing *source* package 'MOMA' ...
** testing if installed package can be loaded
* MD5 sums
packaged installation of 'MOMA' as MOMA_1.0.2.zip
* DONE (MOMA)