| Back to Multiple platform build/check report for BioC 3.11 |
|
This page was generated on 2020-10-17 11:57:10 -0400 (Sat, 17 Oct 2020).
| TO THE DEVELOPERS/MAINTAINERS OF THE MLSeq PACKAGE: Please make sure to use the following settings in order to reproduce any error or warning you see on this page. |
| Package 1108/1905 | Hostname | OS / Arch | INSTALL | BUILD | CHECK | BUILD BIN | ||||||
| MLSeq 2.6.0 Gokmen Zararsiz
| malbec2 | Linux (Ubuntu 18.04.4 LTS) / x86_64 | OK | OK | OK | |||||||
| tokay2 | Windows Server 2012 R2 Standard / x64 | [ OK ] | OK | OK | OK | |||||||
| machv2 | macOS 10.14.6 Mojave / x86_64 | OK | OK | OK | OK |
| Package: MLSeq |
| Version: 2.6.0 |
| Command: C:\cygwin\bin\curl.exe -O https://malbec2.bioconductor.org/BBS/3.11/bioc/src/contrib/MLSeq_2.6.0.tar.gz && rm -rf MLSeq.buildbin-libdir && mkdir MLSeq.buildbin-libdir && C:\Users\biocbuild\bbs-3.11-bioc\R\bin\R.exe CMD INSTALL --merge-multiarch --build --library=MLSeq.buildbin-libdir MLSeq_2.6.0.tar.gz && C:\Users\biocbuild\bbs-3.11-bioc\R\bin\R.exe CMD INSTALL MLSeq_2.6.0.zip && rm MLSeq_2.6.0.tar.gz MLSeq_2.6.0.zip |
| StartedAt: 2020-10-16 18:28:18 -0400 (Fri, 16 Oct 2020) |
| EndedAt: 2020-10-16 18:29:13 -0400 (Fri, 16 Oct 2020) |
| EllapsedTime: 54.8 seconds |
| RetCode: 0 |
| Status: OK |
##############################################################################
##############################################################################
###
### Running command:
###
### C:\cygwin\bin\curl.exe -O https://malbec2.bioconductor.org/BBS/3.11/bioc/src/contrib/MLSeq_2.6.0.tar.gz && rm -rf MLSeq.buildbin-libdir && mkdir MLSeq.buildbin-libdir && C:\Users\biocbuild\bbs-3.11-bioc\R\bin\R.exe CMD INSTALL --merge-multiarch --build --library=MLSeq.buildbin-libdir MLSeq_2.6.0.tar.gz && C:\Users\biocbuild\bbs-3.11-bioc\R\bin\R.exe CMD INSTALL MLSeq_2.6.0.zip && rm MLSeq_2.6.0.tar.gz MLSeq_2.6.0.zip
###
##############################################################################
##############################################################################
% Total % Received % Xferd Average Speed Time Time Time Current
Dload Upload Total Spent Left Speed
0 0 0 0 0 0 0 0 --:--:-- --:--:-- --:--:-- 0
100 154k 100 154k 0 0 1498k 0 --:--:-- --:--:-- --:--:-- 1614k
install for i386
* installing *source* package 'MLSeq' ...
** using staged installation
** R
** data
** inst
** byte-compile and prepare package for lazy loading
** help
*** installing help indices
converting help for package 'MLSeq'
finding HTML links ... done
Available-classifiers html
MLSeq-class html
MLSeq-package html
MLSeqMetaData-class html
MLSeqModelInfo-class html
cervical html
classify html
confusionMat html
control html
discrete.train-class html
discreteControl html
input html
isUpdated html
metaData html
method html
modelInfo html
normalization html
plot html
preProcessing html
predict html
print html
ref html
selectedGenes html
show html
trainParameters html
trained html
transformation html
update html
voom.train-class html
voomControl html
** building package indices
** installing vignettes
** testing if installed package can be loaded from temporary location
** testing if installed package can be loaded from final location
** testing if installed package keeps a record of temporary installation path
install for x64
* installing *source* package 'MLSeq' ...
** testing if installed package can be loaded
* MD5 sums
packaged installation of 'MLSeq' as MLSeq_2.6.0.zip
* DONE (MLSeq)
* installing to library 'C:/Users/biocbuild/bbs-3.11-bioc/R/library'
package 'MLSeq' successfully unpacked and MD5 sums checked