| Back to Multiple platform build/check report for BioC 3.11 |
|
This page was generated on 2020-10-17 11:57:05 -0400 (Sat, 17 Oct 2020).
| TO THE DEVELOPERS/MAINTAINERS OF THE MIGSA PACKAGE: Please make sure to use the following settings in order to reproduce any error or warning you see on this page. |
| Package 1080/1905 | Hostname | OS / Arch | INSTALL | BUILD | CHECK | BUILD BIN | ||||||
| MIGSA 1.12.0 Juan C. Rodriguez
| malbec2 | Linux (Ubuntu 18.04.4 LTS) / x86_64 | OK | OK | OK | |||||||
| tokay2 | Windows Server 2012 R2 Standard / x64 | OK | OK | ERROR | [ OK ] | |||||||
| machv2 | macOS 10.14.6 Mojave / x86_64 | OK | OK | OK | OK |
| Package: MIGSA |
| Version: 1.12.0 |
| Command: rm -rf MIGSA.buildbin-libdir && mkdir MIGSA.buildbin-libdir && C:\Users\biocbuild\bbs-3.11-bioc\R\bin\R.exe CMD INSTALL --merge-multiarch --build --library=MIGSA.buildbin-libdir MIGSA_1.12.0.tar.gz |
| StartedAt: 2020-10-17 11:01:50 -0400 (Sat, 17 Oct 2020) |
| EndedAt: 2020-10-17 11:02:30 -0400 (Sat, 17 Oct 2020) |
| EllapsedTime: 39.7 seconds |
| RetCode: 0 |
| Status: OK |
| PackageFile: MIGSA_1.12.0.zip |
| PackageFileSize: 3.268 MiB |
##############################################################################
##############################################################################
###
### Running command:
###
### rm -rf MIGSA.buildbin-libdir && mkdir MIGSA.buildbin-libdir && C:\Users\biocbuild\bbs-3.11-bioc\R\bin\R.exe CMD INSTALL --merge-multiarch --build --library=MIGSA.buildbin-libdir MIGSA_1.12.0.tar.gz
###
##############################################################################
##############################################################################
install for i386
* installing *source* package 'MIGSA' ...
** using staged installation
** R
** data
** inst
** byte-compile and prepare package for lazy loading
** help
*** installing help indices
converting help for package 'MIGSA'
finding HTML links ... done
ExprData-class html
FitOptions-class html
GSEAparams-class html
Genesets-as.Genesets html
Genesets-enrichr html
Genesets-geneSetsFromFile html
Genesets-loadGo html
IGSAinput-class html
IGSAinput-getDEGenes html
IGSAinput-getterSetters html
MIGSA html
MIGSAPackage html
MIGSAmGSZ html
MIGSAres-GoAnalysis html
MIGSAres-class html
MIGSAres-common html
MIGSAres-genesManipulation html
MIGSAres-getAdditionalInfo html
MIGSAres-plots html
MIGSAres-setEnrCutoff html
SEAparams-class html
bcMigsaRes html
migsaRes html
summaryFunctions html
** building package indices
** installing vignettes
** testing if installed package can be loaded from temporary location
** testing if installed package can be loaded from final location
** testing if installed package keeps a record of temporary installation path
install for x64
* installing *source* package 'MIGSA' ...
** testing if installed package can be loaded
* MD5 sums
packaged installation of 'MIGSA' as MIGSA_1.12.0.zip
* DONE (MIGSA)