| Back to Multiple platform build/check report for BioC 3.11 | 
 | 
This page was generated on 2020-10-17 11:57:01 -0400 (Sat, 17 Oct 2020).
| TO THE DEVELOPERS/MAINTAINERS OF THE MEB PACKAGE: Please make sure to use the following settings in order to reproduce any error or warning you see on this page. | 
| Package 1018/1905 | Hostname | OS / Arch | INSTALL | BUILD | CHECK | BUILD BIN | ||||||
| MEB 1.2.0 Jiadi Zhu 
 | malbec2 | Linux (Ubuntu 18.04.4 LTS) / x86_64 | OK | OK | OK |  | ||||||
| tokay2 | Windows Server 2012 R2 Standard / x64 | OK | OK | OK | [ OK ] |  | ||||||
| machv2 | macOS 10.14.6 Mojave / x86_64 | OK | OK | OK | OK |  | 
| Package: MEB | 
| Version: 1.2.0 | 
| Command: rm -rf MEB.buildbin-libdir && mkdir MEB.buildbin-libdir && C:\Users\biocbuild\bbs-3.11-bioc\R\bin\R.exe CMD INSTALL --merge-multiarch --build --library=MEB.buildbin-libdir MEB_1.2.0.tar.gz | 
| StartedAt: 2020-10-17 10:57:43 -0400 (Sat, 17 Oct 2020) | 
| EndedAt: 2020-10-17 10:58:30 -0400 (Sat, 17 Oct 2020) | 
| EllapsedTime: 47.1 seconds | 
| RetCode: 0 | 
| Status: OK | 
| PackageFile: MEB_1.2.0.zip | 
| PackageFileSize: 1.807 MiB | 
##############################################################################
##############################################################################
###
### Running command:
###
###   rm -rf MEB.buildbin-libdir && mkdir MEB.buildbin-libdir && C:\Users\biocbuild\bbs-3.11-bioc\R\bin\R.exe CMD INSTALL --merge-multiarch --build --library=MEB.buildbin-libdir MEB_1.2.0.tar.gz
###
##############################################################################
##############################################################################
install for i386
* installing *source* package 'MEB' ...
** using staged installation
** R
** data
*** moving datasets to lazyload DB
** inst
** byte-compile and prepare package for lazy loading
** help
*** installing help indices
  converting help for package 'MEB'
    finding HTML links ... done
    NIMEB                                   html  
    real_data_dsp                           html  
    real_data_sp                            html  
    sim_data_dsp                            html  
    sim_data_sp                             html  
** building package indices
** installing vignettes
** testing if installed package can be loaded from temporary location
** testing if installed package can be loaded from final location
** testing if installed package keeps a record of temporary installation path
install for x64
* installing *source* package 'MEB' ...
** testing if installed package can be loaded
* MD5 sums
packaged installation of 'MEB' as MEB_1.2.0.zip
* DONE (MEB)