| Back to Multiple platform build/check report for BioC 3.11 | 
 | 
This page was generated on 2020-10-17 11:57:01 -0400 (Sat, 17 Oct 2020).
| TO THE DEVELOPERS/MAINTAINERS OF THE MEAT PACKAGE: Please make sure to use the following settings in order to reproduce any error or warning you see on this page. | 
| Package 1017/1905 | Hostname | OS / Arch | INSTALL | BUILD | CHECK | BUILD BIN | ||||||
| MEAT 1.0.4 Sarah Voisin 
 | malbec2 | Linux (Ubuntu 18.04.4 LTS) / x86_64 | OK | OK | OK |  | ||||||
| tokay2 | Windows Server 2012 R2 Standard / x64 | OK | OK | OK | [ OK ] |  | ||||||
| machv2 | macOS 10.14.6 Mojave / x86_64 | OK | OK | OK | OK |  | 
| Package: MEAT | 
| Version: 1.0.4 | 
| Command: rm -rf MEAT.buildbin-libdir && mkdir MEAT.buildbin-libdir && C:\Users\biocbuild\bbs-3.11-bioc\R\bin\R.exe CMD INSTALL --merge-multiarch --build --library=MEAT.buildbin-libdir MEAT_1.0.4.tar.gz | 
| StartedAt: 2020-10-17 10:57:39 -0400 (Sat, 17 Oct 2020) | 
| EndedAt: 2020-10-17 10:59:17 -0400 (Sat, 17 Oct 2020) | 
| EllapsedTime: 97.9 seconds | 
| RetCode: 0 | 
| Status: OK | 
| PackageFile: MEAT_1.0.4.zip | 
| PackageFileSize: 5.709 MiB | 
##############################################################################
##############################################################################
###
### Running command:
###
###   rm -rf MEAT.buildbin-libdir && mkdir MEAT.buildbin-libdir && C:\Users\biocbuild\bbs-3.11-bioc\R\bin\R.exe CMD INSTALL --merge-multiarch --build --library=MEAT.buildbin-libdir MEAT_1.0.4.tar.gz
###
##############################################################################
##############################################################################
install for i386
* installing *source* package 'MEAT' ...
** using staged installation
** R
** data
*** moving datasets to lazyload DB
** inst
** byte-compile and prepare package for lazy loading
No methods found in package 'RSQLite' for request: 'dbListFields' when loading 'lumi'
** help
*** installing help indices
  converting help for package 'MEAT'
    finding HTML links ... done
    BMIQcalibration                         html  
    GSE121961                               html  
    GSE121961_pheno                         html  
    MEAT-package                            html  
    clean_beta                              html  
    elasticnet_model_MEAT                   html  
    elasticnet_model_MEAT2.0                html  
    epiage_estimation                       html  
    gold.mean.MEAT                          html  
    gold.mean.MEAT2.0                       html  
** building package indices
** installing vignettes
** testing if installed package can be loaded from temporary location
No methods found in package 'RSQLite' for request: 'dbListFields' when loading 'lumi'
** testing if installed package can be loaded from final location
No methods found in package 'RSQLite' for request: 'dbListFields' when loading 'lumi'
** testing if installed package keeps a record of temporary installation path
install for x64
* installing *source* package 'MEAT' ...
** testing if installed package can be loaded
No methods found in package 'RSQLite' for request: 'dbListFields' when loading 'lumi'
* MD5 sums
packaged installation of 'MEAT' as MEAT_1.0.4.zip
* DONE (MEAT)