| Back to Multiple platform build/check report for BioC 3.11 |
|
This page was generated on 2020-10-17 11:57:01 -0400 (Sat, 17 Oct 2020).
| TO THE DEVELOPERS/MAINTAINERS OF THE MEAL PACKAGE: Please make sure to use the following settings in order to reproduce any error or warning you see on this page. |
| Package 1015/1905 | Hostname | OS / Arch | INSTALL | BUILD | CHECK | BUILD BIN | ||||||
| MEAL 1.18.0 Carlos Ruiz-Arenas
| malbec2 | Linux (Ubuntu 18.04.4 LTS) / x86_64 | OK | OK | WARNINGS | |||||||
| tokay2 | Windows Server 2012 R2 Standard / x64 | OK | OK | WARNINGS | [ OK ] | |||||||
| machv2 | macOS 10.14.6 Mojave / x86_64 | OK | OK | WARNINGS | OK |
| Package: MEAL |
| Version: 1.18.0 |
| Command: rm -rf MEAL.buildbin-libdir && mkdir MEAL.buildbin-libdir && C:\Users\biocbuild\bbs-3.11-bioc\R\bin\R.exe CMD INSTALL --merge-multiarch --build --library=MEAL.buildbin-libdir MEAL_1.18.0.tar.gz |
| StartedAt: 2020-10-17 10:57:31 -0400 (Sat, 17 Oct 2020) |
| EndedAt: 2020-10-17 10:59:05 -0400 (Sat, 17 Oct 2020) |
| EllapsedTime: 93.7 seconds |
| RetCode: 0 |
| Status: OK |
| PackageFile: MEAL_1.18.0.zip |
| PackageFileSize: 1.04 MiB |
##############################################################################
##############################################################################
###
### Running command:
###
### rm -rf MEAL.buildbin-libdir && mkdir MEAL.buildbin-libdir && C:\Users\biocbuild\bbs-3.11-bioc\R\bin\R.exe CMD INSTALL --merge-multiarch --build --library=MEAL.buildbin-libdir MEAL_1.18.0.tar.gz
###
##############################################################################
##############################################################################
install for i386
* installing *source* package 'MEAL' ...
** using staged installation
** R
** inst
** byte-compile and prepare package for lazy loading
** help
*** installing help indices
converting help for package 'MEAL'
finding HTML links ... done
MEAL-defunct html
MEAL html
computeRDAR2 html
correlationMethExprs html
exportResults html
filterResults html
getGeneVals html
getProbeResults html
getRDAresults html
plotFeature html
plotRDA html
plotRegion html
runBlockFinder html
runBumphunter html
runDMRcate html
runDiffMeanAnalysis html
runDiffVarAnalysis html
runPipeline html
runRDA html
Rd warning: C:/Users/biocbuild/bbs-3.11-bioc/tmpdir/RtmpAPnIk0/R.INSTALL314c3f5eb30/MEAL/man/runRDA.Rd:55: file link 'rda' in package 'vegan' does not exist and so has been treated as a topic
runRegionAnalysis html
topRDAhits html
** building package indices
** installing vignettes
** testing if installed package can be loaded from temporary location
** testing if installed package can be loaded from final location
** testing if installed package keeps a record of temporary installation path
install for x64
* installing *source* package 'MEAL' ...
** testing if installed package can be loaded
* MD5 sums
packaged installation of 'MEAL' as MEAL_1.18.0.zip
* DONE (MEAL)