| Back to Multiple platform build/check report for BioC 3.11 |
|
This page was generated on 2020-10-17 11:57:01 -0400 (Sat, 17 Oct 2020).
| TO THE DEVELOPERS/MAINTAINERS OF THE MBCB PACKAGE: Please make sure to use the following settings in order to reproduce any error or warning you see on this page. |
| Package 1002/1905 | Hostname | OS / Arch | INSTALL | BUILD | CHECK | BUILD BIN | ||||||
| MBCB 1.42.0 Jeff Allen
| malbec2 | Linux (Ubuntu 18.04.4 LTS) / x86_64 | OK | OK | OK | |||||||
| tokay2 | Windows Server 2012 R2 Standard / x64 | OK | OK | OK | [ OK ] | |||||||
| machv2 | macOS 10.14.6 Mojave / x86_64 | OK | OK | OK | OK |
| Package: MBCB |
| Version: 1.42.0 |
| Command: rm -rf MBCB.buildbin-libdir && mkdir MBCB.buildbin-libdir && C:\Users\biocbuild\bbs-3.11-bioc\R\bin\R.exe CMD INSTALL --merge-multiarch --build --library=MBCB.buildbin-libdir MBCB_1.42.0.tar.gz |
| StartedAt: 2020-10-17 10:56:44 -0400 (Sat, 17 Oct 2020) |
| EndedAt: 2020-10-17 10:57:31 -0400 (Sat, 17 Oct 2020) |
| EllapsedTime: 46.9 seconds |
| RetCode: 0 |
| Status: OK |
| PackageFile: MBCB_1.42.0.zip |
| PackageFileSize: 438.3 KiB |
##############################################################################
##############################################################################
###
### Running command:
###
### rm -rf MBCB.buildbin-libdir && mkdir MBCB.buildbin-libdir && C:\Users\biocbuild\bbs-3.11-bioc\R\bin\R.exe CMD INSTALL --merge-multiarch --build --library=MBCB.buildbin-libdir MBCB_1.42.0.tar.gz
###
##############################################################################
##############################################################################
install for i386
* installing *source* package 'MBCB' ...
** using staged installation
** R
** data
** inst
** byte-compile and prepare package for lazy loading
** help
*** installing help indices
converting help for package 'MBCB'
finding HTML links ... done
MBCBExpressionData html
bg.mcmc html
bg.rma html
mbcb.correct html
mbcb.gui html
mbcb.main html
mbcb.parseFile html
printMBCBOutput html
** building package indices
** installing vignettes
** testing if installed package can be loaded from temporary location
** testing if installed package can be loaded from final location
** testing if installed package keeps a record of temporary installation path
install for x64
* installing *source* package 'MBCB' ...
** testing if installed package can be loaded
* MD5 sums
packaged installation of 'MBCB' as MBCB_1.42.0.zip
* DONE (MBCB)