| Back to Multiple platform build/check report for BioC 3.11 |
|
This page was generated on 2020-10-17 11:57:00 -0400 (Sat, 17 Oct 2020).
| TO THE DEVELOPERS/MAINTAINERS OF THE MAST PACKAGE: Please make sure to use the following settings in order to reproduce any error or warning you see on this page. |
| Package 994/1905 | Hostname | OS / Arch | INSTALL | BUILD | CHECK | BUILD BIN | ||||||
| MAST 1.14.0 Andrew McDavid
| malbec2 | Linux (Ubuntu 18.04.4 LTS) / x86_64 | OK | OK | OK | |||||||
| tokay2 | Windows Server 2012 R2 Standard / x64 | OK | OK | OK | [ OK ] | |||||||
| machv2 | macOS 10.14.6 Mojave / x86_64 | OK | OK | OK | OK |
| Package: MAST |
| Version: 1.14.0 |
| Command: rm -rf MAST.buildbin-libdir && mkdir MAST.buildbin-libdir && C:\Users\biocbuild\bbs-3.11-bioc\R\bin\R.exe CMD INSTALL --merge-multiarch --build --library=MAST.buildbin-libdir MAST_1.14.0.tar.gz |
| StartedAt: 2020-10-17 10:56:13 -0400 (Sat, 17 Oct 2020) |
| EndedAt: 2020-10-17 10:57:47 -0400 (Sat, 17 Oct 2020) |
| EllapsedTime: 93.6 seconds |
| RetCode: 0 |
| Status: OK |
| PackageFile: MAST_1.14.0.zip |
| PackageFileSize: 6.081 MiB |
##############################################################################
##############################################################################
###
### Running command:
###
### rm -rf MAST.buildbin-libdir && mkdir MAST.buildbin-libdir && C:\Users\biocbuild\bbs-3.11-bioc\R\bin\R.exe CMD INSTALL --merge-multiarch --build --library=MAST.buildbin-libdir MAST_1.14.0.tar.gz
###
##############################################################################
##############################################################################
install for i386
* installing *source* package 'MAST' ...
** using staged installation
** R
** data
*** moving datasets to lazyload DB
** inst
** byte-compile and prepare package for lazy loading
** help
*** installing help indices
converting help for package 'MAST'
finding HTML links ... done
BayesGLMlike-class html
CovFromBoots html
Drop html
FromFlatDF html
FromMatrix html
GLMlike-class html
GSEATests-class html
Hypothesis html
LMERlike-class html
LMlike-class html
LRT html
MAST-defunct html
finding level-2 HTML links ... done
MAST-package html
SceToSingleCellAssay html
ZlmFit-class html
applyFlat html
bootVcov1 html
calcZ html
colData-set-SingleCellAssay-DataFrame-method
html
collectResiduals html
computeEtFromCt html
convertMASTClassicToSingleCellAssay html
defaultAssay html
defaultPrior html
dof html
ebayes html
expavg html
filterLowExpressedGenes html
fit html
freq html
getConcordance html
getwellKey html
gseaAfterBoot html
hushWarning html
impute html
influence.bayesglm html
invlogit html
logFC html
logmean html
lrTest-ZlmFit-character-method html
lrTest html
maits-dataset html
mast_filter html
melt.SingleCellAssay html
model.matrix-set html
model.matrix html
myBiplot html
pbootVcov1 html
plot.thresholdSCRNACountMatrix html
plotSCAConcordance html
plotlrt html
predict.ZlmFit html
predicted_sig-dataset html
primerAverage html
print.summaryZlmFit html
read.fluidigm html
removeResponse html
rstandard.bayesglm html
se.coef html
show html
split-SingleCellAssay-character-method
html
stat_ell html
subset-SingleCellAssay-method html
summarize html
summary-GSEATests-method html
summary-ZlmFit-method html
summary.thresholdSCRNACountMatrix html
thresholdSCRNACountMatrix html
vbeta-dataset html
vbetaFA-dataset html
waldTest-ZlmFit-matrix-method html
waldTest html
xform html
zlm html
** building package indices
** installing vignettes
** testing if installed package can be loaded from temporary location
** testing if installed package can be loaded from final location
** testing if installed package keeps a record of temporary installation path
install for x64
* installing *source* package 'MAST' ...
** testing if installed package can be loaded
* MD5 sums
packaged installation of 'MAST' as MAST_1.14.0.zip
* DONE (MAST)