| Back to Multiple platform build/check report for BioC 3.11 |
|
This page was generated on 2020-10-17 11:56:59 -0400 (Sat, 17 Oct 2020).
| TO THE DEVELOPERS/MAINTAINERS OF THE MACSQuantifyR PACKAGE: Please make sure to use the following settings in order to reproduce any error or warning you see on this page. |
| Package 972/1905 | Hostname | OS / Arch | INSTALL | BUILD | CHECK | BUILD BIN | ||||||
| MACSQuantifyR 1.2.0 Raphaƫl Bonnet
| malbec2 | Linux (Ubuntu 18.04.4 LTS) / x86_64 | OK | OK | OK | |||||||
| tokay2 | Windows Server 2012 R2 Standard / x64 | OK | OK | OK | [ OK ] | |||||||
| machv2 | macOS 10.14.6 Mojave / x86_64 | OK | OK | OK | OK |
| Package: MACSQuantifyR |
| Version: 1.2.0 |
| Command: rm -rf MACSQuantifyR.buildbin-libdir && mkdir MACSQuantifyR.buildbin-libdir && C:\Users\biocbuild\bbs-3.11-bioc\R\bin\R.exe CMD INSTALL --merge-multiarch --build --library=MACSQuantifyR.buildbin-libdir MACSQuantifyR_1.2.0.tar.gz |
| StartedAt: 2020-10-17 10:54:50 -0400 (Sat, 17 Oct 2020) |
| EndedAt: 2020-10-17 10:55:41 -0400 (Sat, 17 Oct 2020) |
| EllapsedTime: 50.9 seconds |
| RetCode: 0 |
| Status: OK |
| PackageFile: MACSQuantifyR_1.2.0.zip |
| PackageFileSize: 3.394 MiB |
##############################################################################
##############################################################################
###
### Running command:
###
### rm -rf MACSQuantifyR.buildbin-libdir && mkdir MACSQuantifyR.buildbin-libdir && C:\Users\biocbuild\bbs-3.11-bioc\R\bin\R.exe CMD INSTALL --merge-multiarch --build --library=MACSQuantifyR.buildbin-libdir MACSQuantifyR_1.2.0.tar.gz
###
##############################################################################
##############################################################################
install for i386
* installing *source* package 'MACSQuantifyR' ...
** using staged installation
** R
** inst
** byte-compile and prepare package for lazy loading
** help
*** installing help indices
converting help for package 'MACSQuantifyR'
finding HTML links ... done
MACSQuant html
barplot_data html
combination_index html
generate_report html
load_MACSQuant html
new_class_MQ html
on_plate_selection html
pipeline html
rData html
setPath html
sorted html
** building package indices
** installing vignettes
** testing if installed package can be loaded from temporary location
** testing if installed package can be loaded from final location
** testing if installed package keeps a record of temporary installation path
install for x64
* installing *source* package 'MACSQuantifyR' ...
** testing if installed package can be loaded
* MD5 sums
packaged installation of 'MACSQuantifyR' as MACSQuantifyR_1.2.0.zip
* DONE (MACSQuantifyR)