| Back to Multiple platform build/check report for BioC 3.11 |
|
This page was generated on 2020-10-17 11:56:59 -0400 (Sat, 17 Oct 2020).
| TO THE DEVELOPERS/MAINTAINERS OF THE LymphoSeq PACKAGE: Please make sure to use the following settings in order to reproduce any error or warning you see on this page. |
| Package 963/1905 | Hostname | OS / Arch | INSTALL | BUILD | CHECK | BUILD BIN | ||||||
| LymphoSeq 1.16.0 David Coffey
| malbec2 | Linux (Ubuntu 18.04.4 LTS) / x86_64 | OK | OK | OK | |||||||
| tokay2 | Windows Server 2012 R2 Standard / x64 | OK | OK | OK | [ OK ] | |||||||
| machv2 | macOS 10.14.6 Mojave / x86_64 | OK | OK | OK | OK |
| Package: LymphoSeq |
| Version: 1.16.0 |
| Command: rm -rf LymphoSeq.buildbin-libdir && mkdir LymphoSeq.buildbin-libdir && C:\Users\biocbuild\bbs-3.11-bioc\R\bin\R.exe CMD INSTALL --merge-multiarch --build --library=LymphoSeq.buildbin-libdir LymphoSeq_1.16.0.tar.gz |
| StartedAt: 2020-10-17 10:54:15 -0400 (Sat, 17 Oct 2020) |
| EndedAt: 2020-10-17 10:55:02 -0400 (Sat, 17 Oct 2020) |
| EllapsedTime: 47.3 seconds |
| RetCode: 0 |
| Status: OK |
| PackageFile: LymphoSeq_1.16.0.zip |
| PackageFileSize: 1.46 MiB |
##############################################################################
##############################################################################
###
### Running command:
###
### rm -rf LymphoSeq.buildbin-libdir && mkdir LymphoSeq.buildbin-libdir && C:\Users\biocbuild\bbs-3.11-bioc\R\bin\R.exe CMD INSTALL --merge-multiarch --build --library=LymphoSeq.buildbin-libdir LymphoSeq_1.16.0.tar.gz
###
##############################################################################
##############################################################################
install for i386
* installing *source* package 'LymphoSeq' ...
** using staged installation
** R
** inst
** byte-compile and prepare package for lazy loading
** help
*** installing help indices
converting help for package 'LymphoSeq'
finding HTML links ... done
alignSeq html
bhattacharyyaCoefficient html
bhattacharyyaMatrix html
chordDiagramVDJ html
clonalRelatedness html
clonality html
cloneTrack html
commonSeqs html
commonSeqsBar html
commonSeqsPlot html
commonSeqsVenn html
differentialAbundance html
exportFasta html
geneFreq html
lorenzCurve html
mergeFiles html
pairwisePlot html
phyloTree html
productive html
productiveSeq html
readImmunoSeq html
removeSeq html
searchPublished html
searchSeq html
seqMatrix html
similarityMatrix html
similarityScore html
topFreq html
topSeqs html
topSeqsPlot html
uniqueSeqs html
** building package indices
** installing vignettes
** testing if installed package can be loaded from temporary location
** testing if installed package can be loaded from final location
** testing if installed package keeps a record of temporary installation path
install for x64
* installing *source* package 'LymphoSeq' ...
** testing if installed package can be loaded
* MD5 sums
packaged installation of 'LymphoSeq' as LymphoSeq_1.16.0.zip
* DONE (LymphoSeq)