| Back to Multiple platform build/check report for BioC 3.11 |
|
This page was generated on 2020-10-17 11:56:58 -0400 (Sat, 17 Oct 2020).
| TO THE DEVELOPERS/MAINTAINERS OF THE LOLA PACKAGE: Please make sure to use the following settings in order to reproduce any error or warning you see on this page. |
| Package 953/1905 | Hostname | OS / Arch | INSTALL | BUILD | CHECK | BUILD BIN | ||||||
| LOLA 1.18.1 Nathan Sheffield
| malbec2 | Linux (Ubuntu 18.04.4 LTS) / x86_64 | OK | OK | OK | |||||||
| tokay2 | Windows Server 2012 R2 Standard / x64 | OK | OK | OK | [ OK ] | |||||||
| machv2 | macOS 10.14.6 Mojave / x86_64 | OK | OK | OK | OK |
| Package: LOLA |
| Version: 1.18.1 |
| Command: rm -rf LOLA.buildbin-libdir && mkdir LOLA.buildbin-libdir && C:\Users\biocbuild\bbs-3.11-bioc\R\bin\R.exe CMD INSTALL --merge-multiarch --build --library=LOLA.buildbin-libdir LOLA_1.18.1.tar.gz |
| StartedAt: 2020-10-17 10:53:39 -0400 (Sat, 17 Oct 2020) |
| EndedAt: 2020-10-17 10:54:31 -0400 (Sat, 17 Oct 2020) |
| EllapsedTime: 51.5 seconds |
| RetCode: 0 |
| Status: OK |
| PackageFile: LOLA_1.18.1.zip |
| PackageFileSize: 1.28 MiB |
##############################################################################
##############################################################################
###
### Running command:
###
### rm -rf LOLA.buildbin-libdir && mkdir LOLA.buildbin-libdir && C:\Users\biocbuild\bbs-3.11-bioc\R\bin\R.exe CMD INSTALL --merge-multiarch --build --library=LOLA.buildbin-libdir LOLA_1.18.1.tar.gz
###
##############################################################################
##############################################################################
install for i386
* installing *source* package 'LOLA' ...
** using staged installation
** R
** data
** inst
** byte-compile and prepare package for lazy loading
** help
*** installing help indices
converting help for package 'LOLA'
finding HTML links ... done
LOLA html
buildRestrictedUniverse html
checkUniverseAppropriateness html
cleanws html
countOverlapsAnyRev html
extractEnrichmentOverlaps html
getRegionFile html
getRegionSet html
lapplyAlias html
listRegionSets html
listToGRangesList html
loadRegionDB html
mergeRegionDBs html
nlist html
plotTopLOLAEnrichments html
readBed html
readCollection html
readCollectionAnnotation html
readCollectionFiles html
readRegionGRL html
readRegionSetAnnotation html
redefineUserSets html
replaceFileExtension html
runLOLA html
sampleGRL html
setLapplyAlias html
setSharedDataDir html
splitDataTable html
splitFileIntoCollection html
userSets html
userUniverse html
write.tsv html
writeCombinedEnrichment html
writeDataTableSplitByColumn html
*** copying figures
** building package indices
** installing vignettes
** testing if installed package can be loaded from temporary location
** testing if installed package can be loaded from final location
** testing if installed package keeps a record of temporary installation path
install for x64
* installing *source* package 'LOLA' ...
** testing if installed package can be loaded
* MD5 sums
packaged installation of 'LOLA' as LOLA_1.18.1.zip
* DONE (LOLA)