| Back to Multiple platform build/check report for BioC 3.11 | 
 | 
This page was generated on 2020-10-17 11:56:56 -0400 (Sat, 17 Oct 2020).
| TO THE DEVELOPERS/MAINTAINERS OF THE KinSwingR PACKAGE: Please make sure to use the following settings in order to reproduce any error or warning you see on this page. | 
| Package 924/1905 | Hostname | OS / Arch | INSTALL | BUILD | CHECK | BUILD BIN | ||||||
| KinSwingR 1.6.0 Ashley J. Waardenberg 
 | malbec2 | Linux (Ubuntu 18.04.4 LTS) / x86_64 | OK | OK | OK |  | ||||||
| tokay2 | Windows Server 2012 R2 Standard / x64 | [ OK ] | OK | OK | OK |  | ||||||
| machv2 | macOS 10.14.6 Mojave / x86_64 | OK | OK | OK | OK |  | 
| Package: KinSwingR | 
| Version: 1.6.0 | 
| Command: C:\cygwin\bin\curl.exe -O https://malbec2.bioconductor.org/BBS/3.11/bioc/src/contrib/KinSwingR_1.6.0.tar.gz && rm -rf KinSwingR.buildbin-libdir && mkdir KinSwingR.buildbin-libdir && C:\Users\biocbuild\bbs-3.11-bioc\R\bin\R.exe CMD INSTALL --merge-multiarch --build --library=KinSwingR.buildbin-libdir KinSwingR_1.6.0.tar.gz && C:\Users\biocbuild\bbs-3.11-bioc\R\bin\R.exe CMD INSTALL KinSwingR_1.6.0.zip && rm KinSwingR_1.6.0.tar.gz KinSwingR_1.6.0.zip | 
| StartedAt: 2020-10-16 18:21:23 -0400 (Fri, 16 Oct 2020) | 
| EndedAt: 2020-10-16 18:21:44 -0400 (Fri, 16 Oct 2020) | 
| EllapsedTime: 21.4 seconds | 
| RetCode: 0 | 
| Status: OK | 
##############################################################################
##############################################################################
###
### Running command:
###
###   C:\cygwin\bin\curl.exe -O https://malbec2.bioconductor.org/BBS/3.11/bioc/src/contrib/KinSwingR_1.6.0.tar.gz && rm -rf KinSwingR.buildbin-libdir && mkdir KinSwingR.buildbin-libdir && C:\Users\biocbuild\bbs-3.11-bioc\R\bin\R.exe CMD INSTALL --merge-multiarch --build --library=KinSwingR.buildbin-libdir KinSwingR_1.6.0.tar.gz && C:\Users\biocbuild\bbs-3.11-bioc\R\bin\R.exe CMD INSTALL KinSwingR_1.6.0.zip && rm KinSwingR_1.6.0.tar.gz KinSwingR_1.6.0.zip
###
##############################################################################
##############################################################################
  % Total    % Received % Xferd  Average Speed   Time    Time     Time  Current
                                 Dload  Upload   Total   Spent    Left  Speed
  0     0    0     0    0     0      0      0 --:--:-- --:--:-- --:--:--     0
100  285k  100  285k    0     0  1571k      0 --:--:-- --:--:-- --:--:-- 1629k
install for i386
* installing *source* package 'KinSwingR' ...
** using staged installation
** R
** data
*** moving datasets to lazyload DB
** byte-compile and prepare package for lazy loading
** help
*** installing help indices
  converting help for package 'KinSwingR'
    finding HTML links ... done
    KinSwingR                               html  
    buildPWM                                html  
    cleanAnnotation                         html  
    example_phosphoproteome                 html  
    phosphositeplus_human                   html  
    scoreSequences                          html  
    swing                                   html  
    viewPWM                                 html  
** building package indices
** installing vignettes
** testing if installed package can be loaded from temporary location
** testing if installed package can be loaded from final location
** testing if installed package keeps a record of temporary installation path
install for x64
* installing *source* package 'KinSwingR' ...
** testing if installed package can be loaded
* MD5 sums
packaged installation of 'KinSwingR' as KinSwingR_1.6.0.zip
* DONE (KinSwingR)
* installing to library 'C:/Users/biocbuild/bbs-3.11-bioc/R/library'
package 'KinSwingR' successfully unpacked and MD5 sums checked