| Back to Multiple platform build/check report for BioC 3.11 |
|
This page was generated on 2020-10-17 11:56:55 -0400 (Sat, 17 Oct 2020).
| TO THE DEVELOPERS/MAINTAINERS OF THE KEGGgraph PACKAGE: Please make sure to use the following settings in order to reproduce any error or warning you see on this page. |
| Package 918/1905 | Hostname | OS / Arch | INSTALL | BUILD | CHECK | BUILD BIN | ||||||
| KEGGgraph 1.48.0 Jitao David Zhang
| malbec2 | Linux (Ubuntu 18.04.4 LTS) / x86_64 | OK | OK | OK | |||||||
| tokay2 | Windows Server 2012 R2 Standard / x64 | OK | OK | OK | [ OK ] | |||||||
| machv2 | macOS 10.14.6 Mojave / x86_64 | OK | OK | OK | OK |
| Package: KEGGgraph |
| Version: 1.48.0 |
| Command: rm -rf KEGGgraph.buildbin-libdir && mkdir KEGGgraph.buildbin-libdir && C:\Users\biocbuild\bbs-3.11-bioc\R\bin\R.exe CMD INSTALL --merge-multiarch --build --library=KEGGgraph.buildbin-libdir KEGGgraph_1.48.0.tar.gz |
| StartedAt: 2020-10-17 10:51:26 -0400 (Sat, 17 Oct 2020) |
| EndedAt: 2020-10-17 10:52:05 -0400 (Sat, 17 Oct 2020) |
| EllapsedTime: 39.6 seconds |
| RetCode: 0 |
| Status: OK |
| PackageFile: KEGGgraph_1.48.0.zip |
| PackageFileSize: 1.781 MiB |
##############################################################################
##############################################################################
###
### Running command:
###
### rm -rf KEGGgraph.buildbin-libdir && mkdir KEGGgraph.buildbin-libdir && C:\Users\biocbuild\bbs-3.11-bioc\R\bin\R.exe CMD INSTALL --merge-multiarch --build --library=KEGGgraph.buildbin-libdir KEGGgraph_1.48.0.tar.gz
###
##############################################################################
##############################################################################
install for i386
* installing *source* package 'KEGGgraph' ...
** using staged installation
** R
** data
** inst
** byte-compile and prepare package for lazy loading
** help
*** installing help indices
converting help for package 'KEGGgraph'
finding HTML links ... done
KEGGEdge-class html
KEGGEdgeSubType-class html
KEGGEdgeSubtype html
KEGGGraphics-class html
KEGGGroup-class html
KEGGNode-class html
KEGGPathway-class html
KEGGPathwayInfo-class html
KEGGReaction-class html
KEGGpathway2Graph html
KEGGpathway2reactionGraph html
expandKEGGNode html
expandKEGGPathway html
getDisplayName-methods html
getEntryID-methods html
getKEGGID-methods html
getKEGGgeneLink-methods html
getKEGGnodeData html
getKGMLurl html
getName-methods html
getNamedElement html
getPathwayInfo-methods html
getReactions-methods html
getRgraphvizEdgeNames html
getSubtype-methods html
getTitle-methods html
getType-methods html
getValue-methods html
graphDensity html
isHomoList html
kgmlFileName2PathwayName html
mergeGraphs html
mergeKEGGgraphs html
neighborhood html
parseEntry html
parseGraphics html
parseKGML html
parseKGML2DataFrame html
parseKGML2Graph html
parseKGMLexpandMaps html
parsePathwayInfo html
parseReaction html
parseRelation html
parseSubType html
plotKEGGgraph html
pvalue2asterisk html
queryKEGGsubgraph html
randomSubGraph html
splitKEGGgroup html
subGraphByNodeType html
subKEGGgraph html
subtypeDisplay-methods html
top html
translateKEGGID2GeneID html
translateKEGGgraph html
** building package indices
** installing vignettes
** testing if installed package can be loaded from temporary location
** testing if installed package can be loaded from final location
** testing if installed package keeps a record of temporary installation path
install for x64
* installing *source* package 'KEGGgraph' ...
** testing if installed package can be loaded
* MD5 sums
packaged installation of 'KEGGgraph' as KEGGgraph_1.48.0.zip
* DONE (KEGGgraph)