| Back to Multiple platform build/check report for BioC 3.11 |
|
This page was generated on 2020-10-17 11:56:54 -0400 (Sat, 17 Oct 2020).
| TO THE DEVELOPERS/MAINTAINERS OF THE IsoformSwitchAnalyzeR PACKAGE: Please make sure to use the following settings in order to reproduce any error or warning you see on this page. |
| Package 901/1905 | Hostname | OS / Arch | INSTALL | BUILD | CHECK | BUILD BIN | ||||||
| IsoformSwitchAnalyzeR 1.10.0 Kristoffer Vitting-Seerup
| malbec2 | Linux (Ubuntu 18.04.4 LTS) / x86_64 | OK | OK | OK | |||||||
| tokay2 | Windows Server 2012 R2 Standard / x64 | [ OK ] | OK | OK | OK | |||||||
| machv2 | macOS 10.14.6 Mojave / x86_64 | OK | OK | OK | OK |
| Package: IsoformSwitchAnalyzeR |
| Version: 1.10.0 |
| Command: C:\cygwin\bin\curl.exe -O https://malbec2.bioconductor.org/BBS/3.11/bioc/src/contrib/IsoformSwitchAnalyzeR_1.10.0.tar.gz && rm -rf IsoformSwitchAnalyzeR.buildbin-libdir && mkdir IsoformSwitchAnalyzeR.buildbin-libdir && C:\Users\biocbuild\bbs-3.11-bioc\R\bin\R.exe CMD INSTALL --merge-multiarch --build --library=IsoformSwitchAnalyzeR.buildbin-libdir IsoformSwitchAnalyzeR_1.10.0.tar.gz && C:\Users\biocbuild\bbs-3.11-bioc\R\bin\R.exe CMD INSTALL IsoformSwitchAnalyzeR_1.10.0.zip && rm IsoformSwitchAnalyzeR_1.10.0.tar.gz IsoformSwitchAnalyzeR_1.10.0.zip |
| StartedAt: 2020-10-16 18:49:07 -0400 (Fri, 16 Oct 2020) |
| EndedAt: 2020-10-16 18:51:19 -0400 (Fri, 16 Oct 2020) |
| EllapsedTime: 132.1 seconds |
| RetCode: 0 |
| Status: OK |
##############################################################################
##############################################################################
###
### Running command:
###
### C:\cygwin\bin\curl.exe -O https://malbec2.bioconductor.org/BBS/3.11/bioc/src/contrib/IsoformSwitchAnalyzeR_1.10.0.tar.gz && rm -rf IsoformSwitchAnalyzeR.buildbin-libdir && mkdir IsoformSwitchAnalyzeR.buildbin-libdir && C:\Users\biocbuild\bbs-3.11-bioc\R\bin\R.exe CMD INSTALL --merge-multiarch --build --library=IsoformSwitchAnalyzeR.buildbin-libdir IsoformSwitchAnalyzeR_1.10.0.tar.gz && C:\Users\biocbuild\bbs-3.11-bioc\R\bin\R.exe CMD INSTALL IsoformSwitchAnalyzeR_1.10.0.zip && rm IsoformSwitchAnalyzeR_1.10.0.tar.gz IsoformSwitchAnalyzeR_1.10.0.zip
###
##############################################################################
##############################################################################
% Total % Received % Xferd Average Speed Time Time Time Current
Dload Upload Total Spent Left Speed
0 0 0 0 0 0 0 0 --:--:-- --:--:-- --:--:-- 0
0 2433k 0 0 0 0 0 0 --:--:-- --:--:-- --:--:-- 0
100 2433k 100 2433k 0 0 15.1M 0 --:--:-- --:--:-- --:--:-- 15.7M
install for i386
* installing *source* package 'IsoformSwitchAnalyzeR' ...
** using staged installation
** libs
"C:/rtools40/mingw32/bin/"gcc -I"C:/Users/BIOCBU~1/BBS-3~1.11-/R/include" -DNDEBUG -I"C:/extsoft/include" -O2 -Wall -std=gnu99 -mfpmath=sse -msse2 -mstackrealign -c utils.c -o utils.o
C:/rtools40/mingw32/bin/gcc -shared -s -static-libgcc -o IsoformSwitchAnalyzeR.dll tmp.def utils.o -LC:/extsoft/lib/i386 -LC:/extsoft/lib -LC:/Users/BIOCBU~1/BBS-3~1.11-/R/bin/i386 -lR
installing to C:/Users/biocbuild/bbs-3.11-bioc/meat/IsoformSwitchAnalyzeR.buildbin-libdir/00LOCK-IsoformSwitchAnalyzeR/00new/IsoformSwitchAnalyzeR/libs/i386
** R
** data
** inst
** byte-compile and prepare package for lazy loading
** help
*** installing help indices
converting help for package 'IsoformSwitchAnalyzeR'
finding HTML links ... done
CDSSet html
IsoformSwitchTestDEXSeq html
IsoformSwitchTestDRIMSeq html
finding level-2 HTML links ... done
analyzeAlternativSplicing html
analyzeCPAT html
analyzeCPC2 html
analyzeIUPred2A html
analyzeNetSurf2 html
analyzeORF html
analyzePFAM html
analyzeSignalP html
analyzeSwitchConsequences html
expressionAnalysisPlots html
extractConsequenceEnrichment html
extractConsequenceEnrichmentComparison
html
extractConsequenceSummary html
extractGenomeWideAnalysis html
extractGenomeWideSplicingAnalysis html
extractSequence html
extractSplicingEnrichment html
extractSplicingEnrichmentComparison html
extractSplicingSummary html
extractSwitchOverlap html
extractSwitchSummary html
extractTopSwitches html
getCDS html
importCufflinksGalaxyData html
importGTF html
importIsoformExpression html
importRdata html
isoformSwitchAnalysisCombined html
isoformSwitchAnalysisPart1 html
isoformSwitchAnalysisPart2 html
isoformToGeneExp html
isoformToIsoformFraction html
preFilter html
subsetSwitchAnalyzeRlist html
switchAnalyzeRlist html
switchPlot html
switchPlotTopSwitches html
switchPlotTranscript html
testData html
** building package indices
** installing vignettes
** testing if installed package can be loaded from temporary location
** testing if installed package can be loaded from final location
** testing if installed package keeps a record of temporary installation path
install for x64
* installing *source* package 'IsoformSwitchAnalyzeR' ...
** libs
"C:/rtools40/mingw64/bin/"gcc -I"C:/Users/BIOCBU~1/BBS-3~1.11-/R/include" -DNDEBUG -I"C:/extsoft/include" -O2 -Wall -std=gnu99 -mfpmath=sse -msse2 -mstackrealign -c utils.c -o utils.o
C:/rtools40/mingw64/bin/gcc -shared -s -static-libgcc -o IsoformSwitchAnalyzeR.dll tmp.def utils.o -LC:/extsoft/lib/x64 -LC:/extsoft/lib -LC:/Users/BIOCBU~1/BBS-3~1.11-/R/bin/x64 -lR
installing to C:/Users/biocbuild/bbs-3.11-bioc/meat/IsoformSwitchAnalyzeR.buildbin-libdir/IsoformSwitchAnalyzeR/libs/x64
** testing if installed package can be loaded
* MD5 sums
packaged installation of 'IsoformSwitchAnalyzeR' as IsoformSwitchAnalyzeR_1.10.0.zip
* DONE (IsoformSwitchAnalyzeR)
* installing to library 'C:/Users/biocbuild/bbs-3.11-bioc/R/library'
package 'IsoformSwitchAnalyzeR' successfully unpacked and MD5 sums checked