| Back to Multiple platform build/check report for BioC 3.11 | 
 | 
This page was generated on 2020-10-17 11:56:53 -0400 (Sat, 17 Oct 2020).
| TO THE DEVELOPERS/MAINTAINERS OF THE IntramiRExploreR PACKAGE: Please make sure to use the following settings in order to reproduce any error or warning you see on this page. | 
| Package 887/1905 | Hostname | OS / Arch | INSTALL | BUILD | CHECK | BUILD BIN | ||||||
| IntramiRExploreR 1.10.0 Surajit Bhattacharya 
 | malbec2 | Linux (Ubuntu 18.04.4 LTS) / x86_64 | OK | OK | OK |  | ||||||
| tokay2 | Windows Server 2012 R2 Standard / x64 | [ OK ] | OK | OK | OK |  | ||||||
| machv2 | macOS 10.14.6 Mojave / x86_64 | OK | OK | OK | OK |  | 
| Package: IntramiRExploreR | 
| Version: 1.10.0 | 
| Command: C:\cygwin\bin\curl.exe -O https://malbec2.bioconductor.org/BBS/3.11/bioc/src/contrib/IntramiRExploreR_1.10.0.tar.gz && rm -rf IntramiRExploreR.buildbin-libdir && mkdir IntramiRExploreR.buildbin-libdir && C:\Users\biocbuild\bbs-3.11-bioc\R\bin\R.exe CMD INSTALL --merge-multiarch --build --library=IntramiRExploreR.buildbin-libdir IntramiRExploreR_1.10.0.tar.gz && C:\Users\biocbuild\bbs-3.11-bioc\R\bin\R.exe CMD INSTALL IntramiRExploreR_1.10.0.zip && rm IntramiRExploreR_1.10.0.tar.gz IntramiRExploreR_1.10.0.zip | 
| StartedAt: 2020-10-16 17:41:53 -0400 (Fri, 16 Oct 2020) | 
| EndedAt: 2020-10-16 17:42:53 -0400 (Fri, 16 Oct 2020) | 
| EllapsedTime: 59.7 seconds | 
| RetCode: 0 | 
| Status: OK | 
##############################################################################
##############################################################################
###
### Running command:
###
###   C:\cygwin\bin\curl.exe -O https://malbec2.bioconductor.org/BBS/3.11/bioc/src/contrib/IntramiRExploreR_1.10.0.tar.gz && rm -rf IntramiRExploreR.buildbin-libdir && mkdir IntramiRExploreR.buildbin-libdir && C:\Users\biocbuild\bbs-3.11-bioc\R\bin\R.exe CMD INSTALL --merge-multiarch --build --library=IntramiRExploreR.buildbin-libdir IntramiRExploreR_1.10.0.tar.gz && C:\Users\biocbuild\bbs-3.11-bioc\R\bin\R.exe CMD INSTALL IntramiRExploreR_1.10.0.zip && rm IntramiRExploreR_1.10.0.tar.gz IntramiRExploreR_1.10.0.zip
###
##############################################################################
##############################################################################
  % Total    % Received % Xferd  Average Speed   Time    Time     Time  Current
                                 Dload  Upload   Total   Spent    Left  Speed
  0     0    0     0    0     0      0      0 --:--:-- --:--:-- --:--:--     0
100 8991k  100 8991k    0     0  45.5M      0 --:--:-- --:--:-- --:--:-- 46.9M
install for i386
* installing *source* package 'IntramiRExploreR' ...
** using staged installation
** R
** data
*** moving datasets to lazyload DB
** byte-compile and prepare package for lazy loading
** help
*** installing help indices
  converting help for package 'IntramiRExploreR'
    finding HTML links ... done
    Affy1_Distance_Final                    html  
    Affy1_Pearson_Final                     html  
    Affy2_Distance_Final                    html  
    Affy2_Pearson_Final                     html  
    Gene_Visualisation                      html  
    GetGOS_ALL                              html  
    IntramiRExploreR                        html  
    Visualisation                           html  
    extract_HostGene                        html  
    extract_intragenic_miR                  html  
    genes_Stat                              html  
    miRNA_ID_to_Function                    html  
    miRNA_summary_DB                        html  
    miRTargets_Stat                         html  
** building package indices
** installing vignettes
** testing if installed package can be loaded from temporary location
** testing if installed package can be loaded from final location
** testing if installed package keeps a record of temporary installation path
install for x64
* installing *source* package 'IntramiRExploreR' ...
** testing if installed package can be loaded
* MD5 sums
packaged installation of 'IntramiRExploreR' as IntramiRExploreR_1.10.0.zip
* DONE (IntramiRExploreR)
* installing to library 'C:/Users/biocbuild/bbs-3.11-bioc/R/library'
package 'IntramiRExploreR' successfully unpacked and MD5 sums checked