| Back to Multiple platform build/check report for BioC 3.11 |
|
This page was generated on 2020-10-17 11:54:59 -0400 (Sat, 17 Oct 2020).
| TO THE DEVELOPERS/MAINTAINERS OF THE IntEREst PACKAGE: Please make sure to use the following settings in order to reproduce any error or warning you see on this page. |
| Package 885/1905 | Hostname | OS / Arch | INSTALL | BUILD | CHECK | BUILD BIN | ||||||
| IntEREst 1.12.0 Ali Oghabian
| malbec2 | Linux (Ubuntu 18.04.4 LTS) / x86_64 | OK | OK | [ OK ] | |||||||
| tokay2 | Windows Server 2012 R2 Standard / x64 | OK | OK | WARNINGS | OK | |||||||
| machv2 | macOS 10.14.6 Mojave / x86_64 | OK | OK | OK | OK |
| Package: IntEREst |
| Version: 1.12.0 |
| Command: /home/biocbuild/bbs-3.11-bioc/R/bin/R CMD check --install=check:IntEREst.install-out.txt --library=/home/biocbuild/bbs-3.11-bioc/R/library --no-vignettes --timings IntEREst_1.12.0.tar.gz |
| StartedAt: 2020-10-17 02:25:16 -0400 (Sat, 17 Oct 2020) |
| EndedAt: 2020-10-17 02:31:57 -0400 (Sat, 17 Oct 2020) |
| EllapsedTime: 401.3 seconds |
| RetCode: 0 |
| Status: OK |
| CheckDir: IntEREst.Rcheck |
| Warnings: 0 |
##############################################################################
##############################################################################
###
### Running command:
###
### /home/biocbuild/bbs-3.11-bioc/R/bin/R CMD check --install=check:IntEREst.install-out.txt --library=/home/biocbuild/bbs-3.11-bioc/R/library --no-vignettes --timings IntEREst_1.12.0.tar.gz
###
##############################################################################
##############################################################################
* using log directory ‘/home/biocbuild/bbs-3.11-bioc/meat/IntEREst.Rcheck’
* using R version 4.0.3 (2020-10-10)
* using platform: x86_64-pc-linux-gnu (64-bit)
* using session charset: UTF-8
* using option ‘--no-vignettes’
* checking for file ‘IntEREst/DESCRIPTION’ ... OK
* this is package ‘IntEREst’ version ‘1.12.0’
* checking package namespace information ... OK
* checking package dependencies ... OK
* checking if this is a source package ... OK
* checking if there is a namespace ... OK
* checking for hidden files and directories ... OK
* checking for portable file names ... OK
* checking for sufficient/correct file permissions ... OK
* checking whether package ‘IntEREst’ can be installed ... OK
* checking installed package size ... OK
* checking package directory ... OK
* checking ‘build’ directory ... OK
* checking DESCRIPTION meta-information ... OK
* checking top-level files ... OK
* checking for left-over files ... OK
* checking index information ... OK
* checking package subdirectories ... OK
* checking R files for non-ASCII characters ... OK
* checking R files for syntax errors ... OK
* checking whether the package can be loaded ... OK
* checking whether the package can be loaded with stated dependencies ... OK
* checking whether the package can be unloaded cleanly ... OK
* checking whether the namespace can be loaded with stated dependencies ... OK
* checking whether the namespace can be unloaded cleanly ... OK
* checking dependencies in R code ... OK
* checking S3 generic/method consistency ... OK
* checking replacement functions ... OK
* checking foreign function calls ... OK
* checking R code for possible problems ... OK
* checking Rd files ... OK
* checking Rd metadata ... OK
* checking Rd cross-references ... OK
* checking for missing documentation entries ... OK
* checking for code/documentation mismatches ... OK
* checking Rd \usage sections ... OK
* checking Rd contents ... OK
* checking for unstated dependencies in examples ... OK
* checking contents of ‘data’ directory ... OK
* checking data for non-ASCII characters ... OK
* checking data for ASCII and uncompressed saves ... OK
* checking files in ‘vignettes’ ... OK
* checking examples ... OK
Examples with CPU (user + system) or elapsed time > 5s
user system elapsed
DEXSeqIntEREst 28.053 0.124 28.187
deseqInterest 6.711 0.000 6.719
* checking for unstated dependencies in vignettes ... OK
* checking package vignettes in ‘inst/doc’ ... OK
* checking running R code from vignettes ... SKIPPED
* checking re-building of vignette outputs ... SKIPPED
* checking PDF version of manual ... OK
* DONE
Status: OK
IntEREst.Rcheck/00install.out
############################################################################## ############################################################################## ### ### Running command: ### ### /home/biocbuild/bbs-3.11-bioc/R/bin/R CMD INSTALL IntEREst ### ############################################################################## ############################################################################## * installing to library ‘/home/biocbuild/bbs-3.11-bioc/R/library’ * installing *source* package ‘IntEREst’ ... ** using staged installation ** R ** data *** moving datasets to lazyload DB ** inst ** byte-compile and prepare package for lazy loading ** help *** installing help indices ** building package indices ** installing vignettes ** testing if installed package can be loaded from temporary location ** testing if installed package can be loaded from final location ** testing if installed package keeps a record of temporary installation path * DONE (IntEREst)
IntEREst.Rcheck/IntEREst-Ex.timings
| name | user | system | elapsed | |
| DEXSeqIntEREst | 28.053 | 0.124 | 28.187 | |
| addAnnotation | 0.033 | 0.000 | 0.033 | |
| annotateU12 | 3.767 | 0.032 | 3.799 | |
| applyOverlap | 0.312 | 0.000 | 0.313 | |
| attributes | 0.044 | 0.004 | 0.048 | |
| boxplot-method | 0.065 | 0.000 | 0.066 | |
| buildSsTypePwms | 0.000 | 0.000 | 0.001 | |
| counts-method | 0.027 | 0.000 | 0.027 | |
| deseqInterest | 6.711 | 0.000 | 6.719 | |
| exactTestInterest | 0.147 | 0.000 | 0.147 | |
| getRepeatTable | 0 | 0 | 0 | |
| glmInterest | 0.231 | 0.000 | 0.231 | |
| interest | 3.364 | 0.008 | 3.385 | |
| interest.sequential | 1.318 | 0.088 | 1.406 | |
| interestResult | 0.019 | 0.000 | 0.020 | |
| interestResultIntEx | 0.171 | 0.000 | 0.172 | |
| intexIndex | 0.004 | 0.000 | 0.004 | |
| lfc | 0.227 | 0.008 | 0.235 | |
| mergeInterestResult | 0.050 | 0.000 | 0.049 | |
| plot-method | 0.271 | 0.004 | 0.276 | |
| psi | 0.877 | 0.008 | 0.889 | |
| qlfInterest | 0.277 | 0.000 | 0.285 | |
| readInterestResults | 0.029 | 0.000 | 0.028 | |
| referencePrepare | 1.428 | 0.000 | 1.428 | |
| subInterestResult | 0.057 | 0.000 | 0.058 | |
| treatInterest | 0.240 | 0.012 | 0.252 | |
| u12Boxplot | 0.145 | 0.000 | 0.145 | |
| u12BoxplotNb | 0.185 | 0.000 | 0.185 | |
| u12DensityPlot | 0.463 | 0.000 | 0.463 | |
| u12Index | 0.013 | 0.000 | 0.013 | |
| u12NbIndex | 0.133 | 0.000 | 0.133 | |
| unionRefTr | 0.024 | 0.000 | 0.024 | |
| updateRowDataCol | 0.06 | 0.00 | 0.06 | |