| Back to Multiple platform build/check report for BioC 3.11 | 
 | 
This page was generated on 2020-10-17 11:56:52 -0400 (Sat, 17 Oct 2020).
| TO THE DEVELOPERS/MAINTAINERS OF THE ImmuneSpaceR PACKAGE: Please make sure to use the following settings in order to reproduce any error or warning you see on this page. | 
| Package 869/1905 | Hostname | OS / Arch | INSTALL | BUILD | CHECK | BUILD BIN | ||||||
| ImmuneSpaceR 1.16.0 ImmuneSpace Package Maintainer 
 | malbec2 | Linux (Ubuntu 18.04.4 LTS) / x86_64 | OK | OK | OK |  | ||||||
| tokay2 | Windows Server 2012 R2 Standard / x64 | OK | OK | OK | [ OK ] |  | ||||||
| machv2 | macOS 10.14.6 Mojave / x86_64 | OK | OK | OK | OK |  | 
| Package: ImmuneSpaceR | 
| Version: 1.16.0 | 
| Command: rm -rf ImmuneSpaceR.buildbin-libdir && mkdir ImmuneSpaceR.buildbin-libdir && C:\Users\biocbuild\bbs-3.11-bioc\R\bin\R.exe CMD INSTALL --merge-multiarch --build --library=ImmuneSpaceR.buildbin-libdir ImmuneSpaceR_1.16.0.tar.gz | 
| StartedAt: 2020-10-17 10:48:11 -0400 (Sat, 17 Oct 2020) | 
| EndedAt: 2020-10-17 10:48:57 -0400 (Sat, 17 Oct 2020) | 
| EllapsedTime: 46.4 seconds | 
| RetCode: 0 | 
| Status: OK | 
| PackageFile: ImmuneSpaceR_1.16.0.zip | 
| PackageFileSize: 756.5 KiB | 
##############################################################################
##############################################################################
###
### Running command:
###
###   rm -rf ImmuneSpaceR.buildbin-libdir && mkdir ImmuneSpaceR.buildbin-libdir && C:\Users\biocbuild\bbs-3.11-bioc\R\bin\R.exe CMD INSTALL --merge-multiarch --build --library=ImmuneSpaceR.buildbin-libdir ImmuneSpaceR_1.16.0.tar.gz
###
##############################################################################
##############################################################################
install for i386
* installing *source* package 'ImmuneSpaceR' ...
** using staged installation
** R
** inst
** byte-compile and prepare package for lazy loading
** help
*** installing help indices
  converting help for package 'ImmuneSpaceR'
    finding HTML links ... done
    CreateConnection                        html  
    ISpalette                               html  
    ImmuneSpaceConnection                   html  
    ImmuneSpaceR-package                    html  
    check_netrc                             html  
    interactive_netrc                       html  
    loadConnection                          html  
    template_IS                             html  
    theme_IS                                html  
    write_netrc                             html  
*** copying figures
** building package indices
** installing vignettes
** testing if installed package can be loaded from temporary location
** testing if installed package can be loaded from final location
** testing if installed package keeps a record of temporary installation path
install for x64
* installing *source* package 'ImmuneSpaceR' ...
** testing if installed package can be loaded
* MD5 sums
packaged installation of 'ImmuneSpaceR' as ImmuneSpaceR_1.16.0.zip
* DONE (ImmuneSpaceR)