| Back to Multiple platform build/check report for BioC 3.11 |
|
This page was generated on 2020-07-07 14:00:09 -0400 (Tue, 07 Jul 2020).
| TO THE DEVELOPERS/MAINTAINERS OF THE IgGeneUsage PACKAGE: Please make sure to use the following settings in order to reproduce any error or warning you see on this page. |
| Package 861/1905 | Hostname | OS / Arch | INSTALL | BUILD | CHECK | BUILD BIN | ||||||
| IgGeneUsage 1.2.1 Simo Kitanovski
| malbec2 | Linux (Ubuntu 18.04.4 LTS) / x86_64 | OK | OK | OK | |||||||
| tokay2 | Windows Server 2012 R2 Standard / x64 | OK | OK | OK | [ OK ] | |||||||
| machv2 | macOS 10.14.6 Mojave / x86_64 | OK | OK | OK | OK |
| Package: IgGeneUsage |
| Version: 1.2.1 |
| Command: rm -rf IgGeneUsage.buildbin-libdir && mkdir IgGeneUsage.buildbin-libdir && C:\Users\biocbuild\bbs-3.11-bioc\R\bin\R.exe CMD INSTALL --merge-multiarch --build --library=IgGeneUsage.buildbin-libdir IgGeneUsage_1.2.1.tar.gz |
| StartedAt: 2020-07-07 13:05:13 -0400 (Tue, 07 Jul 2020) |
| EndedAt: 2020-07-07 13:05:59 -0400 (Tue, 07 Jul 2020) |
| EllapsedTime: 45.2 seconds |
| RetCode: 0 |
| Status: OK |
| PackageFile: IgGeneUsage_1.2.1.zip |
| PackageFileSize: 824.1 KiB |
##############################################################################
##############################################################################
###
### Running command:
###
### rm -rf IgGeneUsage.buildbin-libdir && mkdir IgGeneUsage.buildbin-libdir && C:\Users\biocbuild\bbs-3.11-bioc\R\bin\R.exe CMD INSTALL --merge-multiarch --build --library=IgGeneUsage.buildbin-libdir IgGeneUsage_1.2.1.tar.gz
###
##############################################################################
##############################################################################
install for i386
* installing *source* package 'IgGeneUsage' ...
** using staged installation
** R
** data
*** moving datasets to lazyload DB
** inst
** byte-compile and prepare package for lazy loading
** help
*** installing help indices
converting help for package 'IgGeneUsage'
finding HTML links ... done
DGU html
IGHV_Epitopes html
IGHV_HCV html
Ig html
Ig_SE html
LOO html
** building package indices
** installing vignettes
** testing if installed package can be loaded from temporary location
** testing if installed package can be loaded from final location
** testing if installed package keeps a record of temporary installation path
install for x64
* installing *source* package 'IgGeneUsage' ...
** testing if installed package can be loaded
* MD5 sums
packaged installation of 'IgGeneUsage' as IgGeneUsage_1.2.1.zip
* DONE (IgGeneUsage)