| Back to Multiple platform build/check report for BioC 3.11 |
|
This page was generated on 2020-10-17 11:56:51 -0400 (Sat, 17 Oct 2020).
| TO THE DEVELOPERS/MAINTAINERS OF THE IdeoViz PACKAGE: Please make sure to use the following settings in order to reproduce any error or warning you see on this page. |
| Package 855/1905 | Hostname | OS / Arch | INSTALL | BUILD | CHECK | BUILD BIN | ||||||
| IdeoViz 1.24.0 Shraddha Pai
| malbec2 | Linux (Ubuntu 18.04.4 LTS) / x86_64 | OK | OK | WARNINGS | |||||||
| tokay2 | Windows Server 2012 R2 Standard / x64 | OK | OK | WARNINGS | [ OK ] | |||||||
| machv2 | macOS 10.14.6 Mojave / x86_64 | OK | OK | WARNINGS | OK |
| Package: IdeoViz |
| Version: 1.24.0 |
| Command: rm -rf IdeoViz.buildbin-libdir && mkdir IdeoViz.buildbin-libdir && C:\Users\biocbuild\bbs-3.11-bioc\R\bin\R.exe CMD INSTALL --merge-multiarch --build --library=IdeoViz.buildbin-libdir IdeoViz_1.24.0.tar.gz |
| StartedAt: 2020-10-17 10:47:27 -0400 (Sat, 17 Oct 2020) |
| EndedAt: 2020-10-17 10:48:15 -0400 (Sat, 17 Oct 2020) |
| EllapsedTime: 47.1 seconds |
| RetCode: 0 |
| Status: OK |
| PackageFile: IdeoViz_1.24.0.zip |
| PackageFileSize: 1.047 MiB |
##############################################################################
##############################################################################
###
### Running command:
###
### rm -rf IdeoViz.buildbin-libdir && mkdir IdeoViz.buildbin-libdir && C:\Users\biocbuild\bbs-3.11-bioc\R\bin\R.exe CMD INSTALL --merge-multiarch --build --library=IdeoViz.buildbin-libdir IdeoViz_1.24.0.tar.gz
###
##############################################################################
##############################################################################
install for i386
* installing *source* package 'IdeoViz' ...
** using staged installation
** R
** data
** inst
** byte-compile and prepare package for lazy loading
** help
*** installing help indices
converting help for package 'IdeoViz'
finding HTML links ... done
GSM733664_broadPeaks html
IdeoViz-package html
avgByBin html
binned_fullGenome html
binned_multiSeries html
binned_singleSeries html
getBins html
getIdeo html
hg18_ideo html
plotChromValuePair html
plotOnIdeo html
wins html
wins_discrete html
wins_entiregenome html
** building package indices
** installing vignettes
** testing if installed package can be loaded from temporary location
** testing if installed package can be loaded from final location
** testing if installed package keeps a record of temporary installation path
install for x64
* installing *source* package 'IdeoViz' ...
** testing if installed package can be loaded
* MD5 sums
packaged installation of 'IdeoViz' as IdeoViz_1.24.0.zip
* DONE (IdeoViz)