| Back to Multiple platform build/check report for BioC 3.11 |
|
This page was generated on 2020-10-17 11:58:42 -0400 (Sat, 17 Oct 2020).
| TO THE DEVELOPERS/MAINTAINERS OF THE HumanTranscriptomeCompendium PACKAGE: Please make sure to use the following settings in order to reproduce any error or warning you see on this page. |
| Package 836/1905 | Hostname | OS / Arch | INSTALL | BUILD | CHECK | BUILD BIN | ||||||
| HumanTranscriptomeCompendium 1.4.0 VJ Carey
| malbec2 | Linux (Ubuntu 18.04.4 LTS) / x86_64 | OK | OK | OK | |||||||
| tokay2 | Windows Server 2012 R2 Standard / x64 | OK | OK | OK | OK | |||||||
| machv2 | macOS 10.14.6 Mojave / x86_64 | OK | OK | [ OK ] | OK |
| Package: HumanTranscriptomeCompendium |
| Version: 1.4.0 |
| Command: /Library/Frameworks/R.framework/Versions/Current/Resources/bin/R CMD check --install=check:HumanTranscriptomeCompendium.install-out.txt --library=/Library/Frameworks/R.framework/Versions/Current/Resources/library --no-vignettes --timings HumanTranscriptomeCompendium_1.4.0.tar.gz |
| StartedAt: 2020-10-17 02:05:40 -0400 (Sat, 17 Oct 2020) |
| EndedAt: 2020-10-17 02:10:03 -0400 (Sat, 17 Oct 2020) |
| EllapsedTime: 263.3 seconds |
| RetCode: 0 |
| Status: OK |
| CheckDir: HumanTranscriptomeCompendium.Rcheck |
| Warnings: 0 |
##############################################################################
##############################################################################
###
### Running command:
###
### /Library/Frameworks/R.framework/Versions/Current/Resources/bin/R CMD check --install=check:HumanTranscriptomeCompendium.install-out.txt --library=/Library/Frameworks/R.framework/Versions/Current/Resources/library --no-vignettes --timings HumanTranscriptomeCompendium_1.4.0.tar.gz
###
##############################################################################
##############################################################################
* using log directory ‘/Users/biocbuild/bbs-3.11-bioc/meat/HumanTranscriptomeCompendium.Rcheck’
* using R version 4.0.3 (2020-10-10)
* using platform: x86_64-apple-darwin17.0 (64-bit)
* using session charset: UTF-8
* using option ‘--no-vignettes’
* checking for file ‘HumanTranscriptomeCompendium/DESCRIPTION’ ... OK
* this is package ‘HumanTranscriptomeCompendium’ version ‘1.4.0’
* package encoding: UTF-8
* checking package namespace information ... OK
* checking package dependencies ... OK
* checking if this is a source package ... OK
* checking if there is a namespace ... OK
* checking for hidden files and directories ... OK
* checking for portable file names ... OK
* checking for sufficient/correct file permissions ... OK
* checking whether package ‘HumanTranscriptomeCompendium’ can be installed ... OK
* checking installed package size ... OK
* checking package directory ... OK
* checking ‘build’ directory ... OK
* checking DESCRIPTION meta-information ... OK
* checking top-level files ... OK
* checking for left-over files ... OK
* checking index information ... OK
* checking package subdirectories ... OK
* checking R files for non-ASCII characters ... OK
* checking R files for syntax errors ... OK
* checking whether the package can be loaded ... OK
* checking whether the package can be loaded with stated dependencies ... OK
* checking whether the package can be unloaded cleanly ... OK
* checking whether the namespace can be loaded with stated dependencies ... OK
* checking whether the namespace can be unloaded cleanly ... OK
* checking dependencies in R code ... OK
* checking S3 generic/method consistency ... OK
* checking replacement functions ... OK
* checking foreign function calls ... OK
* checking R code for possible problems ... OK
* checking Rd files ... OK
* checking Rd metadata ... OK
* checking Rd cross-references ... OK
* checking for missing documentation entries ... OK
* checking for code/documentation mismatches ... OK
* checking Rd \usage sections ... OK
* checking Rd contents ... OK
* checking for unstated dependencies in examples ... OK
* checking contents of ‘data’ directory ... OK
* checking data for non-ASCII characters ... OK
* checking data for ASCII and uncompressed saves ... OK
* checking files in ‘vignettes’ ... OK
* checking examples ... OK
Examples with CPU (user + system) or elapsed time > 5s
user system elapsed
htx_query_by_text 10.028 0.168 10.495
htx_query_by_study_accession 10.034 0.115 10.246
* checking for unstated dependencies in ‘tests’ ... OK
* checking tests ...
Running ‘testthat.R’
OK
* checking for unstated dependencies in vignettes ... OK
* checking package vignettes in ‘inst/doc’ ... OK
* checking running R code from vignettes ... SKIPPED
* checking re-building of vignette outputs ... SKIPPED
* checking PDF version of manual ... OK
* DONE
Status: OK
HumanTranscriptomeCompendium.Rcheck/00install.out
############################################################################## ############################################################################## ### ### Running command: ### ### /Library/Frameworks/R.framework/Versions/Current/Resources/bin/R CMD INSTALL HumanTranscriptomeCompendium ### ############################################################################## ############################################################################## * installing to library ‘/Library/Frameworks/R.framework/Versions/4.0/Resources/library’ * installing *source* package ‘HumanTranscriptomeCompendium’ ... ** using staged installation ** R ** data *** moving datasets to lazyload DB ** inst ** byte-compile and prepare package for lazy loading ** help *** installing help indices ** building package indices ** installing vignettes ** testing if installed package can be loaded from temporary location ** testing if installed package can be loaded from final location ** testing if installed package keeps a record of temporary installation path * DONE (HumanTranscriptomeCompendium)
HumanTranscriptomeCompendium.Rcheck/tests/testthat.Rout
R version 4.0.3 (2020-10-10) -- "Bunny-Wunnies Freak Out"
Copyright (C) 2020 The R Foundation for Statistical Computing
Platform: x86_64-apple-darwin17.0 (64-bit)
R is free software and comes with ABSOLUTELY NO WARRANTY.
You are welcome to redistribute it under certain conditions.
Type 'license()' or 'licence()' for distribution details.
R is a collaborative project with many contributors.
Type 'contributors()' for more information and
'citation()' on how to cite R or R packages in publications.
Type 'demo()' for some demos, 'help()' for on-line help, or
'help.start()' for an HTML browser interface to help.
Type 'q()' to quit R.
> library(testthat)
> library(HumanTranscriptomeCompendium)
>
> test_check("HumanTranscriptomeCompendium")
══ testthat results ═══════════════════════════════════════════════════════════
[ OK: 8 | SKIPPED: 0 | WARNINGS: 0 | FAILED: 0 ]
>
> proc.time()
user system elapsed
50.671 1.277 52.071
HumanTranscriptomeCompendium.Rcheck/HumanTranscriptomeCompendium-Ex.timings
| name | user | system | elapsed | |
| HumanTranscriptomeCompendium.colnames | 0.109 | 0.009 | 0.118 | |
| addRD | 0.000 | 0.000 | 0.001 | |
| ca43k | 0.001 | 0.000 | 0.002 | |
| get_ds4841 | 4.476 | 0.166 | 4.648 | |
| htx_app | 0.001 | 0.000 | 0.001 | |
| htx_load | 0.002 | 0.000 | 0.002 | |
| htx_query_by_study_accession | 10.034 | 0.115 | 10.246 | |
| htx_query_by_text | 10.028 | 0.168 | 10.495 | |
| load_bigrnaFiles | 0.000 | 0.001 | 0.001 | |
| load_experTable | 0.001 | 0.000 | 0.000 | |
| load_studTable | 0.000 | 0.001 | 0.000 | |
| path_doc4842 | 0.598 | 0.014 | 0.613 | |
| procExpToGene | 0.001 | 0.000 | 0.001 | |
| tx2gene_gencode27 | 0.525 | 0.018 | 0.546 | |
| uniqueAcc_120518 | 0.075 | 0.004 | 0.079 | |