| Back to Multiple platform build/check report for BioC 3.11 |
|
This page was generated on 2020-10-17 11:56:49 -0400 (Sat, 17 Oct 2020).
| TO THE DEVELOPERS/MAINTAINERS OF THE HilbertCurve PACKAGE: Please make sure to use the following settings in order to reproduce any error or warning you see on this page. |
| Package 819/1905 | Hostname | OS / Arch | INSTALL | BUILD | CHECK | BUILD BIN | ||||||
| HilbertCurve 1.18.0 Zuguang Gu
| malbec2 | Linux (Ubuntu 18.04.4 LTS) / x86_64 | OK | OK | OK | |||||||
| tokay2 | Windows Server 2012 R2 Standard / x64 | OK | OK | OK | [ OK ] | |||||||
| machv2 | macOS 10.14.6 Mojave / x86_64 | OK | OK | OK | OK |
| Package: HilbertCurve |
| Version: 1.18.0 |
| Command: rm -rf HilbertCurve.buildbin-libdir && mkdir HilbertCurve.buildbin-libdir && C:\Users\biocbuild\bbs-3.11-bioc\R\bin\R.exe CMD INSTALL --merge-multiarch --build --library=HilbertCurve.buildbin-libdir HilbertCurve_1.18.0.tar.gz |
| StartedAt: 2020-10-17 10:45:15 -0400 (Sat, 17 Oct 2020) |
| EndedAt: 2020-10-17 10:45:51 -0400 (Sat, 17 Oct 2020) |
| EllapsedTime: 36.5 seconds |
| RetCode: 0 |
| Status: OK |
| PackageFile: HilbertCurve_1.18.0.zip |
| PackageFileSize: 5.177 MiB |
##############################################################################
##############################################################################
###
### Running command:
###
### rm -rf HilbertCurve.buildbin-libdir && mkdir HilbertCurve.buildbin-libdir && C:\Users\biocbuild\bbs-3.11-bioc\R\bin\R.exe CMD INSTALL --merge-multiarch --build --library=HilbertCurve.buildbin-libdir HilbertCurve_1.18.0.tar.gz
###
##############################################################################
##############################################################################
install for i386
* installing *source* package 'HilbertCurve' ...
** using staged installation
** R
** inst
** byte-compile and prepare package for lazy loading
** help
*** installing help indices
converting help for package 'HilbertCurve'
finding HTML links ... done
GenomicHilbertCurve-class html
GenomicHilbertCurve html
HilbertCurve-class html
HilbertCurve html
default_overlay html
hc_centered_text-HilbertCurve-method html
hc_layer-GenomicHilbertCurve-method html
hc_layer-HilbertCurve-method html
hc_layer-dispatch html
hc_level-HilbertCurve-method html
hc_map-GenomicHilbertCurve-method html
hc_normal_points-HilbertCurve-method html
hc_offset-HilbertCurve-method html
hc_png-HilbertCurve-method html
hc_points-GenomicHilbertCurve-method html
hc_points-HilbertCurve-method html
hc_points-dispatch html
hc_polygon-GenomicHilbertCurve-method html
hc_polygon-HilbertCurve-method html
hc_polygon-dispatch html
hc_rect-GenomicHilbertCurve-method html
hc_rect-HilbertCurve-method html
hc_rect-dispatch html
hc_segmented_points-HilbertCurve-method
html
hc_segments-GenomicHilbertCurve-method
html
hc_segments-HilbertCurve-method html
hc_segments-dispatch html
hc_text-GenomicHilbertCurve-method html
hc_text-HilbertCurve-method html
hc_text-dispatch html
is_white html
show-HilbertCurve-method html
unzoom-HilbertCurve-method html
zoom-HilbertCurve-method html
** building package indices
** installing vignettes
** testing if installed package can be loaded from temporary location
** testing if installed package can be loaded from final location
** testing if installed package keeps a record of temporary installation path
install for x64
* installing *source* package 'HilbertCurve' ...
** testing if installed package can be loaded
* MD5 sums
packaged installation of 'HilbertCurve' as HilbertCurve_1.18.0.zip
* DONE (HilbertCurve)