| Back to Multiple platform build/check report for BioC 3.11 |
|
This page was generated on 2020-10-17 11:56:48 -0400 (Sat, 17 Oct 2020).
| TO THE DEVELOPERS/MAINTAINERS OF THE HCABrowser PACKAGE: Please make sure to use the following settings in order to reproduce any error or warning you see on this page. |
| Package 803/1905 | Hostname | OS / Arch | INSTALL | BUILD | CHECK | BUILD BIN | ||||||
| HCABrowser 1.4.0 Bioconductor Package Maintainer
| malbec2 | Linux (Ubuntu 18.04.4 LTS) / x86_64 | OK | OK | OK | |||||||
| tokay2 | Windows Server 2012 R2 Standard / x64 | OK | OK | OK | [ OK ] | |||||||
| machv2 | macOS 10.14.6 Mojave / x86_64 | OK | OK | OK | OK |
| Package: HCABrowser |
| Version: 1.4.0 |
| Command: rm -rf HCABrowser.buildbin-libdir && mkdir HCABrowser.buildbin-libdir && C:\Users\biocbuild\bbs-3.11-bioc\R\bin\R.exe CMD INSTALL --merge-multiarch --build --library=HCABrowser.buildbin-libdir HCABrowser_1.4.0.tar.gz |
| StartedAt: 2020-10-17 10:44:14 -0400 (Sat, 17 Oct 2020) |
| EndedAt: 2020-10-17 10:44:34 -0400 (Sat, 17 Oct 2020) |
| EllapsedTime: 20.1 seconds |
| RetCode: 0 |
| Status: OK |
| PackageFile: HCABrowser_1.4.0.zip |
| PackageFileSize: 574.8 KiB |
##############################################################################
##############################################################################
###
### Running command:
###
### rm -rf HCABrowser.buildbin-libdir && mkdir HCABrowser.buildbin-libdir && C:\Users\biocbuild\bbs-3.11-bioc\R\bin\R.exe CMD INSTALL --merge-multiarch --build --library=HCABrowser.buildbin-libdir HCABrowser_1.4.0.tar.gz
###
##############################################################################
##############################################################################
install for i386
* installing *source* package 'HCABrowser' ...
** using staged installation
** R
** inst
** byte-compile and prepare package for lazy loading
Creating a new generic function for 'activate' in package 'HCABrowser'
** help
*** installing help indices
converting help for package 'HCABrowser'
finding HTML links ... done
HCABrowser-class html
HCABrowser html
activate html
fields html
filter.HCABrowser html
hca-api-methods html
nextResults html
per_page html
pullBundles html
pullFiles html
resetEsQuery html
results-SearchResult-method html
results html
select.HCABrowser html
show-HCABrowser-method html
show-SearchResult-method html
showBundles html
undoEsQuery html
values-HCABrowser-method html
** building package indices
** installing vignettes
** testing if installed package can be loaded from temporary location
** testing if installed package can be loaded from final location
** testing if installed package keeps a record of temporary installation path
install for x64
* installing *source* package 'HCABrowser' ...
** testing if installed package can be loaded
* MD5 sums
packaged installation of 'HCABrowser' as HCABrowser_1.4.0.zip
* DONE (HCABrowser)