| Back to Multiple platform build/check report for BioC 3.11 |
|
This page was generated on 2020-10-17 11:58:35 -0400 (Sat, 17 Oct 2020).
| TO THE DEVELOPERS/MAINTAINERS OF THE Genominator PACKAGE: Please make sure to use the following settings in order to reproduce any error or warning you see on this page. |
| Package 715/1905 | Hostname | OS / Arch | INSTALL | BUILD | CHECK | BUILD BIN | ||||||
James Bullard
| malbec2 | Linux (Ubuntu 18.04.4 LTS) / x86_64 | ERROR | ERROR | skipped | |||||||
| tokay2 | Windows Server 2012 R2 Standard / x64 | ERROR | ERROR | skipped | skipped | |||||||
| machv2 | macOS 10.14.6 Mojave / x86_64 | [ ERROR ] | ERROR | skipped | skipped |
| Package: Genominator |
| Version: 1.42.0 |
| Command: /Library/Frameworks/R.framework/Versions/Current/Resources/bin/R CMD INSTALL Genominator |
| StartedAt: 2020-10-16 17:38:42 -0400 (Fri, 16 Oct 2020) |
| EndedAt: 2020-10-16 17:38:43 -0400 (Fri, 16 Oct 2020) |
| EllapsedTime: 0.7 seconds |
| RetCode: 1 |
| Status: ERROR |
############################################################################## ############################################################################## ### ### Running command: ### ### /Library/Frameworks/R.framework/Versions/Current/Resources/bin/R CMD INSTALL Genominator ### ############################################################################## ############################################################################## * installing to library ‘/Library/Frameworks/R.framework/Versions/4.0/Resources/library’ ERROR: dependency ‘GenomeGraphs’ is not available for package ‘Genominator’ * removing ‘/Library/Frameworks/R.framework/Versions/4.0/Resources/library/Genominator’