| Back to Multiple platform build/check report for BioC 3.11 |
|
This page was generated on 2020-10-17 11:54:50 -0400 (Sat, 17 Oct 2020).
| TO THE DEVELOPERS/MAINTAINERS OF THE GeneStructureTools PACKAGE: Please make sure to use the following settings in order to reproduce any error or warning you see on this page. |
| Package 693/1905 | Hostname | OS / Arch | INSTALL | BUILD | CHECK | BUILD BIN | ||||||
| GeneStructureTools 1.8.0 Beth Signal
| malbec2 | Linux (Ubuntu 18.04.4 LTS) / x86_64 | OK | OK | [ OK ] | |||||||
| tokay2 | Windows Server 2012 R2 Standard / x64 | OK | OK | OK | OK | |||||||
| machv2 | macOS 10.14.6 Mojave / x86_64 | OK | OK | OK | OK |
| Package: GeneStructureTools |
| Version: 1.8.0 |
| Command: /home/biocbuild/bbs-3.11-bioc/R/bin/R CMD check --install=check:GeneStructureTools.install-out.txt --library=/home/biocbuild/bbs-3.11-bioc/R/library --no-vignettes --timings GeneStructureTools_1.8.0.tar.gz |
| StartedAt: 2020-10-17 01:38:13 -0400 (Sat, 17 Oct 2020) |
| EndedAt: 2020-10-17 01:46:15 -0400 (Sat, 17 Oct 2020) |
| EllapsedTime: 482.0 seconds |
| RetCode: 0 |
| Status: OK |
| CheckDir: GeneStructureTools.Rcheck |
| Warnings: 0 |
##############################################################################
##############################################################################
###
### Running command:
###
### /home/biocbuild/bbs-3.11-bioc/R/bin/R CMD check --install=check:GeneStructureTools.install-out.txt --library=/home/biocbuild/bbs-3.11-bioc/R/library --no-vignettes --timings GeneStructureTools_1.8.0.tar.gz
###
##############################################################################
##############################################################################
* using log directory ‘/home/biocbuild/bbs-3.11-bioc/meat/GeneStructureTools.Rcheck’
* using R version 4.0.3 (2020-10-10)
* using platform: x86_64-pc-linux-gnu (64-bit)
* using session charset: UTF-8
* using option ‘--no-vignettes’
* checking for file ‘GeneStructureTools/DESCRIPTION’ ... OK
* checking extension type ... Package
* this is package ‘GeneStructureTools’ version ‘1.8.0’
* package encoding: UTF-8
* checking package namespace information ... OK
* checking package dependencies ... OK
* checking if this is a source package ... OK
* checking if there is a namespace ... OK
* checking for hidden files and directories ... OK
* checking for portable file names ... OK
* checking for sufficient/correct file permissions ... OK
* checking whether package ‘GeneStructureTools’ can be installed ... OK
* checking installed package size ... OK
* checking package directory ... OK
* checking ‘build’ directory ... OK
* checking DESCRIPTION meta-information ... OK
* checking top-level files ... OK
* checking for left-over files ... OK
* checking index information ... OK
* checking package subdirectories ... OK
* checking R files for non-ASCII characters ... OK
* checking R files for syntax errors ... OK
* checking whether the package can be loaded ... OK
* checking whether the package can be loaded with stated dependencies ... OK
* checking whether the package can be unloaded cleanly ... OK
* checking whether the namespace can be loaded with stated dependencies ... OK
* checking whether the namespace can be unloaded cleanly ... OK
* checking dependencies in R code ... OK
* checking S3 generic/method consistency ... OK
* checking replacement functions ... OK
* checking foreign function calls ... OK
* checking R code for possible problems ... OK
* checking Rd files ... OK
* checking Rd metadata ... OK
* checking Rd cross-references ... OK
* checking for missing documentation entries ... OK
* checking for code/documentation mismatches ... OK
* checking Rd \usage sections ... OK
* checking Rd contents ... OK
* checking for unstated dependencies in examples ... OK
* checking files in ‘vignettes’ ... OK
* checking examples ... OK
Examples with CPU (user + system) or elapsed time > 5s
user system elapsed
leafcutterTranscriptChangeSummary 28.228 0.312 28.738
whippetTranscriptChangeSummary 19.167 0.868 20.294
replaceJunction 5.225 0.865 6.108
* checking for unstated dependencies in vignettes ... OK
* checking package vignettes in ‘inst/doc’ ... OK
* checking running R code from vignettes ... SKIPPED
* checking re-building of vignette outputs ... SKIPPED
* checking PDF version of manual ... OK
* DONE
Status: OK
GeneStructureTools.Rcheck/00install.out
############################################################################## ############################################################################## ### ### Running command: ### ### /home/biocbuild/bbs-3.11-bioc/R/bin/R CMD INSTALL GeneStructureTools ### ############################################################################## ############################################################################## * installing to library ‘/home/biocbuild/bbs-3.11-bioc/R/library’ * installing *source* package ‘GeneStructureTools’ ... ** using staged installation ** R ** inst ** byte-compile and prepare package for lazy loading ** help *** installing help indices ** building package indices ** installing vignettes ** testing if installed package can be loaded from temporary location ** testing if installed package can be loaded from final location ** testing if installed package keeps a record of temporary installation path * DONE (GeneStructureTools)
GeneStructureTools.Rcheck/GeneStructureTools-Ex.timings
| name | user | system | elapsed | |
| DEXSeqIdsToGeneIds | 0.006 | 0.000 | 0.006 | |
| UTR2UTR53 | 3.239 | 0.144 | 3.461 | |
| addBroadTypes | 0.170 | 0.000 | 0.171 | |
| addIntronInTranscript | 3.406 | 0.744 | 4.196 | |
| alternativeIntronUsage | 4.581 | 0.009 | 4.589 | |
| annotateGeneModel | 1.074 | 0.000 | 1.160 | |
| attrChangeAltSpliced | 1.958 | 0.674 | 2.711 | |
| coordinates-methods | 0.097 | 0.821 | 0.918 | |
| diffSplicingResults-methods | 0.086 | 0.794 | 0.879 | |
| exonsToTranscripts | 0.370 | 0.016 | 0.386 | |
| filterGtfOverlap | 0.380 | 0.012 | 0.392 | |
| filterWhippetEvents | 0.096 | 0.750 | 0.847 | |
| findDEXexonType | 3.604 | 0.124 | 3.741 | |
| findExonContainingTranscripts | 0.683 | 0.738 | 1.421 | |
| findIntronContainingTranscripts | 1.015 | 0.772 | 1.786 | |
| findJunctionPairs | 1.581 | 0.559 | 2.142 | |
| formatWhippetEvents | 0.017 | 0.056 | 0.072 | |
| getOrfs | 0.807 | 0.044 | 0.851 | |
| getUOrfs | 0.584 | 0.044 | 0.628 | |
| junctions-methods | 0.059 | 0.596 | 0.655 | |
| leafcutterTranscriptChangeSummary | 28.228 | 0.312 | 28.738 | |
| makeGeneModel | 0.173 | 0.000 | 0.174 | |
| maxLocation | 0.003 | 0.000 | 0.003 | |
| orfDiff | 2.300 | 0.612 | 3.057 | |
| orfSimilarity | 0.001 | 0.000 | 0.000 | |
| overlapTypes | 2.584 | 0.008 | 2.592 | |
| readCounts-methods | 0.071 | 0.546 | 0.615 | |
| readWhippetDIFFfiles | 0.005 | 0.078 | 0.083 | |
| readWhippetDataSet | 0.061 | 0.596 | 0.656 | |
| readWhippetJNCfiles | 0.044 | 0.336 | 0.382 | |
| readWhippetPSIfiles | 0.019 | 0.365 | 0.384 | |
| removeDuplicateTranscripts | 0.455 | 0.008 | 0.463 | |
| removeSameExon | 0.354 | 0.028 | 0.382 | |
| removeVersion | 0 | 0 | 0 | |
| reorderExonNumbers | 0.319 | 0.015 | 0.335 | |
| replaceJunction | 5.225 | 0.865 | 6.108 | |
| skipExonInTranscript | 2.398 | 0.809 | 3.209 | |
| summariseExonTypes | 3.873 | 0.036 | 3.914 | |
| transcriptChangeSummary | 2.448 | 0.932 | 3.383 | |
| whippetTranscriptChangeSummary | 19.167 | 0.868 | 20.294 | |