| Back to Multiple platform build/check report for BioC 3.11 | 
 | 
This page was generated on 2020-10-17 11:56:38 -0400 (Sat, 17 Oct 2020).
| TO THE DEVELOPERS/MAINTAINERS OF THE GeneGeneInteR PACKAGE: Please make sure to use the following settings in order to reproduce any error or warning you see on this page. | 
| Package 682/1905 | Hostname | OS / Arch | INSTALL | BUILD | CHECK | BUILD BIN | ||||||
| GeneGeneInteR 1.14.0 Mathieu Emily 
 | malbec2 | Linux (Ubuntu 18.04.4 LTS) / x86_64 | OK | OK | OK |  | ||||||
| tokay2 | Windows Server 2012 R2 Standard / x64 | OK | OK | OK | [ OK ] |  | ||||||
| machv2 | macOS 10.14.6 Mojave / x86_64 | OK | OK | OK | OK |  | 
| Package: GeneGeneInteR | 
| Version: 1.14.0 | 
| Command: rm -rf GeneGeneInteR.buildbin-libdir && mkdir GeneGeneInteR.buildbin-libdir && C:\Users\biocbuild\bbs-3.11-bioc\R\bin\R.exe CMD INSTALL --merge-multiarch --build --library=GeneGeneInteR.buildbin-libdir GeneGeneInteR_1.14.0.tar.gz | 
| StartedAt: 2020-10-17 10:36:04 -0400 (Sat, 17 Oct 2020) | 
| EndedAt: 2020-10-17 10:38:14 -0400 (Sat, 17 Oct 2020) | 
| EllapsedTime: 129.3 seconds | 
| RetCode: 0 | 
| Status: OK | 
| PackageFile: GeneGeneInteR_1.14.0.zip | 
| PackageFileSize: 1.302 MiB | 
##############################################################################
##############################################################################
###
### Running command:
###
###   rm -rf GeneGeneInteR.buildbin-libdir && mkdir GeneGeneInteR.buildbin-libdir && C:\Users\biocbuild\bbs-3.11-bioc\R\bin\R.exe CMD INSTALL --merge-multiarch --build --library=GeneGeneInteR.buildbin-libdir GeneGeneInteR_1.14.0.tar.gz
###
##############################################################################
##############################################################################
install for i386
* installing *source* package 'GeneGeneInteR' ...
** using staged installation
** libs
"C:/rtools40/mingw32/bin/"g++ -std=gnu++11  -I"C:/Users/BIOCBU~1/BBS-3~1.11-/R/include" -DNDEBUG     -I"C:/extsoft/include"     -O2 -Wall  -mfpmath=sse -msse2 -mstackrealign -c chclust.cpp -o chclust.o
C:/rtools40/mingw32/bin/g++ -std=gnu++11 -shared -s -static-libgcc -o GeneGeneInteR.dll tmp.def chclust.o -LC:/extsoft/lib/i386 -LC:/extsoft/lib -LC:/Users/BIOCBU~1/BBS-3~1.11-/R/bin/i386 -lR
installing to C:/Users/biocbuild/bbs-3.11-bioc/meat/GeneGeneInteR.buildbin-libdir/00LOCK-GeneGeneInteR/00new/GeneGeneInteR/libs/i386
** R
** data
*** moving datasets to lazyload DB
** inst
** byte-compile and prepare package for lazy loading
** help
*** installing help indices
  converting help for package 'GeneGeneInteR'
    finding HTML links ... done
    CCA.test                                html  
    CLD.test                                html  
    GBIGM.test                              html  
    GGI                                     html  
    KCCA.test                               html  
    PCA.test                                html  
    PLSPM.test                              html  
    data.SNP                                html  
    gates.test                              html  
    gene.pair                               html  
    importFile                              html  
    imputeSnpMatrix                         html  
    minP.test                               html  
    plot.GGInetwork                         html  
    print.GGItest                           html  
    selectSnps                              html  
    snpMatrixScour                          html  
    summary.GGInetwork                      html  
    summary.GGItest                         html  
    tProd.test                              html  
    tTS.test                                html  
** building package indices
** installing vignettes
** testing if installed package can be loaded from temporary location
** testing if installed package can be loaded from final location
** testing if installed package keeps a record of temporary installation path
install for x64
* installing *source* package 'GeneGeneInteR' ...
** libs
"C:/rtools40/mingw64/bin/"g++ -std=gnu++11  -I"C:/Users/BIOCBU~1/BBS-3~1.11-/R/include" -DNDEBUG     -I"C:/extsoft/include"     -O2 -Wall  -mfpmath=sse -msse2 -mstackrealign -c chclust.cpp -o chclust.o
C:/rtools40/mingw64/bin/g++ -std=gnu++11 -shared -s -static-libgcc -o GeneGeneInteR.dll tmp.def chclust.o -LC:/extsoft/lib/x64 -LC:/extsoft/lib -LC:/Users/BIOCBU~1/BBS-3~1.11-/R/bin/x64 -lR
installing to C:/Users/biocbuild/bbs-3.11-bioc/meat/GeneGeneInteR.buildbin-libdir/GeneGeneInteR/libs/x64
** testing if installed package can be loaded
* MD5 sums
packaged installation of 'GeneGeneInteR' as GeneGeneInteR_1.14.0.zip
* DONE (GeneGeneInteR)