| Back to Multiple platform build/check report for BioC 3.11 |
|
This page was generated on 2020-10-17 11:58:35 -0400 (Sat, 17 Oct 2020).
| TO THE DEVELOPERS/MAINTAINERS OF THE GenVisR PACKAGE: Please make sure to use the following settings in order to reproduce any error or warning you see on this page. |
| Package 720/1905 | Hostname | OS / Arch | INSTALL | BUILD | CHECK | BUILD BIN | ||||||
| GenVisR 1.20.0 Zachary Skidmore
| malbec2 | Linux (Ubuntu 18.04.4 LTS) / x86_64 | OK | OK | OK | |||||||
| tokay2 | Windows Server 2012 R2 Standard / x64 | OK | OK | OK | OK | |||||||
| machv2 | macOS 10.14.6 Mojave / x86_64 | OK | OK | [ OK ] | OK |
| Package: GenVisR |
| Version: 1.20.0 |
| Command: /Library/Frameworks/R.framework/Versions/Current/Resources/bin/R CMD check --install=check:GenVisR.install-out.txt --library=/Library/Frameworks/R.framework/Versions/Current/Resources/library --no-vignettes --timings GenVisR_1.20.0.tar.gz |
| StartedAt: 2020-10-17 01:35:44 -0400 (Sat, 17 Oct 2020) |
| EndedAt: 2020-10-17 01:48:16 -0400 (Sat, 17 Oct 2020) |
| EllapsedTime: 751.2 seconds |
| RetCode: 0 |
| Status: OK |
| CheckDir: GenVisR.Rcheck |
| Warnings: 0 |
##############################################################################
##############################################################################
###
### Running command:
###
### /Library/Frameworks/R.framework/Versions/Current/Resources/bin/R CMD check --install=check:GenVisR.install-out.txt --library=/Library/Frameworks/R.framework/Versions/Current/Resources/library --no-vignettes --timings GenVisR_1.20.0.tar.gz
###
##############################################################################
##############################################################################
* using log directory ‘/Users/biocbuild/bbs-3.11-bioc/meat/GenVisR.Rcheck’
* using R version 4.0.3 (2020-10-10)
* using platform: x86_64-apple-darwin17.0 (64-bit)
* using session charset: UTF-8
* using option ‘--no-vignettes’
* checking for file ‘GenVisR/DESCRIPTION’ ... OK
* this is package ‘GenVisR’ version ‘1.20.0’
* package encoding: UTF-8
* checking package namespace information ... OK
* checking package dependencies ... OK
* checking if this is a source package ... OK
* checking if there is a namespace ... OK
* checking for hidden files and directories ... OK
* checking for portable file names ... OK
* checking for sufficient/correct file permissions ... OK
* checking whether package ‘GenVisR’ can be installed ... OK
* checking installed package size ... OK
* checking package directory ... OK
* checking ‘build’ directory ... OK
* checking DESCRIPTION meta-information ... OK
* checking top-level files ... OK
* checking for left-over files ... OK
* checking index information ... OK
* checking package subdirectories ... OK
* checking R files for non-ASCII characters ... OK
* checking R files for syntax errors ... OK
* checking whether the package can be loaded ... OK
* checking whether the package can be loaded with stated dependencies ... OK
* checking whether the package can be unloaded cleanly ... OK
* checking whether the namespace can be loaded with stated dependencies ... OK
* checking whether the namespace can be unloaded cleanly ... OK
* checking dependencies in R code ... NOTE
Namespace in Imports field not imported from: ‘reshape2’
All declared Imports should be used.
* checking S3 generic/method consistency ... OK
* checking replacement functions ... OK
* checking foreign function calls ... OK
* checking R code for possible problems ... NOTE
setTierTwo,data.table : a: no visible binding for global variable ‘tmp’
toLolliplot,GMS: no visible binding for global variable ‘missingINdex’
Undefined global functions or variables:
missingINdex tmp
* checking Rd files ... OK
* checking Rd metadata ... OK
* checking Rd cross-references ... OK
* checking for missing documentation entries ... OK
* checking for code/documentation mismatches ... OK
* checking Rd \usage sections ... OK
* checking Rd contents ... OK
* checking for unstated dependencies in examples ... OK
* checking contents of ‘data’ directory ... OK
* checking data for non-ASCII characters ... OK
* checking data for ASCII and uncompressed saves ... OK
* checking files in ‘vignettes’ ... OK
* checking examples ... OK
Examples with CPU (user + system) or elapsed time > 5s
user system elapsed
Lolliplot-class 34.221 1.000 46.013
lolliplot 12.429 0.082 22.919
geneViz 9.843 0.177 10.037
genCov 9.422 0.380 9.814
cnFreq 9.245 0.041 9.294
cnSpec 6.278 0.011 6.294
lohSpec 5.540 0.097 5.642
* checking for unstated dependencies in ‘tests’ ... OK
* checking tests ...
Running ‘testthat.R’
OK
* checking for unstated dependencies in vignettes ... OK
* checking package vignettes in ‘inst/doc’ ... OK
* checking running R code from vignettes ... SKIPPED
* checking re-building of vignette outputs ... SKIPPED
* checking PDF version of manual ... OK
* DONE
Status: 2 NOTEs
See
‘/Users/biocbuild/bbs-3.11-bioc/meat/GenVisR.Rcheck/00check.log’
for details.
GenVisR.Rcheck/00install.out
############################################################################## ############################################################################## ### ### Running command: ### ### /Library/Frameworks/R.framework/Versions/Current/Resources/bin/R CMD INSTALL GenVisR ### ############################################################################## ############################################################################## * installing to library ‘/Library/Frameworks/R.framework/Versions/4.0/Resources/library’ * installing *source* package ‘GenVisR’ ... ** using staged installation ** R ** data *** moving datasets to lazyload DB ** inst ** byte-compile and prepare package for lazy loading ** help *** installing help indices ** building package indices ** installing vignettes ** testing if installed package can be loaded from temporary location ** testing if installed package can be loaded from final location ** testing if installed package keeps a record of temporary installation path * DONE (GenVisR)
GenVisR.Rcheck/tests/testthat.Rout
R version 4.0.3 (2020-10-10) -- "Bunny-Wunnies Freak Out"
Copyright (C) 2020 The R Foundation for Statistical Computing
Platform: x86_64-apple-darwin17.0 (64-bit)
R is free software and comes with ABSOLUTELY NO WARRANTY.
You are welcome to redistribute it under certain conditions.
Type 'license()' or 'licence()' for distribution details.
R is a collaborative project with many contributors.
Type 'contributors()' for more information and
'citation()' on how to cite R or R packages in publications.
Type 'demo()' for some demos, 'help()' for on-line help, or
'help.start()' for an HTML browser interface to help.
Type 'q()' to quit R.
> library(testthat)
> library(GenVisR)
>
> test_check("GenVisR")
══ testthat results ═══════════════════════════════════════════════════════════
[ OK: 651 | SKIPPED: 54 | WARNINGS: 13 | FAILED: 0 ]
>
> proc.time()
user system elapsed
155.630 3.795 192.056
GenVisR.Rcheck/GenVisR-Ex.timings
| name | user | system | elapsed | |
| Lolliplot-class | 34.221 | 1.000 | 46.013 | |
| TvTi | 2.646 | 0.020 | 2.667 | |
| Waterfall-class | 0.574 | 0.003 | 0.577 | |
| cnFreq | 9.245 | 0.041 | 9.294 | |
| cnSpec | 6.278 | 0.011 | 6.294 | |
| cnView | 0.783 | 0.004 | 0.787 | |
| compIdent | 2.667 | 0.130 | 2.799 | |
| covBars | 1.059 | 0.006 | 1.066 | |
| genCov | 9.422 | 0.380 | 9.814 | |
| geneViz | 9.843 | 0.177 | 10.037 | |
| ideoView | 0.508 | 0.002 | 0.510 | |
| lohSpec | 5.540 | 0.097 | 5.642 | |
| lohView | 0.791 | 0.002 | 0.795 | |
| lolliplot | 12.429 | 0.082 | 22.919 | |
| waterfall | 1.416 | 0.004 | 1.421 | |