| Back to Multiple platform build/check report for BioC 3.11 | 
 | 
This page was generated on 2020-10-17 11:56:47 -0400 (Sat, 17 Oct 2020).
| TO THE DEVELOPERS/MAINTAINERS OF THE GSEABase PACKAGE: Please make sure to use the following settings in order to reproduce any error or warning you see on this page. | 
| Package 785/1905 | Hostname | OS / Arch | INSTALL | BUILD | CHECK | BUILD BIN | ||||||
| GSEABase 1.50.1 Bioconductor Package Maintainer 
 | malbec2 | Linux (Ubuntu 18.04.4 LTS) / x86_64 | OK | OK | OK |  | ||||||
| tokay2 | Windows Server 2012 R2 Standard / x64 | OK | OK | OK | [ OK ] |  | ||||||
| machv2 | macOS 10.14.6 Mojave / x86_64 | OK | OK | OK | OK |  | 
| Package: GSEABase | 
| Version: 1.50.1 | 
| Command: rm -rf GSEABase.buildbin-libdir && mkdir GSEABase.buildbin-libdir && C:\Users\biocbuild\bbs-3.11-bioc\R\bin\R.exe CMD INSTALL --merge-multiarch --build --library=GSEABase.buildbin-libdir GSEABase_1.50.1.tar.gz | 
| StartedAt: 2020-10-17 10:43:00 -0400 (Sat, 17 Oct 2020) | 
| EndedAt: 2020-10-17 10:43:40 -0400 (Sat, 17 Oct 2020) | 
| EllapsedTime: 39.8 seconds | 
| RetCode: 0 | 
| Status: OK | 
| PackageFile: GSEABase_1.50.1.zip | 
| PackageFileSize: 935.3 KiB | 
##############################################################################
##############################################################################
###
### Running command:
###
###   rm -rf GSEABase.buildbin-libdir && mkdir GSEABase.buildbin-libdir && C:\Users\biocbuild\bbs-3.11-bioc\R\bin\R.exe CMD INSTALL --merge-multiarch --build --library=GSEABase.buildbin-libdir GSEABase_1.50.1.tar.gz
###
##############################################################################
##############################################################################
install for i386
* installing *source* package 'GSEABase' ...
** using staged installation
** R
** inst
** byte-compile and prepare package for lazy loading
** help
*** installing help indices
  converting help for package 'GSEABase'
    finding HTML links ... done
    CollectionType-class                    html  
    CollectionType-constructors             html  
    GSEABase-package                        html  
    GeneColorSet-class                      html  
    GeneColorSet-methods                    html  
    GeneIdentifierType-class                html  
    GeneIdentifierType-constructors         html  
    GeneSet-class                           html  
    GeneSet-methods                         html  
    GeneSetCollection-class                 html  
    GeneSetCollection-methods               html  
    OBOCollection-class                     html  
    details-methods                         html  
    getOBOCollection                        html  
    getObjects                              html  
    goSlim-methods                          html  
    incidence-methods                       html  
    mapIdentifiers-methods                  html  
** building package indices
** installing vignettes
** testing if installed package can be loaded from temporary location
** testing if installed package can be loaded from final location
** testing if installed package keeps a record of temporary installation path
install for x64
* installing *source* package 'GSEABase' ...
** testing if installed package can be loaded
* MD5 sums
packaged installation of 'GSEABase' as GSEABase_1.50.1.zip
* DONE (GSEABase)