| Back to Multiple platform build/check report for BioC 3.11 |
|
This page was generated on 2020-10-17 11:56:45 -0400 (Sat, 17 Oct 2020).
| TO THE DEVELOPERS/MAINTAINERS OF THE GOsummaries PACKAGE: Please make sure to use the following settings in order to reproduce any error or warning you see on this page. |
| Package 759/1905 | Hostname | OS / Arch | INSTALL | BUILD | CHECK | BUILD BIN | ||||||
| GOsummaries 2.24.0 Raivo Kolde
| malbec2 | Linux (Ubuntu 18.04.4 LTS) / x86_64 | OK | OK | OK | |||||||
| tokay2 | Windows Server 2012 R2 Standard / x64 | OK | OK | OK | [ OK ] | |||||||
| machv2 | macOS 10.14.6 Mojave / x86_64 | OK | OK | OK | OK |
| Package: GOsummaries |
| Version: 2.24.0 |
| Command: rm -rf GOsummaries.buildbin-libdir && mkdir GOsummaries.buildbin-libdir && C:\Users\biocbuild\bbs-3.11-bioc\R\bin\R.exe CMD INSTALL --merge-multiarch --build --library=GOsummaries.buildbin-libdir GOsummaries_2.24.0.tar.gz |
| StartedAt: 2020-10-17 10:41:14 -0400 (Sat, 17 Oct 2020) |
| EndedAt: 2020-10-17 10:42:28 -0400 (Sat, 17 Oct 2020) |
| EllapsedTime: 74.4 seconds |
| RetCode: 0 |
| Status: OK |
| PackageFile: GOsummaries_2.24.0.zip |
| PackageFileSize: 3.134 MiB |
##############################################################################
##############################################################################
###
### Running command:
###
### rm -rf GOsummaries.buildbin-libdir && mkdir GOsummaries.buildbin-libdir && C:\Users\biocbuild\bbs-3.11-bioc\R\bin\R.exe CMD INSTALL --merge-multiarch --build --library=GOsummaries.buildbin-libdir GOsummaries_2.24.0.tar.gz
###
##############################################################################
##############################################################################
install for i386
* installing *source* package 'GOsummaries' ...
** using staged installation
** libs
"C:/rtools40/mingw32/bin/"g++ -std=gnu++11 -I"C:/Users/BIOCBU~1/BBS-3~1.11-/R/include" -DNDEBUG -I'C:/Users/biocbuild/bbs-3.11-bioc/R/library/Rcpp/include' -I"C:/extsoft/include" -O2 -Wall -mfpmath=sse -msse2 -mstackrealign -c findCoordinates.cpp -o findCoordinates.o
C:/rtools40/mingw32/bin/g++ -std=gnu++11 -shared -s -static-libgcc -o GOsummaries.dll tmp.def findCoordinates.o -LC:/extsoft/lib/i386 -LC:/extsoft/lib -LC:/Users/BIOCBU~1/BBS-3~1.11-/R/bin/i386 -lR
installing to C:/Users/biocbuild/bbs-3.11-bioc/meat/GOsummaries.buildbin-libdir/00LOCK-GOsummaries/00new/GOsummaries/libs/i386
** R
** data
** inst
** byte-compile and prepare package for lazy loading
** help
*** installing help indices
converting help for package 'GOsummaries'
finding HTML links ... done
GOsummaries-package html
add_expression.gosummaries html
add_to_slot.gosummaries html
customize html
gosummaries.MArrayLM html
finding level-2 HTML links ... done
gosummaries html
gosummaries.kmeans html
gosummaries.matrix html
gosummaries.prcomp html
metabolomic_example html
metagenomic_example html
panel_boxplot html
plot.gosummaries html
plotWordcloud html
tissue_example html
** building package indices
** installing vignettes
** testing if installed package can be loaded from temporary location
** testing if installed package can be loaded from final location
** testing if installed package keeps a record of temporary installation path
install for x64
* installing *source* package 'GOsummaries' ...
** libs
"C:/rtools40/mingw64/bin/"g++ -std=gnu++11 -I"C:/Users/BIOCBU~1/BBS-3~1.11-/R/include" -DNDEBUG -I'C:/Users/biocbuild/bbs-3.11-bioc/R/library/Rcpp/include' -I"C:/extsoft/include" -O2 -Wall -mfpmath=sse -msse2 -mstackrealign -c findCoordinates.cpp -o findCoordinates.o
C:/rtools40/mingw64/bin/g++ -std=gnu++11 -shared -s -static-libgcc -o GOsummaries.dll tmp.def findCoordinates.o -LC:/extsoft/lib/x64 -LC:/extsoft/lib -LC:/Users/BIOCBU~1/BBS-3~1.11-/R/bin/x64 -lR
installing to C:/Users/biocbuild/bbs-3.11-bioc/meat/GOsummaries.buildbin-libdir/GOsummaries/libs/x64
** testing if installed package can be loaded
* MD5 sums
packaged installation of 'GOsummaries' as GOsummaries_2.24.0.zip
* DONE (GOsummaries)