| Back to Multiple platform build/check report for BioC 3.11 |
|
This page was generated on 2020-10-17 11:56:44 -0400 (Sat, 17 Oct 2020).
| TO THE DEVELOPERS/MAINTAINERS OF THE GOSemSim PACKAGE: Please make sure to use the following settings in order to reproduce any error or warning you see on this page. |
| Package 754/1905 | Hostname | OS / Arch | INSTALL | BUILD | CHECK | BUILD BIN | ||||||
| GOSemSim 2.14.2 Guangchuang Yu
| malbec2 | Linux (Ubuntu 18.04.4 LTS) / x86_64 | OK | OK | OK | |||||||
| tokay2 | Windows Server 2012 R2 Standard / x64 | OK | OK | OK | [ OK ] | |||||||
| machv2 | macOS 10.14.6 Mojave / x86_64 | OK | OK | OK | OK |
| Package: GOSemSim |
| Version: 2.14.2 |
| Command: rm -rf GOSemSim.buildbin-libdir && mkdir GOSemSim.buildbin-libdir && C:\Users\biocbuild\bbs-3.11-bioc\R\bin\R.exe CMD INSTALL --merge-multiarch --build --library=GOSemSim.buildbin-libdir GOSemSim_2.14.2.tar.gz |
| StartedAt: 2020-10-17 10:40:54 -0400 (Sat, 17 Oct 2020) |
| EndedAt: 2020-10-17 10:42:01 -0400 (Sat, 17 Oct 2020) |
| EllapsedTime: 66.5 seconds |
| RetCode: 0 |
| Status: OK |
| PackageFile: GOSemSim_2.14.2.zip |
| PackageFileSize: 1.496 MiB |
##############################################################################
##############################################################################
###
### Running command:
###
### rm -rf GOSemSim.buildbin-libdir && mkdir GOSemSim.buildbin-libdir && C:\Users\biocbuild\bbs-3.11-bioc\R\bin\R.exe CMD INSTALL --merge-multiarch --build --library=GOSemSim.buildbin-libdir GOSemSim_2.14.2.tar.gz
###
##############################################################################
##############################################################################
install for i386
* installing *source* package 'GOSemSim' ...
** using staged installation
** libs
"C:/rtools40/mingw32/bin/"g++ -std=gnu++11 -I"C:/Users/BIOCBU~1/BBS-3~1.11-/R/include" -DNDEBUG -I'C:/Users/biocbuild/bbs-3.11-bioc/R/library/Rcpp/include' -I"C:/extsoft/include" -O2 -Wall -mfpmath=sse -msse2 -mstackrealign -c ICmethod.cpp -o ICmethod.o
ICmethod.cpp: In function 'Rcpp::NumericMatrix infoContentMethod_cpp(Rcpp::StringVector&, Rcpp::StringVector&, Rcpp::List&, Rcpp::NumericVector&, const string&, const string&)':
ICmethod.cpp:82:29: warning: comparison of integer expressions of different signedness: 'std::size_t' {aka 'unsigned int'} and 'R_xlen_t' {aka 'int'} [-Wsign-compare]
for (std::size_t i=0; i < ic_.size(); i++ ) {
~~^~~~~~~~~~~~
ICmethod.cpp:88:29: warning: comparison of integer expressions of different signedness: 'std::size_t' {aka 'unsigned int'} and 'R_xlen_t' {aka 'int'} [-Wsign-compare]
for (std::size_t i=0; i < ic_.size(); i++ ) {
~~^~~~~~~~~~~~
ICmethod.cpp:107:29: warning: comparison of integer expressions of different signedness: 'std::size_t' {aka 'unsigned int'} and 'R_xlen_t' {aka 'int'} [-Wsign-compare]
for (std::size_t i=0; i < anc_.size(); i++ ) {
~~^~~~~~~~~~~~~
ICmethod.cpp:120:30: warning: comparison of integer expressions of different signedness: 'std::size_t' {aka 'unsigned int'} and 'R_xlen_t' {aka 'int'} [-Wsign-compare]
for ( std::size_t i = 0; i < id1_.size(); i++ ) {
~~^~~~~~~~~~~~~
ICmethod.cpp:127:34: warning: comparison of integer expressions of different signedness: 'std::size_t' {aka 'unsigned int'} and 'R_xlen_t' {aka 'int'} [-Wsign-compare]
for ( std::size_t j = 0; j < id2_.size(); j++ ) {
~~^~~~~~~~~~~~~
ICmethod.cpp:154:34: warning: comparison of integer expressions of different signedness: 'std::size_t' {aka 'unsigned int'} and 'R_xlen_t' {aka 'int'} [-Wsign-compare]
for ( std::size_t j = 0; j < id2_.size(); j++ ) {
~~^~~~~~~~~~~~~
"C:/rtools40/mingw32/bin/"g++ -std=gnu++11 -I"C:/Users/BIOCBU~1/BBS-3~1.11-/R/include" -DNDEBUG -I'C:/Users/biocbuild/bbs-3.11-bioc/R/library/Rcpp/include' -I"C:/extsoft/include" -O2 -Wall -mfpmath=sse -msse2 -mstackrealign -c RcppExports.cpp -o RcppExports.o
C:/rtools40/mingw32/bin/g++ -std=gnu++11 -shared -s -static-libgcc -o GOSemSim.dll tmp.def ICmethod.o RcppExports.o -LC:/extsoft/lib/i386 -LC:/extsoft/lib -LC:/Users/BIOCBU~1/BBS-3~1.11-/R/bin/i386 -lR
installing to C:/Users/biocbuild/bbs-3.11-bioc/meat/GOSemSim.buildbin-libdir/00LOCK-GOSemSim/00new/GOSemSim/libs/i386
** R
** data
** inst
** byte-compile and prepare package for lazy loading
** help
*** installing help indices
converting help for package 'GOSemSim'
finding HTML links ... done
GOSemSim-package html
GOSemSimDATA-class html
clusterSim html
combineScores html
geneSim html
goSim html
go_term_table html
godata html
infoContentMethod html
load_OrgDb html
mclusterSim html
mgeneSim html
mgoSim html
termSim html
wangMethod_internal html
** building package indices
** installing vignettes
** testing if installed package can be loaded from temporary location
** testing if installed package can be loaded from final location
** testing if installed package keeps a record of temporary installation path
install for x64
* installing *source* package 'GOSemSim' ...
** libs
"C:/rtools40/mingw64/bin/"g++ -std=gnu++11 -I"C:/Users/BIOCBU~1/BBS-3~1.11-/R/include" -DNDEBUG -I'C:/Users/biocbuild/bbs-3.11-bioc/R/library/Rcpp/include' -I"C:/extsoft/include" -O2 -Wall -mfpmath=sse -msse2 -mstackrealign -c ICmethod.cpp -o ICmethod.o
ICmethod.cpp: In function 'Rcpp::NumericMatrix infoContentMethod_cpp(Rcpp::StringVector&, Rcpp::StringVector&, Rcpp::List&, Rcpp::NumericVector&, const string&, const string&)':
ICmethod.cpp:82:29: warning: comparison of integer expressions of different signedness: 'std::size_t' {aka 'long long unsigned int'} and 'R_xlen_t' {aka 'long long int'} [-Wsign-compare]
for (std::size_t i=0; i < ic_.size(); i++ ) {
~~^~~~~~~~~~~~
ICmethod.cpp:88:29: warning: comparison of integer expressions of different signedness: 'std::size_t' {aka 'long long unsigned int'} and 'R_xlen_t' {aka 'long long int'} [-Wsign-compare]
for (std::size_t i=0; i < ic_.size(); i++ ) {
~~^~~~~~~~~~~~
ICmethod.cpp:107:29: warning: comparison of integer expressions of different signedness: 'std::size_t' {aka 'long long unsigned int'} and 'R_xlen_t' {aka 'long long int'} [-Wsign-compare]
for (std::size_t i=0; i < anc_.size(); i++ ) {
~~^~~~~~~~~~~~~
ICmethod.cpp:120:30: warning: comparison of integer expressions of different signedness: 'std::size_t' {aka 'long long unsigned int'} and 'R_xlen_t' {aka 'long long int'} [-Wsign-compare]
for ( std::size_t i = 0; i < id1_.size(); i++ ) {
~~^~~~~~~~~~~~~
ICmethod.cpp:127:34: warning: comparison of integer expressions of different signedness: 'std::size_t' {aka 'long long unsigned int'} and 'R_xlen_t' {aka 'long long int'} [-Wsign-compare]
for ( std::size_t j = 0; j < id2_.size(); j++ ) {
~~^~~~~~~~~~~~~
ICmethod.cpp:154:34: warning: comparison of integer expressions of different signedness: 'std::size_t' {aka 'long long unsigned int'} and 'R_xlen_t' {aka 'long long int'} [-Wsign-compare]
for ( std::size_t j = 0; j < id2_.size(); j++ ) {
~~^~~~~~~~~~~~~
"C:/rtools40/mingw64/bin/"g++ -std=gnu++11 -I"C:/Users/BIOCBU~1/BBS-3~1.11-/R/include" -DNDEBUG -I'C:/Users/biocbuild/bbs-3.11-bioc/R/library/Rcpp/include' -I"C:/extsoft/include" -O2 -Wall -mfpmath=sse -msse2 -mstackrealign -c RcppExports.cpp -o RcppExports.o
C:/rtools40/mingw64/bin/g++ -std=gnu++11 -shared -s -static-libgcc -o GOSemSim.dll tmp.def ICmethod.o RcppExports.o -LC:/extsoft/lib/x64 -LC:/extsoft/lib -LC:/Users/BIOCBU~1/BBS-3~1.11-/R/bin/x64 -lR
installing to C:/Users/biocbuild/bbs-3.11-bioc/meat/GOSemSim.buildbin-libdir/GOSemSim/libs/x64
** testing if installed package can be loaded
* MD5 sums
packaged installation of 'GOSemSim' as GOSemSim_2.14.2.zip
* DONE (GOSemSim)