| Back to Multiple platform build/check report for BioC 3.11 |
|
This page was generated on 2020-03-12 13:44:40 -0400 (Thu, 12 Mar 2020).
| Package 728/1838 | Hostname | OS / Arch | INSTALL | BUILD | CHECK | BUILD BIN | ||||||
| GOFunction 1.35.0 Jing Wang
| malbec2 | Linux (Ubuntu 18.04.4 LTS) / x86_64 | OK | OK | [ OK ] | |||||||
| tokay2 | Windows Server 2012 R2 Standard / x64 | OK | OK | OK | OK |
| Package: GOFunction |
| Version: 1.35.0 |
| Command: /home/biocbuild/bbs-3.11-bioc/R/bin/R CMD check --install=check:GOFunction.install-out.txt --library=/home/biocbuild/bbs-3.11-bioc/R/library --no-vignettes --timings GOFunction_1.35.0.tar.gz |
| StartedAt: 2020-03-12 01:42:36 -0400 (Thu, 12 Mar 2020) |
| EndedAt: 2020-03-12 01:52:19 -0400 (Thu, 12 Mar 2020) |
| EllapsedTime: 583.1 seconds |
| RetCode: 0 |
| Status: OK |
| CheckDir: GOFunction.Rcheck |
| Warnings: 0 |
##############################################################################
##############################################################################
###
### Running command:
###
### /home/biocbuild/bbs-3.11-bioc/R/bin/R CMD check --install=check:GOFunction.install-out.txt --library=/home/biocbuild/bbs-3.11-bioc/R/library --no-vignettes --timings GOFunction_1.35.0.tar.gz
###
##############################################################################
##############################################################################
* using log directory ‘/home/biocbuild/bbs-3.11-bioc/meat/GOFunction.Rcheck’
* using R Under development (unstable) (2020-01-28 r77731)
* using platform: x86_64-pc-linux-gnu (64-bit)
* using session charset: UTF-8
* using option ‘--no-vignettes’
* checking for file ‘GOFunction/DESCRIPTION’ ... OK
* checking extension type ... Package
* this is package ‘GOFunction’ version ‘1.35.0’
* checking package namespace information ... OK
* checking package dependencies ... NOTE
Depends: includes the non-default packages:
'Biobase', 'graph', 'Rgraphviz', 'GO.db', 'AnnotationDbi', 'SparseM'
Adding so many packages to the search path is excessive and importing
selectively is preferable.
* checking if this is a source package ... OK
* checking if there is a namespace ... OK
* checking for hidden files and directories ... OK
* checking for portable file names ... OK
* checking for sufficient/correct file permissions ... OK
* checking whether package ‘GOFunction’ can be installed ... OK
* checking installed package size ... OK
* checking package directory ... OK
* checking ‘build’ directory ... OK
* checking DESCRIPTION meta-information ... NOTE
Packages listed in more than one of Depends, Imports, Suggests, Enhances:
‘methods’ ‘Biobase’ ‘graph’ ‘Rgraphviz’ ‘GO.db’ ‘AnnotationDbi’ ‘SparseM’
A package should be listed in only one of these fields.
* checking top-level files ... OK
* checking for left-over files ... OK
* checking index information ... OK
* checking package subdirectories ... OK
* checking R files for non-ASCII characters ... OK
* checking R files for syntax errors ... OK
* checking whether the package can be loaded ... OK
* checking whether the package can be loaded with stated dependencies ... OK
* checking whether the package can be unloaded cleanly ... OK
* checking whether the namespace can be loaded with stated dependencies ... OK
* checking whether the namespace can be unloaded cleanly ... OK
* checking dependencies in R code ... NOTE
'library' or 'require' calls to packages already attached by Depends:
‘GO.db’ ‘Rgraphviz’ ‘SparseM’ ‘graph’ ‘methods’
Please remove these calls from your code.
Namespaces in Imports field not imported from:
‘GO.db’ ‘Rgraphviz’ ‘graph’
All declared Imports should be used.
Packages in Depends field not imported from:
‘GO.db’ ‘Rgraphviz’ ‘graph’
These packages need to be imported from (in the NAMESPACE file)
for when this namespace is loaded but not attached.
* checking S3 generic/method consistency ... OK
* checking replacement functions ... OK
* checking foreign function calls ... OK
* checking R code for possible problems ... NOTE
File ‘GOFunction/R/zzz.R’:
.onLoad calls:
require(methods)
Package startup functions should not change the search path.
See section ‘Good practice’ in '?.onAttach'.
GOFunction: no visible global function definition for ‘nodes’
GOFunction: no visible global function definition for ‘write.csv’
createGODAG: no visible global function definition for ‘sparseM2Graph’
createGODAG: no visible global function definition for ‘graph2SparseM’
enrichmentFunction: no visible global function definition for ‘phyper’
enrichmentFunction: no visible global function definition for
‘p.adjust’
globalRedundancy : calculateEachTerm : calculateExtraTerm: no visible
global function definition for ‘phyper’
localRedundancy: no visible global function definition for ‘phyper’
showSigNodes: no visible global function definition for
‘getDefaultAttrs’
showSigNodes: no visible global function definition for ‘heat.colors’
showSigNodes: no visible global function definition for ‘edgeWeights’
showSigNodes: no visible global function definition for ‘nodes’
showSigNodes: no visible global function definition for ‘bmp’
showSigNodes: no visible global function definition for ‘plot’
showSigNodes: no visible global function definition for ‘dev.off’
Undefined global functions or variables:
bmp dev.off edgeWeights getDefaultAttrs graph2SparseM heat.colors
nodes p.adjust phyper plot sparseM2Graph write.csv
Consider adding
importFrom("grDevices", "bmp", "dev.off", "heat.colors")
importFrom("graphics", "plot")
importFrom("stats", "p.adjust", "phyper")
importFrom("utils", "write.csv")
to your NAMESPACE file.
* checking Rd files ... OK
* checking Rd metadata ... OK
* checking Rd cross-references ... OK
* checking for missing documentation entries ... OK
* checking for code/documentation mismatches ... OK
* checking Rd \usage sections ... OK
* checking Rd contents ... OK
* checking for unstated dependencies in examples ... OK
* checking contents of ‘data’ directory ... OK
* checking data for non-ASCII characters ... OK
* checking data for ASCII and uncompressed saves ... OK
* checking files in ‘vignettes’ ... OK
* checking examples ... OK
Examples with CPU (user + system) or elapsed time > 5s
user system elapsed
GOFunction 470.839 21.651 492.546
* checking for unstated dependencies in vignettes ... OK
* checking package vignettes in ‘inst/doc’ ... OK
* checking running R code from vignettes ... SKIPPED
* checking re-building of vignette outputs ... SKIPPED
* checking PDF version of manual ... OK
* DONE
Status: 4 NOTEs
See
‘/home/biocbuild/bbs-3.11-bioc/meat/GOFunction.Rcheck/00check.log’
for details.
GOFunction.Rcheck/00install.out
############################################################################## ############################################################################## ### ### Running command: ### ### /home/biocbuild/bbs-3.11-bioc/R/bin/R CMD INSTALL GOFunction ### ############################################################################## ############################################################################## * installing to library ‘/home/biocbuild/bbs-3.11-bioc/R/library’ * installing *source* package ‘GOFunction’ ... ** using staged installation ** R ** data ** byte-compile and prepare package for lazy loading ** help *** installing help indices ** building package indices ** installing vignettes ** testing if installed package can be loaded from temporary location ** testing if installed package can be loaded from final location ** testing if installed package keeps a record of temporary installation path * DONE (GOFunction)
GOFunction.Rcheck/GOFunction-Ex.timings
| name | user | system | elapsed | |
| GOFunction | 470.839 | 21.651 | 492.546 | |