| Back to Multiple platform build/check report for BioC 3.11 |
|
This page was generated on 2020-10-17 11:56:38 -0400 (Sat, 17 Oct 2020).
| TO THE DEVELOPERS/MAINTAINERS OF THE GDCRNATools PACKAGE: Please make sure to use the following settings in order to reproduce any error or warning you see on this page. |
| Package 665/1905 | Hostname | OS / Arch | INSTALL | BUILD | CHECK | BUILD BIN | ||||||
| GDCRNATools 1.8.0 Ruidong Li
| malbec2 | Linux (Ubuntu 18.04.4 LTS) / x86_64 | OK | OK | OK | |||||||
| tokay2 | Windows Server 2012 R2 Standard / x64 | OK | OK | OK | [ OK ] | |||||||
| machv2 | macOS 10.14.6 Mojave / x86_64 | OK | OK | OK | OK |
| Package: GDCRNATools |
| Version: 1.8.0 |
| Command: rm -rf GDCRNATools.buildbin-libdir && mkdir GDCRNATools.buildbin-libdir && C:\Users\biocbuild\bbs-3.11-bioc\R\bin\R.exe CMD INSTALL --merge-multiarch --build --library=GDCRNATools.buildbin-libdir GDCRNATools_1.8.0.tar.gz |
| StartedAt: 2020-10-17 10:34:46 -0400 (Sat, 17 Oct 2020) |
| EndedAt: 2020-10-17 10:37:07 -0400 (Sat, 17 Oct 2020) |
| EllapsedTime: 141.2 seconds |
| RetCode: 0 |
| Status: OK |
| PackageFile: GDCRNATools_1.8.0.zip |
| PackageFileSize: 4.79 MiB |
##############################################################################
##############################################################################
###
### Running command:
###
### rm -rf GDCRNATools.buildbin-libdir && mkdir GDCRNATools.buildbin-libdir && C:\Users\biocbuild\bbs-3.11-bioc\R\bin\R.exe CMD INSTALL --merge-multiarch --build --library=GDCRNATools.buildbin-libdir GDCRNATools_1.8.0.tar.gz
###
##############################################################################
##############################################################################
install for i386
* installing *source* package 'GDCRNATools' ...
** using staged installation
** R
** data
** inst
** byte-compile and prepare package for lazy loading
** help
*** installing help indices
converting help for package 'GDCRNATools'
finding HTML links ... done
DEGAll html
GDCRNATools-package html
enrichOutput html
gdcBarPlot html
gdcCEAnalysis html
gdcClinicalDownload html
gdcClinicalMerge html
gdcCorPlot html
gdcDEAnalysis html
gdcDEReport html
gdcEnrichAnalysis html
gdcEnrichPlot html
gdcExportNetwork html
gdcFilterDuplicate html
gdcFilterSampleType html
gdcHeatmap html
gdcKMPlot html
gdcMatchSamples html
gdcParseMetadata html
gdcRNADownload html
gdcRNAMerge html
gdcSurvivalAnalysis html
gdcVolcanoPlot html
gdcVoomNormalization html
lncTarget html
mirCounts html
pcTarget html
rnaCounts html
shinyCorPlot html
shinyKMPlot html
shinyPathview html
** building package indices
** installing vignettes
** testing if installed package can be loaded from temporary location
** testing if installed package can be loaded from final location
** testing if installed package keeps a record of temporary installation path
install for x64
* installing *source* package 'GDCRNATools' ...
** testing if installed package can be loaded
* MD5 sums
packaged installation of 'GDCRNATools' as GDCRNATools_1.8.0.zip
* DONE (GDCRNATools)