Back to Multiple platform build/check report for BioC 3.11 |
|
This page was generated on 2020-10-17 11:56:37 -0400 (Sat, 17 Oct 2020).
TO THE DEVELOPERS/MAINTAINERS OF THE GA4GHshiny PACKAGE: Please make sure to use the following settings in order to reproduce any error or warning you see on this page. |
Package 647/1905 | Hostname | OS / Arch | INSTALL | BUILD | CHECK | BUILD BIN | ||||||
GA4GHshiny 1.10.0 Welliton Souza
| malbec2 | Linux (Ubuntu 18.04.4 LTS) / x86_64 | OK | OK | OK | |||||||
tokay2 | Windows Server 2012 R2 Standard / x64 | OK | OK | OK | [ OK ] | |||||||
machv2 | macOS 10.14.6 Mojave / x86_64 | OK | OK | OK | OK |
Package: GA4GHshiny |
Version: 1.10.0 |
Command: rm -rf GA4GHshiny.buildbin-libdir && mkdir GA4GHshiny.buildbin-libdir && C:\Users\biocbuild\bbs-3.11-bioc\R\bin\R.exe CMD INSTALL --merge-multiarch --build --library=GA4GHshiny.buildbin-libdir GA4GHshiny_1.10.0.tar.gz |
StartedAt: 2020-10-17 10:33:39 -0400 (Sat, 17 Oct 2020) |
EndedAt: 2020-10-17 10:35:03 -0400 (Sat, 17 Oct 2020) |
EllapsedTime: 84.2 seconds |
RetCode: 0 |
Status: OK |
PackageFile: GA4GHshiny_1.10.0.zip |
PackageFileSize: 453.1 KiB |
############################################################################## ############################################################################## ### ### Running command: ### ### rm -rf GA4GHshiny.buildbin-libdir && mkdir GA4GHshiny.buildbin-libdir && C:\Users\biocbuild\bbs-3.11-bioc\R\bin\R.exe CMD INSTALL --merge-multiarch --build --library=GA4GHshiny.buildbin-libdir GA4GHshiny_1.10.0.tar.gz ### ############################################################################## ############################################################################## install for i386 * installing *source* package 'GA4GHshiny' ... ** using staged installation ** R ** inst ** byte-compile and prepare package for lazy loading No methods found in package 'BiocGenerics' for request: 'lengths' when loading 'GA4GHclient' ** help *** installing help indices converting help for package 'GA4GHshiny' finding HTML links ... done GA4GHshiny-package html app html countGenotype html ** building package indices ** installing vignettes ** testing if installed package can be loaded from temporary location No methods found in package 'BiocGenerics' for request: 'lengths' when loading 'GA4GHclient' ** testing if installed package can be loaded from final location No methods found in package 'BiocGenerics' for request: 'lengths' when loading 'GA4GHclient' ** testing if installed package keeps a record of temporary installation path install for x64 * installing *source* package 'GA4GHshiny' ... ** testing if installed package can be loaded No methods found in package 'BiocGenerics' for request: 'lengths' when loading 'GA4GHclient' * MD5 sums packaged installation of 'GA4GHshiny' as GA4GHshiny_1.10.0.zip * DONE (GA4GHshiny)