| Back to Multiple platform build/check report for BioC 3.11 |
|
This page was generated on 2020-10-17 11:56:37 -0400 (Sat, 17 Oct 2020).
| TO THE DEVELOPERS/MAINTAINERS OF THE FunciSNP PACKAGE: Please make sure to use the following settings in order to reproduce any error or warning you see on this page. |
| Package 644/1905 | Hostname | OS / Arch | INSTALL | BUILD | CHECK | BUILD BIN | ||||||
| FunciSNP 1.32.0 Simon G. Coetzee
| malbec2 | Linux (Ubuntu 18.04.4 LTS) / x86_64 | OK | OK | OK | |||||||
| tokay2 | Windows Server 2012 R2 Standard / x64 | OK | OK | OK | [ OK ] | |||||||
| machv2 | macOS 10.14.6 Mojave / x86_64 | OK | OK | OK | OK |
| Package: FunciSNP |
| Version: 1.32.0 |
| Command: rm -rf FunciSNP.buildbin-libdir && mkdir FunciSNP.buildbin-libdir && C:\Users\biocbuild\bbs-3.11-bioc\R\bin\R.exe CMD INSTALL --merge-multiarch --build --library=FunciSNP.buildbin-libdir FunciSNP_1.32.0.tar.gz |
| StartedAt: 2020-10-17 10:33:27 -0400 (Sat, 17 Oct 2020) |
| EndedAt: 2020-10-17 10:34:52 -0400 (Sat, 17 Oct 2020) |
| EllapsedTime: 84.2 seconds |
| RetCode: 0 |
| Status: OK |
| PackageFile: FunciSNP_1.32.0.zip |
| PackageFileSize: 2.703 MiB |
##############################################################################
##############################################################################
###
### Running command:
###
### rm -rf FunciSNP.buildbin-libdir && mkdir FunciSNP.buildbin-libdir && C:\Users\biocbuild\bbs-3.11-bioc\R\bin\R.exe CMD INSTALL --merge-multiarch --build --library=FunciSNP.buildbin-libdir FunciSNP_1.32.0.tar.gz
###
##############################################################################
##############################################################################
install for i386
* installing *source* package 'FunciSNP' ...
** using staged installation
** R
** data
*** moving datasets to lazyload DB
** inst
** byte-compile and prepare package for lazy loading
** help
*** installing help indices
converting help for package 'FunciSNP'
finding HTML links ... done
CorrelatedSNPs-class html
FunciSNP-package html
FunciSNPAnnotateSummary html
FunciSNPbed html
FunciSNPidsFromSummary html
FunciSNPplot html
FunciSNPsummaryOverlaps html
FunciSNPtable html
TSList-class html
TagSNP-class html
getFSNPs html
** building package indices
** installing vignettes
** testing if installed package can be loaded from temporary location
** testing if installed package can be loaded from final location
** testing if installed package keeps a record of temporary installation path
install for x64
* installing *source* package 'FunciSNP' ...
** testing if installed package can be loaded
* MD5 sums
packaged installation of 'FunciSNP' as FunciSNP_1.32.0.zip
* DONE (FunciSNP)