| Back to Multiple platform build/check report for BioC 3.11 |
|
This page was generated on 2020-01-13 13:49:20 -0500 (Mon, 13 Jan 2020).
| Package 555/1813 | Hostname | OS / Arch | INSTALL | BUILD | CHECK | BUILD BIN | ||||||
| FastqCleaner 1.5.0 Leandro Roser
| malbec2 | Linux (Ubuntu 18.04.3 LTS) / x86_64 | OK | OK | OK | |||||||
| tokay2 | Windows Server 2012 R2 Standard / x64 | OK | OK | OK | OK | |||||||
| celaya2 | OS X 10.11.6 El Capitan / x86_64 | OK | [ OK ] | OK | OK |
| Package: FastqCleaner |
| Version: 1.5.0 |
| Command: /Library/Frameworks/R.framework/Versions/Current/Resources/bin/R CMD build --keep-empty-dirs --no-resave-data FastqCleaner |
| StartedAt: 2020-01-12 23:49:02 -0500 (Sun, 12 Jan 2020) |
| EndedAt: 2020-01-12 23:51:05 -0500 (Sun, 12 Jan 2020) |
| EllapsedTime: 123.1 seconds |
| RetCode: 0 |
| Status: OK |
| PackageFile: FastqCleaner_1.5.0.tar.gz |
| PackageFileSize: 3.199 MiB |
############################################################################## ############################################################################## ### ### Running command: ### ### /Library/Frameworks/R.framework/Versions/Current/Resources/bin/R CMD build --keep-empty-dirs --no-resave-data FastqCleaner ### ############################################################################## ############################################################################## * checking for file ‘FastqCleaner/DESCRIPTION’ ... OK * preparing ‘FastqCleaner’: * checking DESCRIPTION meta-information ... OK * cleaning src * installing the package to build vignettes * creating vignettes ... OK * cleaning src * checking for LF line-endings in source and make files and shell scripts * checking for empty or unneeded directories * building ‘FastqCleaner_1.5.0.tar.gz’