| Back to Multiple platform build/check report for BioC 3.11 |
|
This page was generated on 2020-10-17 11:56:32 -0400 (Sat, 17 Oct 2020).
| TO THE DEVELOPERS/MAINTAINERS OF THE EpiTxDb PACKAGE: Please make sure to use the following settings in order to reproduce any error or warning you see on this page. |
| Package 555/1905 | Hostname | OS / Arch | INSTALL | BUILD | CHECK | BUILD BIN | ||||||
| EpiTxDb 1.0.0 Felix G.M. Ernst
| malbec2 | Linux (Ubuntu 18.04.4 LTS) / x86_64 | OK | OK | OK | |||||||
| tokay2 | Windows Server 2012 R2 Standard / x64 | OK | OK | OK | [ OK ] | |||||||
| machv2 | macOS 10.14.6 Mojave / x86_64 | OK | OK | OK | OK |
| Package: EpiTxDb |
| Version: 1.0.0 |
| Command: rm -rf EpiTxDb.buildbin-libdir && mkdir EpiTxDb.buildbin-libdir && C:\Users\biocbuild\bbs-3.11-bioc\R\bin\R.exe CMD INSTALL --merge-multiarch --build --library=EpiTxDb.buildbin-libdir EpiTxDb_1.0.0.tar.gz |
| StartedAt: 2020-10-17 10:26:31 -0400 (Sat, 17 Oct 2020) |
| EndedAt: 2020-10-17 10:28:03 -0400 (Sat, 17 Oct 2020) |
| EllapsedTime: 91.1 seconds |
| RetCode: 0 |
| Status: OK |
| PackageFile: EpiTxDb_1.0.0.zip |
| PackageFileSize: 1.498 MiB |
##############################################################################
##############################################################################
###
### Running command:
###
### rm -rf EpiTxDb.buildbin-libdir && mkdir EpiTxDb.buildbin-libdir && C:\Users\biocbuild\bbs-3.11-bioc\R\bin\R.exe CMD INSTALL --merge-multiarch --build --library=EpiTxDb.buildbin-libdir EpiTxDb_1.0.0.tar.gz
###
##############################################################################
##############################################################################
install for i386
* installing *source* package 'EpiTxDb' ...
** using staged installation
** R
** data
** inst
** byte-compile and prepare package for lazy loading
** help
*** installing help indices
converting help for package 'EpiTxDb'
finding HTML links ... done
EpiTxDb-class html
EpiTxDb-data html
EpiTxDb-package html
makeEpiTxDb html
makeEpiTxDbFromGRanges html
makeEpiTxDbFromRMBase html
makeEpiTxDbFromtRNAdb html
modifications html
positionSequence html
rescale html
select html
shiftGenomicToTranscript html
** building package indices
** installing vignettes
** testing if installed package can be loaded from temporary location
** testing if installed package can be loaded from final location
** testing if installed package keeps a record of temporary installation path
install for x64
* installing *source* package 'EpiTxDb' ...
** testing if installed package can be loaded
* MD5 sums
packaged installation of 'EpiTxDb' as EpiTxDb_1.0.0.zip
* DONE (EpiTxDb)