| Back to Multiple platform build/check report for BioC 3.11 |
|
This page was generated on 2020-10-17 11:56:30 -0400 (Sat, 17 Oct 2020).
| TO THE DEVELOPERS/MAINTAINERS OF THE EBarrays PACKAGE: Please make sure to use the following settings in order to reproduce any error or warning you see on this page. |
| Package 519/1905 | Hostname | OS / Arch | INSTALL | BUILD | CHECK | BUILD BIN | ||||||
| EBarrays 2.52.0 Ming Yuan
| malbec2 | Linux (Ubuntu 18.04.4 LTS) / x86_64 | OK | OK | OK | |||||||
| tokay2 | Windows Server 2012 R2 Standard / x64 | [ OK ] | OK | OK | OK | |||||||
| machv2 | macOS 10.14.6 Mojave / x86_64 | OK | OK | OK | OK |
| Package: EBarrays |
| Version: 2.52.0 |
| Command: C:\cygwin\bin\curl.exe -O https://malbec2.bioconductor.org/BBS/3.11/bioc/src/contrib/EBarrays_2.52.0.tar.gz && rm -rf EBarrays.buildbin-libdir && mkdir EBarrays.buildbin-libdir && C:\Users\biocbuild\bbs-3.11-bioc\R\bin\R.exe CMD INSTALL --merge-multiarch --build --library=EBarrays.buildbin-libdir EBarrays_2.52.0.tar.gz && C:\Users\biocbuild\bbs-3.11-bioc\R\bin\R.exe CMD INSTALL EBarrays_2.52.0.zip && rm EBarrays_2.52.0.tar.gz EBarrays_2.52.0.zip |
| StartedAt: 2020-10-16 19:04:17 -0400 (Fri, 16 Oct 2020) |
| EndedAt: 2020-10-16 19:04:45 -0400 (Fri, 16 Oct 2020) |
| EllapsedTime: 28.3 seconds |
| RetCode: 0 |
| Status: OK |
##############################################################################
##############################################################################
###
### Running command:
###
### C:\cygwin\bin\curl.exe -O https://malbec2.bioconductor.org/BBS/3.11/bioc/src/contrib/EBarrays_2.52.0.tar.gz && rm -rf EBarrays.buildbin-libdir && mkdir EBarrays.buildbin-libdir && C:\Users\biocbuild\bbs-3.11-bioc\R\bin\R.exe CMD INSTALL --merge-multiarch --build --library=EBarrays.buildbin-libdir EBarrays_2.52.0.tar.gz && C:\Users\biocbuild\bbs-3.11-bioc\R\bin\R.exe CMD INSTALL EBarrays_2.52.0.zip && rm EBarrays_2.52.0.tar.gz EBarrays_2.52.0.zip
###
##############################################################################
##############################################################################
% Total % Received % Xferd Average Speed Time Time Time Current
Dload Upload Total Spent Left Speed
0 0 0 0 0 0 0 0 --:--:-- --:--:-- --:--:-- 0
100 242k 100 242k 0 0 2577k 0 --:--:-- --:--:-- --:--:-- 2755k
install for i386
* installing *source* package 'EBarrays' ...
** using staged installation
** libs
"C:/rtools40/mingw32/bin/"gcc -I"C:/Users/BIOCBU~1/BBS-3~1.11-/R/include" -DNDEBUG -I"C:/extsoft/include" -O2 -Wall -std=gnu99 -mfpmath=sse -msse2 -mstackrealign -c ebarrays.c -o ebarrays.o
C:/rtools40/mingw32/bin/gcc -shared -s -static-libgcc -o EBarrays.dll tmp.def ebarrays.o -LC:/extsoft/lib/i386 -LC:/extsoft/lib -LC:/Users/BIOCBU~1/BBS-3~1.11-/R/bin/i386 -lR
installing to C:/Users/biocbuild/bbs-3.11-bioc/meat/EBarrays.buildbin-libdir/00LOCK-EBarrays/00new/EBarrays/libs/i386
** R
** data
** demo
** byte-compile and prepare package for lazy loading
** help
*** installing help indices
converting help for package 'EBarrays'
finding HTML links ... done
EBarrays-Internal html
crit.fun html
ebarraysFamily-class html
ebplots html
emfit html
gould html
postprob html
utilities html
** building package indices
** installing vignettes
** testing if installed package can be loaded from temporary location
** testing if installed package can be loaded from final location
** testing if installed package keeps a record of temporary installation path
install for x64
* installing *source* package 'EBarrays' ...
** libs
"C:/rtools40/mingw64/bin/"gcc -I"C:/Users/BIOCBU~1/BBS-3~1.11-/R/include" -DNDEBUG -I"C:/extsoft/include" -O2 -Wall -std=gnu99 -mfpmath=sse -msse2 -mstackrealign -c ebarrays.c -o ebarrays.o
C:/rtools40/mingw64/bin/gcc -shared -s -static-libgcc -o EBarrays.dll tmp.def ebarrays.o -LC:/extsoft/lib/x64 -LC:/extsoft/lib -LC:/Users/BIOCBU~1/BBS-3~1.11-/R/bin/x64 -lR
installing to C:/Users/biocbuild/bbs-3.11-bioc/meat/EBarrays.buildbin-libdir/EBarrays/libs/x64
** testing if installed package can be loaded
* MD5 sums
packaged installation of 'EBarrays' as EBarrays_2.52.0.zip
* DONE (EBarrays)
* installing to library 'C:/Users/biocbuild/bbs-3.11-bioc/R/library'
package 'EBarrays' successfully unpacked and MD5 sums checked