| Back to Multiple platform build/check report for BioC 3.11 |
|
This page was generated on 2020-02-03 13:23:17 -0500 (Mon, 03 Feb 2020).
| Package 492/1822 | Hostname | OS / Arch | INSTALL | BUILD | CHECK | BUILD BIN | ||||||
| DupChecker 1.25.0 "Quanhu SHENG"
| malbec2 | Linux (Ubuntu 18.04.3 LTS) / x86_64 | OK | OK | OK | |||||||
| tokay2 | Windows Server 2012 R2 Standard / x64 | OK | OK | OK | [ OK ] |
| Package: DupChecker |
| Version: 1.25.0 |
| Command: rm -rf DupChecker.buildbin-libdir && mkdir DupChecker.buildbin-libdir && C:\Users\biocbuild\bbs-3.11-bioc\R\bin\R.exe CMD INSTALL --merge-multiarch --build --library=DupChecker.buildbin-libdir DupChecker_1.25.0.tar.gz |
| StartedAt: 2020-02-03 11:11:41 -0500 (Mon, 03 Feb 2020) |
| EndedAt: 2020-02-03 11:12:13 -0500 (Mon, 03 Feb 2020) |
| EllapsedTime: 32.6 seconds |
| RetCode: 0 |
| Status: OK |
| PackageFile: DupChecker_1.25.0.zip |
| PackageFileSize: 176.2 KiB |
##############################################################################
##############################################################################
###
### Running command:
###
### rm -rf DupChecker.buildbin-libdir && mkdir DupChecker.buildbin-libdir && C:\Users\biocbuild\bbs-3.11-bioc\R\bin\R.exe CMD INSTALL --merge-multiarch --build --library=DupChecker.buildbin-libdir DupChecker_1.25.0.tar.gz
###
##############################################################################
##############################################################################
install for i386
* installing *source* package 'DupChecker' ...
** using staged installation
** R
** inst
** byte-compile and prepare package for lazy loading
** help
*** installing help indices
converting help for package 'DupChecker'
finding HTML links ... done
arrayExpressDownload html
buildFileTable html
geoDownload html
validateFile html
** building package indices
** installing vignettes
** testing if installed package can be loaded from temporary location
** testing if installed package can be loaded from final location
** testing if installed package keeps a record of temporary installation path
install for x64
* installing *source* package 'DupChecker' ...
** testing if installed package can be loaded
* MD5 sums
packaged installation of 'DupChecker' as DupChecker_1.25.0.zip
* DONE (DupChecker)