| Back to Multiple platform build/check report for BioC 3.11 | 
  | 
This page was generated on 2020-10-17 11:56:29 -0400 (Sat, 17 Oct 2020).
| TO THE DEVELOPERS/MAINTAINERS OF THE Doscheda PACKAGE: Please make sure to use the following settings in order to reproduce any error or warning you see on this page. | 
| Package 499/1905 | Hostname | OS / Arch | INSTALL | BUILD | CHECK | BUILD BIN | ||||||
| Doscheda 1.10.4 Bruno Contrino 
  | malbec2 | Linux (Ubuntu 18.04.4 LTS) / x86_64 | OK | OK | OK | |||||||
| tokay2 | Windows Server 2012 R2 Standard / x64 | OK | OK | OK | [ OK ] | |||||||
| machv2 | macOS 10.14.6 Mojave / x86_64 | OK | OK | OK | OK | 
| Package: Doscheda | 
| Version: 1.10.4 | 
| Command: rm -rf Doscheda.buildbin-libdir && mkdir Doscheda.buildbin-libdir && C:\Users\biocbuild\bbs-3.11-bioc\R\bin\R.exe CMD INSTALL --merge-multiarch --build --library=Doscheda.buildbin-libdir Doscheda_1.10.4.tar.gz | 
| StartedAt: 2020-10-17 10:22:03 -0400 (Sat, 17 Oct 2020) | 
| EndedAt: 2020-10-17 10:22:29 -0400 (Sat, 17 Oct 2020) | 
| EllapsedTime: 26.7 seconds | 
| RetCode: 0 | 
| Status: OK | 
| PackageFile: Doscheda_1.10.4.zip | 
| PackageFileSize: 3.909 MiB | 
##############################################################################
##############################################################################
###
### Running command:
###
###   rm -rf Doscheda.buildbin-libdir && mkdir Doscheda.buildbin-libdir && C:\Users\biocbuild\bbs-3.11-bioc\R\bin\R.exe CMD INSTALL --merge-multiarch --build --library=Doscheda.buildbin-libdir Doscheda_1.10.4.tar.gz
###
##############################################################################
##############################################################################
install for i386
* installing *source* package 'Doscheda' ...
** using staged installation
** R
** data
*** moving datasets to lazyload DB
** inst
** byte-compile and prepare package for lazy loading
in method for 'getInput' with signature '"ChemoProtSet"': no definition for class "ChemoProtSet"
in method for 'getNorm' with signature '"ChemoProtSet"': no definition for class "ChemoProtSet"
in method for 'getFinal' with signature '"ChemoProtSet"': no definition for class "ChemoProtSet"
in method for 'getParameters' with signature '"ChemoProtSet"': no definition for class "ChemoProtSet"
in method for 'getDatasets' with signature '"ChemoProtSet"': no definition for class "ChemoProtSet"
in method for 'boxplot' with signature '"ChemoProtSet"': no definition for class "ChemoProtSet"
in method for 'corrPlot' with signature '"ChemoProtSet"': no definition for class "ChemoProtSet"
in method for 'densityPlot' with signature '"ChemoProtSet"': no definition for class "ChemoProtSet"
Creating a new generic function for 'meanSdPlot' in package 'Doscheda'
** help
*** installing help indices
  converting help for package 'Doscheda'
    finding HTML links ... done
    ChemoProtSet-class                      html  
    boxplot-ChemoProtSet-method             html  
    corrPlot-methods                        html  
    densityPlot-methods                     html  
    doscheda                                html  
    doschedaApp                             html  
    doschedaData                            html  
    fitModel-methods                        html  
    getDatasets-methods                     html  
    getFinal-methods                        html  
    getInput-methods                        html  
    getNorm-methods                         html  
    getParameters-methods                   html  
    makeReport                              html  
    meanSdPlot-methods                      html  
    pcaPlot-methods                         html  
    plot.ChemoProtSet                       html  
    processedExample                        html  
    removePeptides-methods                  html  
    replicatePlot-methods                   html  
    runDoscheda                             html  
    runNormalisation-methods                html  
    setData-methods                         html  
    setParameters-methods                   html  
    volcanoPlot-methods                     html  
** building package indices
** installing vignettes
** testing if installed package can be loaded from temporary location
** testing if installed package can be loaded from final location
** testing if installed package keeps a record of temporary installation path
install for x64
* installing *source* package 'Doscheda' ...
** testing if installed package can be loaded
* MD5 sums
packaged installation of 'Doscheda' as Doscheda_1.10.4.zip
* DONE (Doscheda)