| Back to Multiple platform build/check report for BioC 3.11 | 
 | 
This page was generated on 2020-10-17 11:56:29 -0400 (Sat, 17 Oct 2020).
| TO THE DEVELOPERS/MAINTAINERS OF THE DominoEffect PACKAGE: Please make sure to use the following settings in order to reproduce any error or warning you see on this page. | 
| Package 497/1905 | Hostname | OS / Arch | INSTALL | BUILD | CHECK | BUILD BIN | ||||||
| DominoEffect 1.8.0 Marija Buljan 
 | malbec2 | Linux (Ubuntu 18.04.4 LTS) / x86_64 | OK | OK | OK |  | ||||||
| tokay2 | Windows Server 2012 R2 Standard / x64 | OK | OK | OK | [ OK ] |  | ||||||
| machv2 | macOS 10.14.6 Mojave / x86_64 | OK | OK | OK | OK |  | 
| Package: DominoEffect | 
| Version: 1.8.0 | 
| Command: rm -rf DominoEffect.buildbin-libdir && mkdir DominoEffect.buildbin-libdir && C:\Users\biocbuild\bbs-3.11-bioc\R\bin\R.exe CMD INSTALL --merge-multiarch --build --library=DominoEffect.buildbin-libdir DominoEffect_1.8.0.tar.gz | 
| StartedAt: 2020-10-17 10:21:54 -0400 (Sat, 17 Oct 2020) | 
| EndedAt: 2020-10-17 10:23:45 -0400 (Sat, 17 Oct 2020) | 
| EllapsedTime: 111.3 seconds | 
| RetCode: 0 | 
| Status: OK | 
| PackageFile: DominoEffect_1.8.0.zip | 
| PackageFileSize: 597.8 KiB | 
##############################################################################
##############################################################################
###
### Running command:
###
###   rm -rf DominoEffect.buildbin-libdir && mkdir DominoEffect.buildbin-libdir && C:\Users\biocbuild\bbs-3.11-bioc\R\bin\R.exe CMD INSTALL --merge-multiarch --build --library=DominoEffect.buildbin-libdir DominoEffect_1.8.0.tar.gz
###
##############################################################################
##############################################################################
install for i386
* installing *source* package 'DominoEffect' ...
** using staged installation
** R
** data
*** moving datasets to lazyload DB
** inst
** byte-compile and prepare package for lazy loading
** help
*** installing help indices
  converting help for package 'DominoEffect'
    finding HTML links ... done
    DominoEffect                            html  
    GPo_of_hotspots                         html  
    align_to_unip                           html  
    calculate_boundary                      html  
    data                                    html  
    identify_hotspots                       html  
    import_txdb                             html  
    map_to_func_elem                        html  
** building package indices
** installing vignettes
** testing if installed package can be loaded from temporary location
** testing if installed package can be loaded from final location
** testing if installed package keeps a record of temporary installation path
install for x64
* installing *source* package 'DominoEffect' ...
** testing if installed package can be loaded
* MD5 sums
packaged installation of 'DominoEffect' as DominoEffect_1.8.0.zip
* DONE (DominoEffect)