| Back to Multiple platform build/check report for BioC 3.11 |
|
This page was generated on 2020-10-17 11:56:26 -0400 (Sat, 17 Oct 2020).
| TO THE DEVELOPERS/MAINTAINERS OF THE DelayedDataFrame PACKAGE: Please make sure to use the following settings in order to reproduce any error or warning you see on this page. |
| Package 446/1905 | Hostname | OS / Arch | INSTALL | BUILD | CHECK | BUILD BIN | ||||||
| DelayedDataFrame 1.4.0 Qian Liu
| malbec2 | Linux (Ubuntu 18.04.4 LTS) / x86_64 | OK | OK | OK | |||||||
| tokay2 | Windows Server 2012 R2 Standard / x64 | [ OK ] | OK | OK | OK | |||||||
| machv2 | macOS 10.14.6 Mojave / x86_64 | OK | OK | OK | OK |
| Package: DelayedDataFrame |
| Version: 1.4.0 |
| Command: C:\cygwin\bin\curl.exe -O https://malbec2.bioconductor.org/BBS/3.11/bioc/src/contrib/DelayedDataFrame_1.4.0.tar.gz && rm -rf DelayedDataFrame.buildbin-libdir && mkdir DelayedDataFrame.buildbin-libdir && C:\Users\biocbuild\bbs-3.11-bioc\R\bin\R.exe CMD INSTALL --merge-multiarch --build --library=DelayedDataFrame.buildbin-libdir DelayedDataFrame_1.4.0.tar.gz && C:\Users\biocbuild\bbs-3.11-bioc\R\bin\R.exe CMD INSTALL DelayedDataFrame_1.4.0.zip && rm DelayedDataFrame_1.4.0.tar.gz DelayedDataFrame_1.4.0.zip |
| StartedAt: 2020-10-16 17:06:52 -0400 (Fri, 16 Oct 2020) |
| EndedAt: 2020-10-16 17:07:50 -0400 (Fri, 16 Oct 2020) |
| EllapsedTime: 58.6 seconds |
| RetCode: 0 |
| Status: OK |
##############################################################################
##############################################################################
###
### Running command:
###
### C:\cygwin\bin\curl.exe -O https://malbec2.bioconductor.org/BBS/3.11/bioc/src/contrib/DelayedDataFrame_1.4.0.tar.gz && rm -rf DelayedDataFrame.buildbin-libdir && mkdir DelayedDataFrame.buildbin-libdir && C:\Users\biocbuild\bbs-3.11-bioc\R\bin\R.exe CMD INSTALL --merge-multiarch --build --library=DelayedDataFrame.buildbin-libdir DelayedDataFrame_1.4.0.tar.gz && C:\Users\biocbuild\bbs-3.11-bioc\R\bin\R.exe CMD INSTALL DelayedDataFrame_1.4.0.zip && rm DelayedDataFrame_1.4.0.tar.gz DelayedDataFrame_1.4.0.zip
###
##############################################################################
##############################################################################
% Total % Received % Xferd Average Speed Time Time Time Current
Dload Upload Total Spent Left Speed
0 0 0 0 0 0 0 0 --:--:-- --:--:-- --:--:-- 0
100 193k 100 193k 0 0 3168k 0 --:--:-- --:--:-- --:--:-- 3575k
install for i386
* installing *source* package 'DelayedDataFrame' ...
** using staged installation
** R
** inst
** byte-compile and prepare package for lazy loading
** help
*** installing help indices
converting help for package 'DelayedDataFrame'
finding HTML links ... done
DelayedDataFrame-class html
DelayedDataFrame-method html
LazyIndex-class html
** building package indices
** installing vignettes
** testing if installed package can be loaded from temporary location
** testing if installed package can be loaded from final location
** testing if installed package keeps a record of temporary installation path
install for x64
* installing *source* package 'DelayedDataFrame' ...
** testing if installed package can be loaded
* MD5 sums
packaged installation of 'DelayedDataFrame' as DelayedDataFrame_1.4.0.zip
* DONE (DelayedDataFrame)
* installing to library 'C:/Users/biocbuild/bbs-3.11-bioc/R/library'
package 'DelayedDataFrame' successfully unpacked and MD5 sums checked