| Back to Multiple platform build/check report for BioC 3.11 |
|
This page was generated on 2020-10-17 11:58:21 -0400 (Sat, 17 Oct 2020).
| TO THE DEVELOPERS/MAINTAINERS OF THE DBChIP PACKAGE: Please make sure to use the following settings in order to reproduce any error or warning you see on this page. |
| Package 423/1905 | Hostname | OS / Arch | INSTALL | BUILD | CHECK | BUILD BIN | ||||||
| DBChIP 1.32.0 Kun Liang
| malbec2 | Linux (Ubuntu 18.04.4 LTS) / x86_64 | OK | OK | WARNINGS | |||||||
| tokay2 | Windows Server 2012 R2 Standard / x64 | OK | OK | WARNINGS | OK | |||||||
| machv2 | macOS 10.14.6 Mojave / x86_64 | OK | OK | WARNINGS | [ OK ] |
| Package: DBChIP |
| Version: 1.32.0 |
| Command: rm -rf DBChIP.buildbin-libdir && mkdir DBChIP.buildbin-libdir && /Users/biocbuild/BBS/utils/build-universal.sh DBChIP_1.32.0.tar.gz /Library/Frameworks/R.framework/Versions/Current/Resources/bin/R DBChIP.buildbin-libdir |
| StartedAt: 2020-10-17 06:54:14 -0400 (Sat, 17 Oct 2020) |
| EndedAt: 2020-10-17 06:54:44 -0400 (Sat, 17 Oct 2020) |
| EllapsedTime: 29.8 seconds |
| RetCode: 0 |
| Status: OK |
| PackageFile: DBChIP_1.32.0.tgz |
| PackageFileSize: 1.99 MiB |
############################################################################## ############################################################################## ### ### Running command: ### ### rm -rf DBChIP.buildbin-libdir && mkdir DBChIP.buildbin-libdir && /Users/biocbuild/BBS/utils/build-universal.sh DBChIP_1.32.0.tar.gz /Library/Frameworks/R.framework/Versions/Current/Resources/bin/R DBChIP.buildbin-libdir ### ############################################################################## ############################################################################## >>>>>>> >>>>>>> INSTALLATION WITH 'R CMD INSTALL --preclean --no-multiarch --library=DBChIP.buildbin-libdir DBChIP_1.32.0.tar.gz' >>>>>>> * installing *source* package ‘DBChIP’ ... ** using staged installation ** R ** data ** inst ** byte-compile and prepare package for lazy loading Warning message: Package 'DESeq' is deprecated and will be removed from Bioconductor version 3.13. Please use DESeq2 ** help *** installing help indices ** building package indices ** installing vignettes ** testing if installed package can be loaded from temporary location Warning: Package 'DESeq' is deprecated and will be removed from Bioconductor version 3.13. Please use DESeq2 ** testing if installed package can be loaded from final location Warning: Package 'DESeq' is deprecated and will be removed from Bioconductor version 3.13. Please use DESeq2 ** testing if installed package keeps a record of temporary installation path * DONE (DBChIP)