| Back to Multiple platform build/check report for BioC 3.11 |
|
This page was generated on 2020-10-17 11:54:37 -0400 (Sat, 17 Oct 2020).
| TO THE DEVELOPERS/MAINTAINERS OF THE CoverageView PACKAGE: Please make sure to use the following settings in order to reproduce any error or warning you see on this page. |
| Package 386/1905 | Hostname | OS / Arch | INSTALL | BUILD | CHECK | BUILD BIN | ||||||
| CoverageView 1.26.0 Ernesto Lowy
| malbec2 | Linux (Ubuntu 18.04.4 LTS) / x86_64 | OK | [ OK ] | OK | |||||||
| tokay2 | Windows Server 2012 R2 Standard / x64 | ...NOT SUPPORTED... | ||||||||||
| machv2 | macOS 10.14.6 Mojave / x86_64 | OK | OK | OK | OK | |||||||
| Package: CoverageView |
| Version: 1.26.0 |
| Command: /home/biocbuild/bbs-3.11-bioc/R/bin/R CMD build --keep-empty-dirs --no-resave-data CoverageView |
| StartedAt: 2020-10-16 18:35:28 -0400 (Fri, 16 Oct 2020) |
| EndedAt: 2020-10-16 18:36:16 -0400 (Fri, 16 Oct 2020) |
| EllapsedTime: 48.0 seconds |
| RetCode: 0 |
| Status: OK |
| PackageFile: CoverageView_1.26.0.tar.gz |
| PackageFileSize: 2.471 MiB |
############################################################################## ############################################################################## ### ### Running command: ### ### /home/biocbuild/bbs-3.11-bioc/R/bin/R CMD build --keep-empty-dirs --no-resave-data CoverageView ### ############################################################################## ############################################################################## * checking for file ‘CoverageView/DESCRIPTION’ ... OK * preparing ‘CoverageView’: * checking DESCRIPTION meta-information ... OK * installing the package to build vignettes * creating vignettes ... OK * checking for LF line-endings in source and make files and shell scripts * checking for empty or unneeded directories * looking to see if a ‘data/datalist’ file should be added * building ‘CoverageView_1.26.0.tar.gz’