| Back to Multiple platform build/check report for BioC 3.11 |
|
This page was generated on 2020-10-17 11:56:22 -0400 (Sat, 17 Oct 2020).
| TO THE DEVELOPERS/MAINTAINERS OF THE CoreGx PACKAGE: Please make sure to use the following settings in order to reproduce any error or warning you see on this page. |
| Package 376/1905 | Hostname | OS / Arch | INSTALL | BUILD | CHECK | BUILD BIN | ||||||
| CoreGx 1.0.2 Benjamin Haibe-Kains
| malbec2 | Linux (Ubuntu 18.04.4 LTS) / x86_64 | OK | OK | OK | |||||||
| tokay2 | Windows Server 2012 R2 Standard / x64 | OK | OK | [ OK ] | OK | |||||||
| machv2 | macOS 10.14.6 Mojave / x86_64 | OK | OK | OK | OK |
| Package: CoreGx |
| Version: 1.0.2 |
| Command: C:\Users\biocbuild\bbs-3.11-bioc\R\bin\R.exe CMD check --force-multiarch --install=check:CoreGx.install-out.txt --library=C:\Users\biocbuild\bbs-3.11-bioc\R\library --no-vignettes --timings CoreGx_1.0.2.tar.gz |
| StartedAt: 2020-10-17 02:57:50 -0400 (Sat, 17 Oct 2020) |
| EndedAt: 2020-10-17 03:02:09 -0400 (Sat, 17 Oct 2020) |
| EllapsedTime: 259.7 seconds |
| RetCode: 0 |
| Status: OK |
| CheckDir: CoreGx.Rcheck |
| Warnings: 0 |
############################################################################## ############################################################################## ### ### Running command: ### ### C:\Users\biocbuild\bbs-3.11-bioc\R\bin\R.exe CMD check --force-multiarch --install=check:CoreGx.install-out.txt --library=C:\Users\biocbuild\bbs-3.11-bioc\R\library --no-vignettes --timings CoreGx_1.0.2.tar.gz ### ############################################################################## ############################################################################## * using log directory 'C:/Users/biocbuild/bbs-3.11-bioc/meat/CoreGx.Rcheck' * using R version 4.0.3 (2020-10-10) * using platform: x86_64-w64-mingw32 (64-bit) * using session charset: ISO8859-1 * using option '--no-vignettes' * checking for file 'CoreGx/DESCRIPTION' ... OK * checking extension type ... Package * this is package 'CoreGx' version '1.0.2' * package encoding: UTF-8 * checking package namespace information ... OK * checking package dependencies ... OK * checking if this is a source package ... OK * checking if there is a namespace ... OK * checking for hidden files and directories ... OK * checking for portable file names ... OK * checking whether package 'CoreGx' can be installed ... OK * checking installed package size ... OK * checking package directory ... OK * checking 'build' directory ... OK * checking DESCRIPTION meta-information ... OK * checking top-level files ... OK * checking for left-over files ... OK * checking index information ... OK * checking package subdirectories ... OK * checking R files for non-ASCII characters ... OK * checking R files for syntax errors ... OK * loading checks for arch 'i386' ** checking whether the package can be loaded ... OK ** checking whether the package can be loaded with stated dependencies ... OK ** checking whether the package can be unloaded cleanly ... OK ** checking whether the namespace can be loaded with stated dependencies ... OK ** checking whether the namespace can be unloaded cleanly ... OK * loading checks for arch 'x64' ** checking whether the package can be loaded ... OK ** checking whether the package can be loaded with stated dependencies ... OK ** checking whether the package can be unloaded cleanly ... OK ** checking whether the namespace can be loaded with stated dependencies ... OK ** checking whether the namespace can be unloaded cleanly ... OK * checking dependencies in R code ... OK * checking S3 generic/method consistency ... OK * checking replacement functions ... OK * checking foreign function calls ... OK * checking R code for possible problems ... OK * checking Rd files ... OK * checking Rd metadata ... OK * checking Rd cross-references ... OK * checking for missing documentation entries ... OK * checking for code/documentation mismatches ... OK * checking Rd \usage sections ... OK * checking Rd contents ... OK * checking for unstated dependencies in examples ... OK * checking contents of 'data' directory ... OK * checking data for non-ASCII characters ... NOTE Note: found 8 marked UTF-8 strings * checking data for ASCII and uncompressed saves ... OK * checking files in 'vignettes' ... OK * checking examples ... ** running examples for arch 'i386' ... OK ** running examples for arch 'x64' ... OK * checking for unstated dependencies in vignettes ... OK * checking package vignettes in 'inst/doc' ... OK * checking running R code from vignettes ... SKIPPED * checking re-building of vignette outputs ... SKIPPED * checking PDF version of manual ... OK * DONE Status: 1 NOTE See 'C:/Users/biocbuild/bbs-3.11-bioc/meat/CoreGx.Rcheck/00check.log' for details.
CoreGx.Rcheck/00install.out
##############################################################################
##############################################################################
###
### Running command:
###
### C:\cygwin\bin\curl.exe -O https://malbec2.bioconductor.org/BBS/3.11/bioc/src/contrib/CoreGx_1.0.2.tar.gz && rm -rf CoreGx.buildbin-libdir && mkdir CoreGx.buildbin-libdir && C:\Users\biocbuild\bbs-3.11-bioc\R\bin\R.exe CMD INSTALL --merge-multiarch --build --library=CoreGx.buildbin-libdir CoreGx_1.0.2.tar.gz && C:\Users\biocbuild\bbs-3.11-bioc\R\bin\R.exe CMD INSTALL CoreGx_1.0.2.zip && rm CoreGx_1.0.2.tar.gz CoreGx_1.0.2.zip
###
##############################################################################
##############################################################################
% Total % Received % Xferd Average Speed Time Time Time Current
Dload Upload Total Spent Left Speed
0 0 0 0 0 0 0 0 --:--:-- --:--:-- --:--:-- 0
100 219k 100 219k 0 0 2316k 0 --:--:-- --:--:-- --:--:-- 2490k
install for i386
* installing *source* package 'CoreGx' ...
** using staged installation
** R
** data
*** moving datasets to lazyload DB
** inst
** byte-compile and prepare package for lazy loading
** help
*** installing help indices
converting help for package 'CoreGx'
finding HTML links ... done
CoreSet-class html
CoreSet html
amcc html
callingWaterfall html
cellInfo-set html
cellInfo html
cellNames-set html
cellNames html
checkCsetStructure html
clevelandSmall_cSet html
connectivityScore html
cosinePerm html
dateCreated html
dot-convertCSetMolecularProfilesToSE html
dot-distancePointLine html
dot-distancePointSegment html
dot-examineGOF html
dot-getSupportVec html
dot-intersectList html
dot-meshEval html
dot-residual html
dot-symSetDiffList html
dot-unionList html
fNames-set html
fNames html
featureInfo-set html
featureInfo html
gwc html
mDataNames-CoreSet-method html
mDataNames html
mcc html
molecularProfiles-set html
molecularProfiles html
molecularProfilesSlot-set html
molecularProfilesSlot html
name html
pertNumber-set html
pertNumber html
phenoInfo-set html
phenoInfo html
sensNumber-set html
sensNumber html
sensitivityInfo-set html
sensitivityInfo html
sensitivityMeasures html
sensitivityProfiles-set html
sensitivityProfiles html
show-CoreSet-method html
updateCellId html
** building package indices
** installing vignettes
** testing if installed package can be loaded from temporary location
** testing if installed package can be loaded from final location
** testing if installed package keeps a record of temporary installation path
install for x64
* installing *source* package 'CoreGx' ...
** testing if installed package can be loaded
* MD5 sums
packaged installation of 'CoreGx' as CoreGx_1.0.2.zip
* DONE (CoreGx)
* installing to library 'C:/Users/biocbuild/bbs-3.11-bioc/R/library'
package 'CoreGx' successfully unpacked and MD5 sums checked
|
CoreGx.Rcheck/examples_i386/CoreGx-Ex.timings
|
CoreGx.Rcheck/examples_x64/CoreGx-Ex.timings
|