| Back to Multiple platform build/check report for BioC 3.11 |
|
This page was generated on 2020-10-17 11:56:22 -0400 (Sat, 17 Oct 2020).
| TO THE DEVELOPERS/MAINTAINERS OF THE CompGO PACKAGE: Please make sure to use the following settings in order to reproduce any error or warning you see on this page. |
| Package 358/1905 | Hostname | OS / Arch | INSTALL | BUILD | CHECK | BUILD BIN | ||||||
| CompGO 1.24.0 Ashley J. Waardenberg
| malbec2 | Linux (Ubuntu 18.04.4 LTS) / x86_64 | OK | OK | OK | |||||||
| tokay2 | Windows Server 2012 R2 Standard / x64 | OK | OK | OK | [ OK ] | |||||||
| machv2 | macOS 10.14.6 Mojave / x86_64 | OK | OK | OK | OK |
| Package: CompGO |
| Version: 1.24.0 |
| Command: rm -rf CompGO.buildbin-libdir && mkdir CompGO.buildbin-libdir && C:\Users\biocbuild\bbs-3.11-bioc\R\bin\R.exe CMD INSTALL --merge-multiarch --build --library=CompGO.buildbin-libdir CompGO_1.24.0.tar.gz |
| StartedAt: 2020-10-17 10:11:24 -0400 (Sat, 17 Oct 2020) |
| EndedAt: 2020-10-17 10:12:49 -0400 (Sat, 17 Oct 2020) |
| EllapsedTime: 84.6 seconds |
| RetCode: 0 |
| Status: OK |
| PackageFile: CompGO_1.24.0.zip |
| PackageFileSize: 312.8 KiB |
##############################################################################
##############################################################################
###
### Running command:
###
### rm -rf CompGO.buildbin-libdir && mkdir CompGO.buildbin-libdir && C:\Users\biocbuild\bbs-3.11-bioc\R\bin\R.exe CMD INSTALL --merge-multiarch --build --library=CompGO.buildbin-libdir CompGO_1.24.0.tar.gz
###
##############################################################################
##############################################################################
install for i386
* installing *source* package 'CompGO' ...
** using staged installation
** R
** data
** inst
** byte-compile and prepare package for lazy loading
** help
*** installing help indices
converting help for package 'CompGO'
finding HTML links ... done
PCAplot html
annotateBedFromDb html
bed.sample html
compareZscores html
doZtrans.single html
gata4 html
getFnAnot_genome html
mef2a html
nkx25 html
p300 html
plotDendrogram html
plotInteractive html
plotPairwise html
plotTwoGODags html
plotZRankedDAG html
plotZScores html
slidingJaccard html
srf html
tbx5 html
viewKegg html
zTransformDirectory html
** building package indices
** installing vignettes
** testing if installed package can be loaded from temporary location
** testing if installed package can be loaded from final location
** testing if installed package keeps a record of temporary installation path
install for x64
* installing *source* package 'CompGO' ...
** testing if installed package can be loaded
* MD5 sums
packaged installation of 'CompGO' as CompGO_1.24.0.zip
* DONE (CompGO)