| Back to Multiple platform build/check report for BioC 3.11 |
|
This page was generated on 2020-10-17 11:56:22 -0400 (Sat, 17 Oct 2020).
| TO THE DEVELOPERS/MAINTAINERS OF THE CoRegFlux PACKAGE: Please make sure to use the following settings in order to reproduce any error or warning you see on this page. |
| Package 374/1905 | Hostname | OS / Arch | INSTALL | BUILD | CHECK | BUILD BIN | ||||||
| CoRegFlux 1.4.0 Pauline Trébulle and Mohamed Elati
| malbec2 | Linux (Ubuntu 18.04.4 LTS) / x86_64 | OK | OK | OK | |||||||
| tokay2 | Windows Server 2012 R2 Standard / x64 | OK | OK | OK | [ OK ] | |||||||
| machv2 | macOS 10.14.6 Mojave / x86_64 | OK | OK | OK | OK |
| Package: CoRegFlux |
| Version: 1.4.0 |
| Command: rm -rf CoRegFlux.buildbin-libdir && mkdir CoRegFlux.buildbin-libdir && C:\Users\biocbuild\bbs-3.11-bioc\R\bin\R.exe CMD INSTALL --merge-multiarch --build --library=CoRegFlux.buildbin-libdir CoRegFlux_1.4.0.tar.gz |
| StartedAt: 2020-10-17 10:12:27 -0400 (Sat, 17 Oct 2020) |
| EndedAt: 2020-10-17 10:13:04 -0400 (Sat, 17 Oct 2020) |
| EllapsedTime: 37.0 seconds |
| RetCode: 0 |
| Status: OK |
| PackageFile: CoRegFlux_1.4.0.zip |
| PackageFileSize: 4.648 MiB |
##############################################################################
##############################################################################
###
### Running command:
###
### rm -rf CoRegFlux.buildbin-libdir && mkdir CoRegFlux.buildbin-libdir && C:\Users\biocbuild\bbs-3.11-bioc\R\bin\R.exe CMD INSTALL --merge-multiarch --build --library=CoRegFlux.buildbin-libdir CoRegFlux_1.4.0.tar.gz
###
##############################################################################
##############################################################################
install for i386
* installing *source* package 'CoRegFlux' ...
** using staged installation
** R
** data
** inst
** byte-compile and prepare package for lazy loading
** help
*** installing help indices
converting help for package 'CoRegFlux'
finding HTML links ... done
FBA_step html
ODCurveToFluxCurves html
ODCurveToMetabolicGeneCurves html
ODToFluxBounds html
ODcurveToMetCurve html
ODtoflux html
PredictedGeneState html
SC_EXP_DATA html
SC_GRN_1 html
SC_Test_data html
SC_experiment_influence html
Simulation html
Simulation_Step html
adjust_constraints_to_observed_rates html
aliases_SC html
build_exchange_met html
continuous_gpr html
convert_metabolites_to_model_names html
coregflux_static html
euler_step_biomass html
euler_step_metabolites html
get_biomass_flux_position html
get_fba_fluxes_from_observations html
get_fva_intervals_from_observations html
get_linear_model html
get_metabolites_exchange_fluxes html
gpr_expression html
iMM904 html
perturbation_function html
predict_linear_model_influence html
train_continuous_model html
update_fluxes_constraints_GRegulation html
update_fluxes_constraints_geneKOOV html
update_fluxes_constraints_influence html
update_fluxes_state html
update_system_state html
update_uptake_fluxes_constraints_metabolites
html
visFluxCurves html
visMetabolicGeneCurves html
** building package indices
** installing vignettes
** testing if installed package can be loaded from temporary location
** testing if installed package can be loaded from final location
** testing if installed package keeps a record of temporary installation path
install for x64
* installing *source* package 'CoRegFlux' ...
** testing if installed package can be loaded
* MD5 sums
packaged installation of 'CoRegFlux' as CoRegFlux_1.4.0.zip
* DONE (CoRegFlux)