| Back to Multiple platform build/check report for BioC 3.11 |
|
This page was generated on 2020-10-17 11:56:18 -0400 (Sat, 17 Oct 2020).
| TO THE DEVELOPERS/MAINTAINERS OF THE Clonality PACKAGE: Please make sure to use the following settings in order to reproduce any error or warning you see on this page. |
| Package 311/1905 | Hostname | OS / Arch | INSTALL | BUILD | CHECK | BUILD BIN | ||||||
| Clonality 1.36.0 Irina Ostrovnaya
| malbec2 | Linux (Ubuntu 18.04.4 LTS) / x86_64 | OK | OK | OK | |||||||
| tokay2 | Windows Server 2012 R2 Standard / x64 | OK | [ OK ] | OK | OK | |||||||
| machv2 | macOS 10.14.6 Mojave / x86_64 | OK | OK | OK | OK |
| Package: Clonality |
| Version: 1.36.0 |
| Command: chmod a+r Clonality -R && C:\Users\biocbuild\bbs-3.11-bioc\R\bin\R.exe CMD build --keep-empty-dirs --no-resave-data Clonality |
| StartedAt: 2020-10-16 20:45:30 -0400 (Fri, 16 Oct 2020) |
| EndedAt: 2020-10-16 20:47:05 -0400 (Fri, 16 Oct 2020) |
| EllapsedTime: 95.5 seconds |
| RetCode: 0 |
| Status: OK |
| PackageFile: Clonality_1.36.0.tar.gz |
| PackageFileSize: 2.415 MiB |
##############################################################################
##############################################################################
###
### Running command:
###
### chmod a+r Clonality -R && C:\Users\biocbuild\bbs-3.11-bioc\R\bin\R.exe CMD build --keep-empty-dirs --no-resave-data Clonality
###
##############################################################################
##############################################################################
* checking for file 'Clonality/DESCRIPTION' ... OK
* preparing 'Clonality':
* checking DESCRIPTION meta-information ... OK
* installing the package to build vignettes
* creating vignettes ... OK
Warning: 'inst/doc' files
'Clonality.Rnw', 'Clonality.pdf'
ignored as vignettes have been rebuilt.
Run R CMD build with --no-build-vignettes to prevent rebuilding.
* checking for LF line-endings in source and make files and shell scripts
* checking for empty or unneeded directories
* looking to see if a 'data/datalist' file should be added
* building 'Clonality_1.36.0.tar.gz'